From mboxrd@z Thu Jan 1 00:00:00 1970 Return-Path: Received: from mails.dpdk.org (mails.dpdk.org [217.70.189.124]) by inbox.dpdk.org (Postfix) with ESMTP id B3AAF46F51 for ; Mon, 22 Sep 2025 19:28:19 +0200 (CEST) Received: from mails.dpdk.org (localhost [127.0.0.1]) by mails.dpdk.org (Postfix) with ESMTP id 950C740430; Mon, 22 Sep 2025 19:28:19 +0200 (CEST) Received: from mail-il1-f225.google.com (mail-il1-f225.google.com [209.85.166.225]) by mails.dpdk.org (Postfix) with ESMTP id 3A05140430 for ; Mon, 22 Sep 2025 19:28:18 +0200 (CEST) Received: by mail-il1-f225.google.com with SMTP id e9e14a558f8ab-4248b079780so10519055ab.3 for ; Mon, 22 Sep 2025 10:28:18 -0700 (PDT) DKIM-Signature: v=1; a=rsa-sha256; c=relaxed/relaxed; d=iol.unh.edu; s=unh-iol; t=1758562097; x=1759166897; darn=dpdk.org; h=cc:to:from:subject:message-id:date:from:to:cc:subject:date :message-id:reply-to; bh=p6RIrlPm53b+rD/gfDfpgYjU6HUu3SuLiCnOJL486hQ=; b=KJCcx1UBfSquoi5/hppVtHSpO035YX/fnYPgmgbvgGrdrUZ7+QOGMDqF+MJzYsysx2 kUJ+iml2WrmWBdM0r2qjBN0UsAiFuorfwNHpGI/MU/FLOCHxI8aehZlwZnU3pOye3GkR SwkcA8c61fjO7Gog8ZK/zIX9j56iH2KQyQOHE= X-Google-DKIM-Signature: v=1; a=rsa-sha256; c=relaxed/relaxed; d=1e100.net; s=20230601; t=1758562097; x=1759166897; h=cc:to:from:subject:message-id:date:x-gm-message-state:from:to:cc :subject:date:message-id:reply-to; bh=p6RIrlPm53b+rD/gfDfpgYjU6HUu3SuLiCnOJL486hQ=; b=bcfj6zXSDqppBFEv6QLDtFWOzB6C3EKSVYWaBo2egf8vmCAKGSZcc9estaG5/OOcof KLHlb4p6FLrqadcAa0smJWy8lR9/XGwdCelQbazj5yuuOqiQBmHE8C9hE24WNG0fx9OJ c989yCAI7YHy1Tum+RuAOBX7xxBuqt2LHqV5vZvBrS5Juowqk7TR/+Zsrzv/dK58jhW9 1EAEFaw322vb9Z31J3oM1xEW6Kuz644ze0vximBZ8PtL6NVOuxvGoguar33MuzeXFvyQ gPnR1DZJEUELKTvjqLx90Dc5a1F4qa/cceKYvVNykmXDAUJ6lZ70MhlM3nBcp/EDWWhw 5aZA== X-Gm-Message-State: AOJu0Yys8ErZWsPbL53Cau43Igng8ukwCB1hvw0GSWGE4TykcMAuS8qB wKA/T/myKExomdiEbJTOddUahJPHJg2jNPasn+EW5RPCKgAqQ3Xtl2bzQa8njC5rD+DBXZiO12g brGf5a8ZRQmcV/sH0gcdqXrMtpbkzJZHY5382CbDdj3mT X-Gm-Gg: ASbGncug98dRUJ5RxsJIu/9PTdqHS2PztJ/mRgWDG9wr+ZwinsSHnqTFW2Iaq9b3CoA cA3mP3dDSOslozOdNMaA2CTvU44DwXhQbHPVNoLejTXGncUyJDeFRNlCx5wuItqifVVx5ZOk0TI zOFq+hA7GGmzRQDyf6e4UFsh2JC8ehaxxUL6NmjdK0qfdA9inEE7mCbx4uHlPZwWNaFjhK4sWq2 stoZTkJtHmjXzgNRovIF17sNomfPx5pHP6PSPn4lz1R8X99YwiVVnHrm3Wi3yX8KdF7ndSMEqqA i4XgJCDs3Fn4HaQzWdfLZCK5cBYkYDl/ic43uO/NdCapm98eimElOWi46Ex2golaKd/+9/Mn X-Google-Smtp-Source: AGHT+IG4TZB+y/w7jMnLoRsk2SzG8bp4LDu6aEwKxVgfTsa5mls0CQhzl/h97cZbVpmSSCRIlH0+31D6XfJC X-Received: by 2002:a05:6e02:188d:b0:423:f924:c885 with SMTP id e9e14a558f8ab-42481938b95mr213606215ab.13.1758562097196; Mon, 22 Sep 2025 10:28:17 -0700 (PDT) Received: from postal.iol.unh.edu (postal.iol.unh.edu. [132.177.123.84]) by smtp-relay.gmail.com with ESMTPS id e9e14a558f8ab-4248b59ead5sm3982105ab.31.2025.09.22.10.28.17 (version=TLS1_2 cipher=ECDHE-ECDSA-AES128-GCM-SHA256 bits=128/128); Mon, 22 Sep 2025 10:28:17 -0700 (PDT) X-Relaying-Domain: iol.unh.edu Date: Mon, 22 Sep 2025 10:28:17 -0700 (PDT) Message-ID: <68d18731.050a0220.10c0b1.b902SMTPIN_ADDED_MISSING@mx.google.com> Received: from [172.21.0.2] (unknown [172.18.0.240]) by postal.iol.unh.edu (Postfix) with ESMTP id B28146050A61; Mon, 22 Sep 2025 13:28:16 -0400 (EDT) Subject: |SUCCESS| [GIT MASTER] 9e36adf88c49b437c4c5ffa46158e53d96bef82c From: dpdklab@iol.unh.edu To: Test Report Cc: dpdk-test-reports@iol.unh.edu, Jerin Jacob Content-Type: text/plain X-BeenThere: test-report@dpdk.org X-Mailman-Version: 2.1.29 Precedence: list List-Id: automatic DPDK test reports List-Unsubscribe: , List-Archive: List-Post: List-Help: List-Subscribe: , Errors-To: test-report-bounces@dpdk.org _Testing PASS_ Branch: dpdk-next-eventdev 9e36adf88c49b437c4c5ffa46158e53d96bef82c --> testing pass Upstream job id: Generic-VM-Unit-Test-DPDK#31297 Test environment and result as below: +-------------------------------+----------------+ | Environment | dpdk_unit_test | +===============================+================+ | Fedora Linux 40 | PASS | +-------------------------------+----------------+ | Ubuntu 22.04 | PASS | +-------------------------------+----------------+ | Ubuntu 20.04 | PASS | +-------------------------------+----------------+ | Fedora Linux 41 | PASS | +-------------------------------+----------------+ | Fedora Linux 42 | PASS | +-------------------------------+----------------+ | CentOS Stream 9 | PASS | +-------------------------------+----------------+ | CentOS Stream 10 | PASS | +-------------------------------+----------------+ | Red Hat Enterprise Linux 9.5 | PASS | +-------------------------------+----------------+ | Ubuntu 24.04 | PASS | +-------------------------------+----------------+ | Red Hat Enterprise Linux 8.10 | PASS | +-------------------------------+----------------+ | Debian GNU/Linux 12 | PASS | +-------------------------------+----------------+ | Windows Server 2022 | PASS | +-------------------------------+----------------+ Fedora Linux 40 Kernel: 5.15 Compiler: gcc gcc (GCC) 14.2.1 20240912 (Red Hat 14.2.1-3) Ubuntu 22.04 Kernel: 5.15 Compiler: gcc gcc (Ubuntu 11.4.0-1ubuntu1~22.04) 11.4.0 Ubuntu 20.04 Kernel: 5.15 Compiler: gcc gcc (Ubuntu 9.4.0-1ubuntu1~20.04.2) 9.4.0 Fedora Linux 41 Kernel: 5.15 Compiler: gcc gcc (GCC) 14.3.1 20250523 (Red Hat 14.3.1-1) Fedora Linux 42 Kernel: 5.15 Compiler: clang gcc (GCC) 15.2.1 20250808 (Red Hat 15.2.1-1) CentOS Stream 9 Kernel: 5.15 Compiler: gcc gcc (GCC) 11.5.0 20240719 (Red Hat 11.5.0-11) CentOS Stream 10 Kernel: 5.15 Compiler: gcc gcc (GCC) 14.2.1 20250110 (Red Hat 14.2.1-8) Red Hat Enterprise Linux 9.5 Kernel: 5.15 Compiler: gcc gcc (GCC) 11.5.0 20240719 (Red Hat 11.5.0-2) Ubuntu 24.04 Kernel: 5.15 Compiler: gcc gcc (Ubuntu 13.3.0-6ubuntu2~24.04) 13.3.0 Red Hat Enterprise Linux 8.10 Kernel: 5.15 Compiler: gcc gcc (GCC) 8.5.0 20210514 (Red Hat 8.5.0-22) Debian GNU/Linux 12 Kernel: 5.15 Compiler: gcc gcc (Debian 12.2.0-14+deb12u1) 12.2.0 Windows Server 2022 Kernel: 10.0.20348.2031 Compiler: clang 15.0.7, gcc 14.1.0 (MinGW), and MSVC VS 19.39.33521 To view detailed results, visit: https://lab.dpdk.org/results/dashboard/tarballs/34961/ UNH-IOL DPDK Community Lab To manage your email subscriptions, visit: https://lab.dpdk.org/results/dashboard/preferences/subscriptions/