From mboxrd@z Thu Jan 1 00:00:00 1970 Return-Path: Received: from mails.dpdk.org (mails.dpdk.org [217.70.189.124]) by inbox.dpdk.org (Postfix) with ESMTP id CC28846F51 for ; Mon, 22 Sep 2025 19:53:46 +0200 (CEST) Received: from mails.dpdk.org (localhost [127.0.0.1]) by mails.dpdk.org (Postfix) with ESMTP id A5AF540430; Mon, 22 Sep 2025 19:53:46 +0200 (CEST) Received: from mail-yb1-f227.google.com (mail-yb1-f227.google.com [209.85.219.227]) by mails.dpdk.org (Postfix) with ESMTP id 5091540430 for ; Mon, 22 Sep 2025 19:53:45 +0200 (CEST) Received: by mail-yb1-f227.google.com with SMTP id 3f1490d57ef6-ea5d0e0022cso3796230276.3 for ; Mon, 22 Sep 2025 10:53:45 -0700 (PDT) DKIM-Signature: v=1; a=rsa-sha256; c=relaxed/relaxed; d=iol.unh.edu; s=unh-iol; t=1758563624; x=1759168424; darn=dpdk.org; h=references:in-reply-to:cc:to:from:subject:message-id:date:from:to :cc:subject:date:message-id:reply-to; bh=bYLeha7Did85Ri8hGT5HUMTZpotE2YMNcrYqZeIk5yA=; b=CnnxIJ7Bar8zm8FlVztdkcuoZod+runwxvsj7pAIGkDg7+YEgIxcutY0G+s+JIubts PAJHBzBhoTL9jxaHTsF+LpL/EWPEPoqAQsRaGx1KpcbUKXlD5MqV+YlGrduguv71/gqQ YYxPlkNuSHzYjJog7nPrjaq/btkxNH+eIBtgw= X-Google-DKIM-Signature: v=1; a=rsa-sha256; c=relaxed/relaxed; d=1e100.net; s=20230601; t=1758563624; x=1759168424; h=references:in-reply-to:cc:to:from:subject:message-id:date :x-gm-message-state:from:to:cc:subject:date:message-id:reply-to; bh=bYLeha7Did85Ri8hGT5HUMTZpotE2YMNcrYqZeIk5yA=; b=Rrg37dL0pBSYHueRyXrQbzZUwJKKgzjGCaBtcgLLS/N+Hpyahtt9bEGjL+lqaD/YUx 5B3sEPgGdGhTogClLogMg7QDIZzhrqXQ183a+5zwb45L8n5cBVcA8QhCzsI7jl8Kd/TJ CyG5bxGb2BsYSrJQnt1xvM2v3AWhths3Qn01EaGg/G1gfZJ6RgSFJFY5cZLjXMIg6cpG BUU+noUTfjhLwEUuqp4RAhYvcGwetWRzJMgXmgZ5ZZINw6fYH2oXjOtH69VWwbxty390 /mNDiBw6JgEOxgdTArhN+WUnzf8mLevLwtNry8YUdgAKj/oLDcOUY/tkPnaK4a5Hrhw6 YNjg== X-Gm-Message-State: AOJu0YwjEXCU/id6nPgMBpS/kQXWsuJKPWxoL0M53R38AFC+/5Atu649 HtYOiO/gcpFX+NJ3NTgBEoIFc1SU+HsVtMAmpNctFTMO8Y5aOeRO06QdbKIs0D1cY+cGt6wp/AS c03kRnRv3Ws2+1UV1t0mcNaoq8cupSLqXxAvW4TgClL9A X-Gm-Gg: ASbGncu/w5G1HBFkAZNP6DI+c1DI/uBUVSxvorLG51qPkUVZKEq8zPnkwKxsuX512/k jj0eNiSeaBJkUZILJ26MLPteaM/q7MjHLd7DlXJaz5s+oIINl8WHOsMCpKr3qGmCFxxE/xBHouW vjliRWKTTvJSdhUSiJN4NH8PJ5mi/xi6JHRwcXaAWxS0YmFT4wVGSuQCk2l4tVqarjynxdk07yt PEv6U02zhOJpBl/nmLZ7sWKiYL/XJ8/69wQOsUu3YA7uPOsOahEe1IG35ZiSCM2n9VuBHKvb043 ZWAmUyA5f2YHUBSupyik2EXNbCUXNiTbgA8OxPnlKgyryCmrnG7oUm9Xt+ZKGKRY0A0t7SKq X-Google-Smtp-Source: AGHT+IGzV6iQxNvCJ+HX+3EpM8P2q/ZpqiD6VuJ6xVlBQceIWEEF5RzY412tubcmQTuwPtYPwDAaeTJgBHTm X-Received: by 2002:a05:6902:400c:b0:ea5:d431:1b7b with SMTP id 3f1490d57ef6-ea8997f75e8mr9252481276.11.1758563624412; Mon, 22 Sep 2025 10:53:44 -0700 (PDT) Received: from postal.iol.unh.edu (postal.iol.unh.edu. [132.177.123.84]) by smtp-relay.gmail.com with ESMTPS id 3f1490d57ef6-ea5ce77be09sm616000276.8.2025.09.22.10.53.44 (version=TLS1_2 cipher=ECDHE-ECDSA-AES128-GCM-SHA256 bits=128/128); Mon, 22 Sep 2025 10:53:44 -0700 (PDT) X-Relaying-Domain: iol.unh.edu Date: Mon, 22 Sep 2025 10:53:44 -0700 (PDT) Message-ID: <68d18d28.250a0220.39afc5.71abSMTPIN_ADDED_MISSING@mx.google.com> Received: from [172.21.0.2] (unknown [172.18.0.240]) by postal.iol.unh.edu (Postfix) with ESMTP id 0C308604D420; Mon, 22 Sep 2025 13:53:44 -0400 (EDT) Subject: |SUCCESS| pw156808-156811 [PATCH] [v2,4/4] net/cpfl: add cpchnl get From: dpdklab@iol.unh.edu To: Test Report Cc: dpdk-test-reports@iol.unh.edu, Bruce Richardson In-Reply-To: <20250922141058.1390212-5-praveen.shetty@intel.com> References: <20250922141058.1390212-5-praveen.shetty@intel.com> Content-Type: text/plain X-BeenThere: test-report@dpdk.org X-Mailman-Version: 2.1.29 Precedence: list List-Id: automatic DPDK test reports List-Unsubscribe: , List-Archive: List-Post: List-Help: List-Subscribe: , Errors-To: test-report-bounces@dpdk.org Test-Label: iol-compile-arm64-testing Test-Status: SUCCESS http://dpdk.org/patch/156811 _Testing PASS_ Submitter: Shetty, Praveen Date: Monday, September 22 2025 14:10:58 DPDK git baseline: Repo:dpdk-next-net-intel Branch: master CommitID:4159ea62922ce41566c7bab44655ad78bee85458 156808-156811 --> testing pass Upstream job id: Generic-DPDK-Compile-Meson#427476 Test environment and result as below: +------------------------------+--------------------+ | Environment | dpdk_meson_compile | +==============================+====================+ | Fedora Linux 42 | PASS | +------------------------------+--------------------+ | Ubuntu 20.04 | PASS | +------------------------------+--------------------+ | Debian GNU/Linux 12 | PASS | +------------------------------+--------------------+ | Red Hat Enterprise Linux 9.5 | PASS | +------------------------------+--------------------+ | Ubuntu 24.04 | PASS | +------------------------------+--------------------+ | CentOS Stream 10 | PASS | +------------------------------+--------------------+ | CentOS Stream 9 | PASS | +------------------------------+--------------------+ | Ubuntu 22.04 | PASS | +------------------------------+--------------------+ Fedora Linux 42 Kernel: 5.4 Compiler: gcc gcc (GCC) 15.2.1 20250808 (Red Hat 15.2.1-1) Ubuntu 20.04 Kernel: 5.15 Compiler: gcc gcc (Ubuntu 9.4.0-1ubuntu1~20.04.2) 9.4.0 Debian GNU/Linux 12 Kernel: 5.4 Compiler: gcc gcc (Debian 12.2.0-14+deb12u1) 12.2.0 Red Hat Enterprise Linux 9.5 Kernel: 5.4 Compiler: gcc gcc (GCC) 11.5.0 20240719 (Red Hat 11.5.0-2) Ubuntu 24.04 Kernel: 5.4 Compiler: gcc gcc (Ubuntu 13.3.0-6ubuntu2~24.04) 13.3.0 CentOS Stream 10 Kernel: 5.4 Compiler: gcc gcc (GCC) 14.2.1 20250110 (Red Hat 14.2.1-8) CentOS Stream 9 Kernel: 5.4 Compiler: gcc gcc (GCC) 11.5.0 20240719 (Red Hat 11.5.0-11) Ubuntu 22.04 Kernel: 5.4 Compiler: gcc gcc (Ubuntu 11.4.0-1ubuntu1~22.04) 11.4.0 To view detailed results, visit: https://lab.dpdk.org/results/dashboard/patchsets/34118/ UNH-IOL DPDK Community Lab To manage your email subscriptions, visit: https://lab.dpdk.org/results/dashboard/preferences/subscriptions/