From mboxrd@z Thu Jan 1 00:00:00 1970 Return-Path: Received: from mails.dpdk.org (mails.dpdk.org [217.70.189.124]) by inbox.dpdk.org (Postfix) with ESMTP id 0C59D46F52 for ; Mon, 22 Sep 2025 20:20:33 +0200 (CEST) Received: from mails.dpdk.org (localhost [127.0.0.1]) by mails.dpdk.org (Postfix) with ESMTP id E000840430; Mon, 22 Sep 2025 20:20:32 +0200 (CEST) Received: from mail-qt1-f225.google.com (mail-qt1-f225.google.com [209.85.160.225]) by mails.dpdk.org (Postfix) with ESMTP id 91B9B40430 for ; Mon, 22 Sep 2025 20:20:31 +0200 (CEST) Received: by mail-qt1-f225.google.com with SMTP id d75a77b69052e-4b5e88d9994so52688441cf.1 for ; Mon, 22 Sep 2025 11:20:31 -0700 (PDT) DKIM-Signature: v=1; a=rsa-sha256; c=relaxed/relaxed; d=iol.unh.edu; s=unh-iol; t=1758565231; x=1759170031; darn=dpdk.org; h=cc:to:from:subject:message-id:date:from:to:cc:subject:date :message-id:reply-to; bh=4xRUr3fA9GnIsYAIsS207++qpDJv4OZ8cHoY0lE1sP4=; b=YDnY9TuivCDAa7xPCjYo3mnBlhGdhTw/ZvlEUipAPYOX1J748NJmnRwdIsBt31bznQ Bqy8e04pZ6HhrmiIiqQC97ZPZPX2+r6BtAOraN5hBM01Vmz1qOmM7mlSEFr+CTc0GCD+ WlRrexewl51YrUdjq6m1Gy7lAb4vLVT4SGPO0= X-Google-DKIM-Signature: v=1; a=rsa-sha256; c=relaxed/relaxed; d=1e100.net; s=20230601; t=1758565231; x=1759170031; h=cc:to:from:subject:message-id:date:x-gm-message-state:from:to:cc :subject:date:message-id:reply-to; bh=4xRUr3fA9GnIsYAIsS207++qpDJv4OZ8cHoY0lE1sP4=; b=Hj+FpbEaC/W3Z8pM8eH/htvc1myaUR73LvmShVvEovGjv+9JpsWTByjYv/wWCwpoxu YlNgv2MgY+W4rrXmcz3nIN56Bnr9gBBtuusrZNomiCW08fbYfzvfkZBiWMAPdIhuZaU1 XjSCQuESlfzTUTazgslWii2Jvq9/zUgYts++C3f4UHuTs0qbpgHefjBbBmCGWD8Dtji6 3sztDLpUJXJf5o9/XjBYe+CfbJSa8Ykussr0LksRkOyRX5SV526kWPlSp5Qwu9m7BYzD IjTybvx2zgn3aE7eE+V9Mt7tEYwvrQnWtm3GCrYYHTn11gaVp1SS44R/PMHFdyKMcPED PJHA== X-Gm-Message-State: AOJu0YwBjH6sTpbNt5vBq5qA9x1wgoi93StkSjONOQKQcpHfF4kHr6YO GnFGUK3QhomUhG/k2SCZ8hzAleOtaC3kI8MVa+KlOHgil97PhAAm5RM13f79EtXTckqV2beVl7/ de+gpJ8zgrJPlapkp04VlUALVQ9sTfy8clXWLo2Lv+ufK X-Gm-Gg: ASbGncunI4Qw62iIGayKSmFOJsUXE3mLtdvxHurtIiAbJtaruCItLR022NfIf2QqBQQ 4oB6rBJ1pXJpEMEkGPrz+RSH8E2mykf4uFqLHwYTtGEdU5xcTpXWgqfnAd7axSGakmeikJX/1v2 aokxmT4q0crFJCbYWJNm0I4hOn1d8MerTcC0DpyX/43VtzP0cbzZFxFs2+zNHnplAbt1TZbSIqa pGhHUHK3mSbs+5R1lerrY42JPtAyyzrfJC1bRS9AFQO8HDDCFIJhux28WL2sAqUMRK+wBW0WcA0 8SRc6lJR6POwOuPSk4B1Oic0jLpDOkJvO2EfrLkb1HNL8e7tWEWlEG/XAy7wYZrrTr93D6uP X-Google-Smtp-Source: AGHT+IFlN0wIvRhpqk6qX2aUP7/ZWrGghq3txBJyWEaY9BSmctg86on3DDa/MfBtofEd5ZGPl37aaTMIy0vS X-Received: by 2002:ac8:7dcd:0:b0:4b5:d5ed:e972 with SMTP id d75a77b69052e-4c06e3f849fmr162083821cf.2.1758565230803; Mon, 22 Sep 2025 11:20:30 -0700 (PDT) Received: from postal.iol.unh.edu (postal.iol.unh.edu. [132.177.123.84]) by smtp-relay.gmail.com with ESMTPS id d75a77b69052e-4c99c643e9asm898011cf.3.2025.09.22.11.20.30 (version=TLS1_2 cipher=ECDHE-ECDSA-AES128-GCM-SHA256 bits=128/128); Mon, 22 Sep 2025 11:20:30 -0700 (PDT) X-Relaying-Domain: iol.unh.edu Date: Mon, 22 Sep 2025 11:20:30 -0700 (PDT) Message-ID: <68d1936e.c80a0220.11eb56.6043SMTPIN_ADDED_MISSING@mx.google.com> Received: from [172.21.0.2] (unknown [172.18.0.240]) by postal.iol.unh.edu (Postfix) with ESMTP id 5F41660003F7; Mon, 22 Sep 2025 14:20:30 -0400 (EDT) Subject: |SUCCESS| [GIT MASTER] 9e36adf88c49b437c4c5ffa46158e53d96bef82c From: dpdklab@iol.unh.edu To: Test Report Cc: dpdk-test-reports@iol.unh.edu, Jerin Jacob Content-Type: text/plain X-BeenThere: test-report@dpdk.org X-Mailman-Version: 2.1.29 Precedence: list List-Id: automatic DPDK test reports List-Unsubscribe: , List-Archive: List-Post: List-Help: List-Subscribe: , Errors-To: test-report-bounces@dpdk.org _Testing PASS_ Branch: dpdk-next-eventdev 9e36adf88c49b437c4c5ffa46158e53d96bef82c --> testing pass Upstream job id: Generic-Unit-Test-DPDK#373798 Test environment and result as below: +------------------------------+----------------+--------------+---------------------------+------------------------------+ | Environment | dpdk_unit_test | lpm_autotest | cryptodev_sw_zuc_autotest | cryptodev_sw_snow3g_autotest | +==============================+================+==============+===========================+==============================+ | Ubuntu 24.04 | PASS | SKIPPED | SKIPPED | SKIPPED | +------------------------------+----------------+--------------+---------------------------+------------------------------+ | Fedora Linux 41 | PASS | SKIPPED | SKIPPED | SKIPPED | +------------------------------+----------------+--------------+---------------------------+------------------------------+ | Red Hat Enterprise Linux 9.5 | PASS | SKIPPED | SKIPPED | SKIPPED | +------------------------------+----------------+--------------+---------------------------+------------------------------+ | Fedora Linux 42 | PASS | SKIPPED | SKIPPED | SKIPPED | +------------------------------+----------------+--------------+---------------------------+------------------------------+ | Ubuntu 22.04 | PASS | SKIPPED | SKIPPED | SKIPPED | +------------------------------+----------------+--------------+---------------------------+------------------------------+ | Debian GNU/Linux 12 | PASS | SKIPPED | SKIPPED | SKIPPED | +------------------------------+----------------+--------------+---------------------------+------------------------------+ | CentOS Stream 9 | PASS | SKIPPED | SKIPPED | SKIPPED | +------------------------------+----------------+--------------+---------------------------+------------------------------+ | Fedora Linux 40 | PASS | SKIPPED | SKIPPED | SKIPPED | +------------------------------+----------------+--------------+---------------------------+------------------------------+ | CentOS Stream 10 | PASS | SKIPPED | SKIPPED | SKIPPED | +------------------------------+----------------+--------------+---------------------------+------------------------------+ | Ubuntu 20.04 | PASS | PASS | SKIPPED | SKIPPED | +------------------------------+----------------+--------------+---------------------------+------------------------------+ | Debian 12 (arm) | SKIPPED | SKIPPED | PASS | PASS | +------------------------------+----------------+--------------+---------------------------+------------------------------+ Ubuntu 24.04 Kernel: 5.4 Compiler: gcc gcc (Ubuntu 13.3.0-6ubuntu2~24.04) 13.3.0 Fedora Linux 41 Kernel: 5.4 Compiler: clang gcc (GCC) 14.3.1 20250523 (Red Hat 14.3.1-1) Red Hat Enterprise Linux 9.5 Kernel: 5.4 Compiler: gcc gcc (GCC) 11.5.0 20240719 (Red Hat 11.5.0-2) Fedora Linux 42 Kernel: 5.4 Compiler: clang gcc (GCC) 15.2.1 20250808 (Red Hat 15.2.1-1) Ubuntu 22.04 Kernel: 5.4 Compiler: gcc gcc (Ubuntu 11.4.0-1ubuntu1~22.04) 11.4.0 Debian GNU/Linux 12 Kernel: 5.4 Compiler: gcc gcc (Debian 12.2.0-14+deb12u1) 12.2.0 CentOS Stream 9 Kernel: 5.4 Compiler: gcc gcc (GCC) 11.5.0 20240719 (Red Hat 11.5.0-11) Fedora Linux 40 Kernel: 5.4 Compiler: clang gcc (GCC) 14.2.1 20240912 (Red Hat 14.2.1-3) CentOS Stream 10 Kernel: 5.4 Compiler: gcc gcc (GCC) 14.2.1 20250110 (Red Hat 14.2.1-8) Ubuntu 20.04 Kernel: 5.4 Compiler: gcc gcc (Ubuntu 9.4.0-1ubuntu1~20.04.2) 9.4.0 Debian 12 (arm) Kernel: Depends on container host Compiler: gcc (Debian 12.2.0-14) 12.2.0 To view detailed results, visit: https://lab.dpdk.org/results/dashboard/tarballs/34961/ UNH-IOL DPDK Community Lab To manage your email subscriptions, visit: https://lab.dpdk.org/results/dashboard/preferences/subscriptions/