From mboxrd@z Thu Jan 1 00:00:00 1970 Return-Path: Received: from mails.dpdk.org (mails.dpdk.org [217.70.189.124]) by inbox.dpdk.org (Postfix) with ESMTP id ECB9B46F52 for ; Mon, 22 Sep 2025 21:56:13 +0200 (CEST) Received: from mails.dpdk.org (localhost [127.0.0.1]) by mails.dpdk.org (Postfix) with ESMTP id C5E8F4021F; Mon, 22 Sep 2025 21:56:13 +0200 (CEST) Received: from mail-pf1-f226.google.com (mail-pf1-f226.google.com [209.85.210.226]) by mails.dpdk.org (Postfix) with ESMTP id 78A8F4021F for ; Mon, 22 Sep 2025 21:56:12 +0200 (CEST) Received: by mail-pf1-f226.google.com with SMTP id d2e1a72fcca58-77f1a79d7e5so2467887b3a.1 for ; Mon, 22 Sep 2025 12:56:12 -0700 (PDT) DKIM-Signature: v=1; a=rsa-sha256; c=relaxed/relaxed; d=iol.unh.edu; s=unh-iol; t=1758570971; x=1759175771; darn=dpdk.org; h=cc:to:from:subject:message-id:date:from:to:cc:subject:date :message-id:reply-to; bh=tz3m2jbTAryVBlnFOPyvqi7jopU5TCv817uMKkP4A/4=; b=CrQT5boV38JXX+xTCaw1sHcTH3LurKTPTGDnpy+nXuzjWExqje8lmERU/KJUem92/x gGQTM6/TMJ5Z1S7QH3yW/Dzt5sQEkku85OgRrmk6nE6XC+3hng6TKLuM2tknWsqsK0T1 MH88Yd8fm6ay8I1LqavW27nf28of7sLzCck1k= X-Google-DKIM-Signature: v=1; a=rsa-sha256; c=relaxed/relaxed; d=1e100.net; s=20230601; t=1758570971; x=1759175771; h=cc:to:from:subject:message-id:date:x-gm-message-state:from:to:cc :subject:date:message-id:reply-to; bh=tz3m2jbTAryVBlnFOPyvqi7jopU5TCv817uMKkP4A/4=; b=W6u1hOzHXNPszSnSkrphWoPZ9N0pxr4Vg+MOyEK5SfCOA1shDTS5WpA4jly9AVfVB8 J7hkHkPKyrTizXTw+YzFMdUEi3yF5Fn9I7JAyxHaBfxiug5nVaLv10feitPQTuEOtU7F o4y2sQW9k0APBhoLvUJlni/aXRQTpHA+z4eKqrwMzIto1vcvxW+iv5ndYinZw4qnvHYk BVb7r4BordeIMD0caBZDgc8kDLPe7mx9UsLhwJOTKOmSvQxQ7LPrcTkloybZR6pLnlFA dInk4ZWQx0pgRcJ6p4aD/NHl+CuINvtbZPQU5aeeC4Wh6mHioAmyy4TQsCO95bWajzSf PG0A== X-Gm-Message-State: AOJu0Yyu7SLvmNxmBF7P/d4vl6uoD9ckhHBXK4mtJv6TUpBeCKNAdQL7 2pDNQOFn3F11O48W/3bDvn6oxY+yTXz46fdbY+5cZSuQx2zbjF7Zn6tnoYNa4HVCQgHTFH23NSO /glmV/6FSA01r+dDbio7DH+XSTF50soJMyRTqMbtjdja7sdvKXbNatDm/XlLJ X-Gm-Gg: ASbGncu1y8gV0bb0YNe8L/ZuP6/o2M2rL4rwRwTYOxKsr4UmJJm1js0dww5WYnC1wd0 UOK9fV9PXeYutUQC4Fm3nsvFOAO64UEK0j9IVharSap7Ynn3z8WMcr9lTQmx7dxWw+vLdvRZsUp 6LAX1/R7Eon5cZiocuBT1Ilp/9EHviDDQlueL1Dh4O9v4zZpTFddl2c9MPSUa4fwwtTBlUEF4HC BblIQCKTHGpvYoJTx3cksZno1E47IvPs4j4cbvV2SFXYrWVK3T02f4fsOppTNcaQkqdN19lQFkT ITd61WjltijwLFmTVNR/25Qvg1VtYeXGq16dttGUcoMq9qAw9Q== X-Google-Smtp-Source: AGHT+IFEt1zjh7c8W24uZ2tAHL4jdnO6WxXLB6fbACIdlgM5wBgBSx6A1FRCkDKoQ0R5JRD/VUTRU/jwtm65 X-Received: by 2002:a05:6a21:99a7:b0:262:e0d4:6a9 with SMTP id adf61e73a8af0-2cfee3b80demr355952637.34.1758570971584; Mon, 22 Sep 2025 12:56:11 -0700 (PDT) Received: from postal.iol.unh.edu (postal.iol.unh.edu. [2606:4100:3880:1234::84]) by smtp-relay.gmail.com with ESMTPS id 41be03b00d2f7-b5519ab59fcsm534244a12.6.2025.09.22.12.56.11 (version=TLS1_2 cipher=ECDHE-ECDSA-AES128-GCM-SHA256 bits=128/128); Mon, 22 Sep 2025 12:56:11 -0700 (PDT) X-Relaying-Domain: iol.unh.edu Date: Mon, 22 Sep 2025 12:56:11 -0700 (PDT) Message-ID: <68d1a9db.630a0220.2bf61.485fSMTPIN_ADDED_MISSING@mx.google.com> Received: from [172.21.0.2] (unknown [172.18.0.240]) by postal.iol.unh.edu (Postfix) with ESMTP id D0B54604D420; Mon, 22 Sep 2025 15:56:10 -0400 (EDT) Subject: |SUCCESS| [GIT MASTER] 9e36adf88c49b437c4c5ffa46158e53d96bef82c From: dpdklab@iol.unh.edu To: Test Report Cc: dpdk-test-reports@iol.unh.edu, Jerin Jacob Content-Type: text/plain X-BeenThere: test-report@dpdk.org X-Mailman-Version: 2.1.29 Precedence: list List-Id: automatic DPDK test reports List-Unsubscribe: , List-Archive: List-Post: List-Help: List-Subscribe: , Errors-To: test-report-bounces@dpdk.org _Testing PASS_ Branch: dpdk-next-eventdev 9e36adf88c49b437c4c5ffa46158e53d96bef82c --> testing pass Upstream job id: Generic-DPDK-Compile-Meson#427503 Test environment and result as below: +------------------------------+--------------------+ | Environment | dpdk_meson_compile | +==============================+====================+ | Ubuntu 20.04 | PASS | +------------------------------+--------------------+ | CentOS Stream 10 | PASS | +------------------------------+--------------------+ | Red Hat Enterprise Linux 9.5 | PASS | +------------------------------+--------------------+ | Debian GNU/Linux 12 | PASS | +------------------------------+--------------------+ | Fedora Linux 42 | PASS | +------------------------------+--------------------+ | Ubuntu 22.04 | PASS | +------------------------------+--------------------+ | Ubuntu 24.04 | PASS | +------------------------------+--------------------+ | CentOS Stream 9 | PASS | +------------------------------+--------------------+ Ubuntu 20.04 Kernel: 5.4 Compiler: gcc gcc (Ubuntu 9.4.0-1ubuntu1~20.04.2) 9.4.0 CentOS Stream 10 Kernel: 5.4 Compiler: gcc gcc (GCC) 14.2.1 20250110 (Red Hat 14.2.1-8) Red Hat Enterprise Linux 9.5 Kernel: 5.4 Compiler: gcc gcc (GCC) 11.5.0 20240719 (Red Hat 11.5.0-2) Debian GNU/Linux 12 Kernel: 5.4 Compiler: gcc gcc (Debian 12.2.0-14+deb12u1) 12.2.0 Fedora Linux 42 Kernel: 5.4 Compiler: gcc gcc (GCC) 15.2.1 20250808 (Red Hat 15.2.1-1) Ubuntu 22.04 Kernel: 5.4 Compiler: gcc gcc (Ubuntu 11.4.0-1ubuntu1~22.04) 11.4.0 Ubuntu 24.04 Kernel: 5.4 Compiler: gcc gcc (Ubuntu 13.3.0-6ubuntu2~24.04) 13.3.0 CentOS Stream 9 Kernel: 5.4 Compiler: gcc gcc (GCC) 11.5.0 20240719 (Red Hat 11.5.0-11) To view detailed results, visit: https://lab.dpdk.org/results/dashboard/tarballs/34961/ UNH-IOL DPDK Community Lab To manage your email subscriptions, visit: https://lab.dpdk.org/results/dashboard/preferences/subscriptions/