From mboxrd@z Thu Jan 1 00:00:00 1970 Return-Path: Received: from mails.dpdk.org (mails.dpdk.org [217.70.189.124]) by inbox.dpdk.org (Postfix) with ESMTP id 411DF46F0A for ; Tue, 23 Sep 2025 07:33:54 +0200 (CEST) Received: from mails.dpdk.org (localhost [127.0.0.1]) by mails.dpdk.org (Postfix) with ESMTP id 1C1C440144; Tue, 23 Sep 2025 07:33:54 +0200 (CEST) Received: from mail-qv1-f99.google.com (mail-qv1-f99.google.com [209.85.219.99]) by mails.dpdk.org (Postfix) with ESMTP id 9D79C40144 for ; Tue, 23 Sep 2025 07:33:53 +0200 (CEST) Received: by mail-qv1-f99.google.com with SMTP id 6a1803df08f44-7957e2f6ba8so43639866d6.3 for ; Mon, 22 Sep 2025 22:33:53 -0700 (PDT) DKIM-Signature: v=1; a=rsa-sha256; c=relaxed/relaxed; d=iol.unh.edu; s=unh-iol; t=1758605633; x=1759210433; darn=dpdk.org; h=cc:to:from:subject:message-id:date:from:to:cc:subject:date :message-id:reply-to; bh=Z1sqGQKXPayiAfZW12pGQqxzX+4sMRpbU3OGBvIItNM=; b=Us43J6MaVLV8kLs9CmlJHp0ATAQB+mfS+JU9bH5YKl+kUQLHyv9u1Aq8bglKY1FJSv A+fspTffUHAyt60ghAAaCuAxPAunW+8oNMBj5XXvPwlc5boZ43DsJX8UCDt0FcT5XksZ out07pNSlGcMXtF2o/uZtqZv+hZp7zxVnu79k= X-Google-DKIM-Signature: v=1; a=rsa-sha256; c=relaxed/relaxed; d=1e100.net; s=20230601; t=1758605633; x=1759210433; h=cc:to:from:subject:message-id:date:x-gm-message-state:from:to:cc :subject:date:message-id:reply-to; bh=Z1sqGQKXPayiAfZW12pGQqxzX+4sMRpbU3OGBvIItNM=; b=D6TCmprTbTSFn+IDa0EqR0RPv3vsQUDsnI0M/a7+3C0KIWJwzydwpW8LeAplcRURnn luVn5f+7HtlbzwK0Cwg3WQ54TgCQxxbADnZkjk7qMznvlUNgVYMrXZtW7EMqExH9N9qd wj1mJVWUNA9QEQlPnDdeAlKRkTWd6eLKRrKbxU0s7/C+QftbF0ZJsST9TmDoOxEpVwOV xnN0dZCqEuPwxBSCUZOKEIRc6OZHUxC3C74a5mSSTSKMc5GjmVFjvO9BKD8iKvJJAEzQ C8w+a0QQ9umBWBkEnRHkXcAknRp1dzXIEx3UI6DYO2u7oISSsXG8c9tnkfSEnIeuSkZe E7Zw== X-Gm-Message-State: AOJu0Yy5/QtSW0UWHr/1NCmB+Hdl/JTguP04a5PwRhsesDii427ohtoP 5ErMibqmB6aqoywdparA3O3n4MJfqC2R7RHYQoWLWfjuLPtr/Ago0jGQLiPEjajMF0FAPLP7/KA kYVd3U9l+n6ePYGZzhJaOEeFGSCMAuss4Fw0mMWFvgaMtgKf9rUBc X-Gm-Gg: ASbGncuK9ZRPnpxvXwskOFwZA5NyT2WwrZTi4R6OvbHK48i62TQa2dX6YLIUvVoGeEY bFZVbsbMj88UUuX18n8hnJOkYFb5uiKEl9GTmZxEH0TgUhbkAetKMFJ+Hnad9DwuPy4iq1v28HT oVVIUANAcBsjZ5kiVmXgM7PL/qiygK+KOn4mg9iKoHPwgJulTAEmiO7RMcCWplV3bakGJJmVnTK 8oyK1gA7RHP1IBehaS2pN3abWE0CBkcHlCMd63oixr5sIV5yGIEwzFYm1rKNo1nmhUN/XV0U8dG s/iwrcBse6ZK62Dl8JSLXOsTqDvDkARG2UqFnzPCZHPnZuA6HA== X-Google-Smtp-Source: AGHT+IEGDlai4WU8yk4hsfAhBxs9J9zvG0a7DU++EL1XKMps9qwh5Iz1NPhjHmpxNuebjYYbXv4F9XE3vYph X-Received: by 2002:a05:6214:5012:b0:766:3902:b9ca with SMTP id 6a1803df08f44-7e70784296dmr17529016d6.25.1758605632968; Mon, 22 Sep 2025 22:33:52 -0700 (PDT) Received: from postal.iol.unh.edu (postal.iol.unh.edu. [2606:4100:3880:1234::84]) by smtp-relay.gmail.com with ESMTPS id 6a1803df08f44-79350776852sm9449376d6.30.2025.09.22.22.33.52 (version=TLS1_2 cipher=ECDHE-ECDSA-AES128-GCM-SHA256 bits=128/128); Mon, 22 Sep 2025 22:33:52 -0700 (PDT) X-Relaying-Domain: iol.unh.edu Date: Mon, 22 Sep 2025 22:33:52 -0700 (PDT) Message-ID: <68d23140.d40a0220.55ca5.d7cfSMTPIN_ADDED_MISSING@mx.google.com> Received: from [172.21.0.4] (unknown [172.18.0.240]) by postal.iol.unh.edu (Postfix) with ESMTP id 9EA916051830; Tue, 23 Sep 2025 01:33:52 -0400 (EDT) Subject: |SUCCESS| [GIT MASTER] 3b43ce3f4a54468e7ef65760c2fd7b4d6ee6d9fc From: dpdklab@iol.unh.edu To: Test Report Cc: dpdk-test-reports@iol.unh.edu, Xueming Li , Christian Ehrhardt , Kevin Traynor , Luca Boccassi Content-Type: text/plain X-BeenThere: test-report@dpdk.org X-Mailman-Version: 2.1.29 Precedence: list List-Id: automatic DPDK test reports List-Unsubscribe: , List-Archive: List-Post: List-Help: List-Subscribe: , Errors-To: test-report-bounces@dpdk.org _Testing PASS_ Branch: tags/v22.11 3b43ce3f4a54468e7ef65760c2fd7b4d6ee6d9fc --> testing pass Upstream job id: Generic-DPDK-Compile-Meson#427556 Test environment and result as below: +-------------------------------+--------------------+-------------------------+----------------------+ | Environment | dpdk_meson_compile | dpdk_llvm_clang_compile | dpdk_mingw64_compile | +===============================+====================+=========================+======================+ | Debian GNU/Linux 12 | PASS | SKIPPED | SKIPPED | +-------------------------------+--------------------+-------------------------+----------------------+ | CentOS Stream 10 | PASS | SKIPPED | SKIPPED | +-------------------------------+--------------------+-------------------------+----------------------+ | CentOS Stream 9 | PASS | SKIPPED | SKIPPED | +-------------------------------+--------------------+-------------------------+----------------------+ | Fedora Linux 42 | PASS | SKIPPED | SKIPPED | +-------------------------------+--------------------+-------------------------+----------------------+ | openSUSE Leap 15.6 | PASS | SKIPPED | SKIPPED | +-------------------------------+--------------------+-------------------------+----------------------+ | Ubuntu 20.04 | PASS | SKIPPED | SKIPPED | +-------------------------------+--------------------+-------------------------+----------------------+ | Red Hat Enterprise Linux 8.10 | PASS | SKIPPED | SKIPPED | +-------------------------------+--------------------+-------------------------+----------------------+ | Red Hat Enterprise Linux 9.5 | PASS | SKIPPED | SKIPPED | +-------------------------------+--------------------+-------------------------+----------------------+ | Ubuntu 22.04 | PASS | SKIPPED | SKIPPED | +-------------------------------+--------------------+-------------------------+----------------------+ | Ubuntu 24.04 | PASS | SKIPPED | SKIPPED | +-------------------------------+--------------------+-------------------------+----------------------+ | FreeBSD 14.2 | PASS | SKIPPED | SKIPPED | +-------------------------------+--------------------+-------------------------+----------------------+ | Windows Server 2022 | SKIPPED | PASS | PASS | +-------------------------------+--------------------+-------------------------+----------------------+ Debian GNU/Linux 12 Kernel: 5.15 Compiler: gcc gcc (Debian 12.2.0-14+deb12u1) 12.2.0 CentOS Stream 10 Kernel: 5.15 Compiler: gcc gcc (GCC) 14.2.1 20250110 (Red Hat 14.2.1-8) CentOS Stream 9 Kernel: 5.15 Compiler: gcc gcc (GCC) 11.5.0 20240719 (Red Hat 11.5.0-11) Fedora Linux 42 Kernel: 5.15 Compiler: clang gcc (GCC) 15.2.1 20250808 (Red Hat 15.2.1-1) openSUSE Leap 15.6 Kernel: 5.15 Compiler: gcc gcc (SUSE Linux) 7.5.0 Ubuntu 20.04 Kernel: 4.19 Compiler: gcc gcc (Ubuntu 9.4.0-1ubuntu1~20.04.2) 9.4.0 Red Hat Enterprise Linux 8.10 Kernel: 5.15 Compiler: gcc gcc (GCC) 8.5.0 20210514 (Red Hat 8.5.0-22) Red Hat Enterprise Linux 9.5 Kernel: 5.15 Compiler: gcc gcc (GCC) 11.5.0 20240719 (Red Hat 11.5.0-2) Ubuntu 22.04 Kernel: 5.15 Compiler: gcc gcc (Ubuntu 11.4.0-1ubuntu1~22.04) 11.4.0 Ubuntu 24.04 Kernel: 5.15 Compiler: gcc gcc (Ubuntu 13.3.0-6ubuntu2~24.04) 13.3.0 FreeBSD 14.2 Kernel: 14.2-RELEASE Compiler: clang 18.1.6 Windows Server 2022 Kernel: 10.0.20348.2031 Compiler: clang 15.0.7, gcc 14.1.0 (MinGW), and MSVC VS 19.39.33521 To view detailed results, visit: https://lab.dpdk.org/results/dashboard/tarballs/34963/ UNH-IOL DPDK Community Lab To manage your email subscriptions, visit: https://lab.dpdk.org/results/dashboard/preferences/subscriptions/