From mboxrd@z Thu Jan 1 00:00:00 1970 Return-Path: Received: from mails.dpdk.org (mails.dpdk.org [217.70.189.124]) by inbox.dpdk.org (Postfix) with ESMTP id 92D6C46F0A for ; Tue, 23 Sep 2025 07:37:36 +0200 (CEST) Received: from mails.dpdk.org (localhost [127.0.0.1]) by mails.dpdk.org (Postfix) with ESMTP id 8CF8640144; Tue, 23 Sep 2025 07:37:36 +0200 (CEST) Received: from mail-vs1-f99.google.com (mail-vs1-f99.google.com [209.85.217.99]) by mails.dpdk.org (Postfix) with ESMTP id 7A52840144 for ; Tue, 23 Sep 2025 07:37:35 +0200 (CEST) Received: by mail-vs1-f99.google.com with SMTP id ada2fe7eead31-5838680e242so1542056137.0 for ; Mon, 22 Sep 2025 22:37:35 -0700 (PDT) DKIM-Signature: v=1; a=rsa-sha256; c=relaxed/relaxed; d=iol.unh.edu; s=unh-iol; t=1758605855; x=1759210655; darn=dpdk.org; h=cc:to:from:subject:message-id:date:from:to:cc:subject:date :message-id:reply-to; bh=Vl16nkynLvJb1n6uYuP8zvpSBfyShNLnzqoZ0wlbJu0=; b=aCcmQpBXtWYZQZeCQKtiRjL36SUIm6eQzL7vryeii69tCMispLjT1BiJsU/4avDiCO mSO+cR6vcLRGyabHSkco1F8PX3nfddaOdNpYUNtwlbGDtpDp13gIZZQYEgJwyWuOlTJ7 KXSxOkVqaJ3N1Ih8ZtdvjQek+ECNGyUF9yO9A= X-Google-DKIM-Signature: v=1; a=rsa-sha256; c=relaxed/relaxed; d=1e100.net; s=20230601; t=1758605855; x=1759210655; h=cc:to:from:subject:message-id:date:x-gm-message-state:from:to:cc :subject:date:message-id:reply-to; bh=Vl16nkynLvJb1n6uYuP8zvpSBfyShNLnzqoZ0wlbJu0=; b=k/NSRL/Cboqg4/zmCtyXjwIqWjOgv+MKI8sC0/CsDJj9OmcRgngkj4tYGb1jzKplgj 5HBg+fVS1xwSIvhB8TUxqk8mwPbrWRRP8mc/a0Ctj2Ud9HvgbApN6J3RmQBg9ztp+ota p+OvK0LvsrjckScTqAUjgXTh+QVzqdYxh8+kvlTox8wkv/d0h+W/PK5FPLFoQuDD/bWm X59x+8tWbTTxVX3fBzuM7+B/z5f3Xb+QVDhF9s1SdjUcJ9m0AFNlmHTxiLAJVS8+x/z6 A7XOUjL5eprUnMnukABRgpvD/Btmcjy7r6OPTKZQA0kYGPYq37TSbyUHFX/rakFOK8Mg yU7A== X-Gm-Message-State: AOJu0YxeMB5lwfK43awUs8EMHIRpyHdDzKfKVK+xqv9qHlPmLXYg2Pv2 /wujvDi6VRI6FX3w9egIABEWpQJJau0Q0NUJOMoQYOmI5v2RAAhBheoRMya57z8AruzDZ0Q5G94 MG8No6HNp5YOSp80wJIRtqGxX9ibECJIz5eSG X-Gm-Gg: ASbGnctvVnV6sqFCbu9vLEeqj8Y4QCbuAn9iJKBdtce/vm38rtCeRs1xlcgsW8WSqyY VtPGsUeU05kZGGcqmXGxqdwzq/E6kCnWAhtEssATn9ZRyrpYOlEQdJQb1PeTmvs6iipkt+5FpYV At+ZfJ5rvHrasOEcKWkwvR5pp9GotJqfTDcB+8o31ZpifcmDWsCVEkr81iSEyITvb2ctLbIChmo 6jidNon1+CvLZh7Y7BHyDYV52d1ofsqjFto6tnnqScYxxzOuuG/IFLD0bEUGh9r2feljBfu3Mt+ oFgczWUQvq21yEDz1eMoIgTnRsvpll5czJV/aS3o/GwB0QIcgwSZyu6CSxP3F2iKBLdb7Ni0 X-Google-Smtp-Source: AGHT+IF0IiEoJbgVwkmXjKBk6n5VMFz1ZD82qwD5qlcj+H0AT5X9pAr3wyaNzsg7AauPKxO1UIKxtQGkzngi X-Received: by 2002:a05:6102:38cb:b0:4f7:d553:3cfa with SMTP id ada2fe7eead31-5a57f73443amr415174137.12.1758605854858; Mon, 22 Sep 2025 22:37:34 -0700 (PDT) Received: from postal.iol.unh.edu (postal.iol.unh.edu. [132.177.123.84]) by smtp-relay.gmail.com with ESMTPS id ada2fe7eead31-57a026765fesm1000949137.4.2025.09.22.22.37.34 (version=TLS1_2 cipher=ECDHE-ECDSA-AES128-GCM-SHA256 bits=128/128); Mon, 22 Sep 2025 22:37:34 -0700 (PDT) X-Relaying-Domain: iol.unh.edu Date: Mon, 22 Sep 2025 22:37:34 -0700 (PDT) Message-ID: <68d2321e.050a0220.fdfba.0e27SMTPIN_ADDED_MISSING@mx.google.com> Received: from [172.21.0.2] (unknown [172.18.0.240]) by postal.iol.unh.edu (Postfix) with ESMTP id 4AF606051830; Tue, 23 Sep 2025 01:37:34 -0400 (EDT) Subject: |SUCCESS| [GIT MASTER] 3b43ce3f4a54468e7ef65760c2fd7b4d6ee6d9fc From: dpdklab@iol.unh.edu To: Test Report Cc: dpdk-test-reports@iol.unh.edu, Xueming Li , Christian Ehrhardt , Kevin Traynor , Luca Boccassi Content-Type: text/plain X-BeenThere: test-report@dpdk.org X-Mailman-Version: 2.1.29 Precedence: list List-Id: automatic DPDK test reports List-Unsubscribe: , List-Archive: List-Post: List-Help: List-Subscribe: , Errors-To: test-report-bounces@dpdk.org _Testing PASS_ Branch: tags/v22.11 3b43ce3f4a54468e7ef65760c2fd7b4d6ee6d9fc --> testing pass Upstream job id: Generic-Unit-Test-DPDK#373851 Test environment and result as below: +-----------------+---------------------------+------------------------------+--------------+----------------+ | Environment | cryptodev_sw_zuc_autotest | cryptodev_sw_snow3g_autotest | lpm_autotest | dpdk_unit_test | +=================+===========================+==============================+==============+================+ | Debian 12 (arm) | PASS | PASS | SKIPPED | SKIPPED | +-----------------+---------------------------+------------------------------+--------------+----------------+ | Ubuntu 20.04 | SKIPPED | SKIPPED | PASS | SKIPPED | +-----------------+---------------------------+------------------------------+--------------+----------------+ | Ubuntu 22.04 | SKIPPED | SKIPPED | SKIPPED | PASS | +-----------------+---------------------------+------------------------------+--------------+----------------+ Debian 12 (arm) Kernel: Depends on container host Compiler: gcc (Debian 12.2.0-14) 12.2.0 Ubuntu 20.04 Kernel: 5.4 Compiler: gcc gcc (Ubuntu 9.4.0-1ubuntu1~20.04.2) 9.4.0 Ubuntu 22.04 Kernel: 5.15 Compiler: gcc gcc (Ubuntu 11.4.0-1ubuntu1~22.04.2) 11.4.0 To view detailed results, visit: https://lab.dpdk.org/results/dashboard/tarballs/34963/ UNH-IOL DPDK Community Lab To manage your email subscriptions, visit: https://lab.dpdk.org/results/dashboard/preferences/subscriptions/