From mboxrd@z Thu Jan 1 00:00:00 1970 Return-Path: Received: from mails.dpdk.org (mails.dpdk.org [217.70.189.124]) by inbox.dpdk.org (Postfix) with ESMTP id AAD5D46F0A for ; Tue, 23 Sep 2025 07:56:29 +0200 (CEST) Received: from mails.dpdk.org (localhost [127.0.0.1]) by mails.dpdk.org (Postfix) with ESMTP id A58C540144; Tue, 23 Sep 2025 07:56:29 +0200 (CEST) Received: from mail-io1-f99.google.com (mail-io1-f99.google.com [209.85.166.99]) by mails.dpdk.org (Postfix) with ESMTP id 2CF8540144 for ; Tue, 23 Sep 2025 07:56:29 +0200 (CEST) Received: by mail-io1-f99.google.com with SMTP id ca18e2360f4ac-892db7eb552so654313539f.1 for ; Mon, 22 Sep 2025 22:56:29 -0700 (PDT) DKIM-Signature: v=1; a=rsa-sha256; c=relaxed/relaxed; d=iol.unh.edu; s=unh-iol; t=1758606988; x=1759211788; darn=dpdk.org; h=cc:to:from:subject:message-id:date:from:to:cc:subject:date :message-id:reply-to; bh=CgMWTT/1r/gq8nvDANcCl7fAcok7P1LnF/6bVPgy8hE=; b=Zn9ybWnPsTeonX1jwMf2I6ju/BvSwlrfPS6P9115cToBR8o1F7Fg2YobwKIUgHrTJe 7LoeteGLFQyvAd/NKIFwCcLlSGXvZTsSQtTxKofDcs5nSsjf+8AJ90DlCMuu/7CE7L3i q886x8RlnTSBvP5xaNVcMURU5InUe+Xufccq8= X-Google-DKIM-Signature: v=1; a=rsa-sha256; c=relaxed/relaxed; d=1e100.net; s=20230601; t=1758606988; x=1759211788; h=cc:to:from:subject:message-id:date:x-gm-message-state:from:to:cc :subject:date:message-id:reply-to; bh=CgMWTT/1r/gq8nvDANcCl7fAcok7P1LnF/6bVPgy8hE=; b=o1ReBM/RXaCyCmVVQ70TyVk2r9BJ1v3jnypw41wBvUMs/7qchVKf8fnmWrVGRDjAJv XLM2NqNAnuU8vKzG7xw68UDa+fpIWCQnBZr2vYhyABTZVYjGFpl6+WRwDRNAWyB9Loaf lau1jCP/HIYBtAXQrw+wOZbcG1+vDvX5djGy1hNnxoAg8yKOJ9FrgLEuwW6NSH9vhaYk DR6BDOL/GzoGMrOCXMRM3+x5QYAKeZQj1dRpVz7UwHe8tByHbFVSo/So3tZ2uYSBDAjO j5DFlHu1sbeSleWT9zS3X+oaPIzn3Lryvx276+gBKQUaLuPYl8jc2862Ycqy86NhdWg8 Mx/w== X-Gm-Message-State: AOJu0YwwGlyAf0VXEo88wcNK/dBS3FKcu8UmKLcegN709SPGwQEN2L+2 ZqirZD8z5l5Ux6nTlU+lwv3Qw4KhhunkcAibRlnZonRDx6L6DXgvFuMyGZc7Y2whJ+r3aJdYvo7 +dJ31Ytd5/mDQlSi6vIwqr36gwo2Oqx+YbNAw X-Gm-Gg: ASbGncsEJZEvLitpkFQM5OduxyZD0DK0Cu0noZztWkFBGZqtHUFtYzn0XJXZFStaQtL z/wEy//zXkTq+kYivn6eqAn+vfNLbHK0y5l1Di4e8KbWqNfUZ1RbYZdoUYkZ59rPiOvMu9DeqZB yv34tE9TVvFxq6VK5caRyogKn19Vz5Af0ssc8hplLEUP3IIDJxra4r/VK6txnDnddgD8ilxAN3n +Ith2RNZYE39wRGXX1CVDikpDOp/z5NEHH6p9Lm6ibg6TZbzCcEUuDNc7XGIbOqImzH6Oa52XUc NYKgfZjb7wRVjnhLSMYAOKjv8tkysCpHwdJNLDh26TYGSg1TvTZEblRrbEf4T0RZln1yA/Sn X-Google-Smtp-Source: AGHT+IGSzZxjSxS7vYa3aRkaYN1mFFSFlJ32I1jmz1g+B8s2QztdPbPlK8Gx/AxiFG4Iun2URMtGu3s0Xmuq X-Received: by 2002:a05:6e02:1b03:b0:424:57d:1a50 with SMTP id e9e14a558f8ab-42581e10aefmr24101265ab.11.1758606988575; Mon, 22 Sep 2025 22:56:28 -0700 (PDT) Received: from postal.iol.unh.edu (postal.iol.unh.edu. [132.177.123.84]) by smtp-relay.gmail.com with ESMTPS id e9e14a558f8ab-42487a6f03csm5393445ab.30.2025.09.22.22.56.28 (version=TLS1_2 cipher=ECDHE-ECDSA-AES128-GCM-SHA256 bits=128/128); Mon, 22 Sep 2025 22:56:28 -0700 (PDT) X-Relaying-Domain: iol.unh.edu Date: Mon, 22 Sep 2025 22:56:28 -0700 (PDT) Message-ID: <68d2368c.050a0220.1bba6d.5182SMTPIN_ADDED_MISSING@mx.google.com> Received: from [172.21.0.3] (unknown [172.18.0.240]) by postal.iol.unh.edu (Postfix) with ESMTP id 24C326051830; Tue, 23 Sep 2025 01:56:28 -0400 (EDT) Subject: |SUCCESS| [GIT MASTER] b287e404643aeab5bb5db084c142789df187844e From: dpdklab@iol.unh.edu To: Test Report Cc: dpdk-test-reports@iol.unh.edu, Xueming Li , Christian Ehrhardt , Kevin Traynor , Luca Boccassi Content-Type: text/plain X-BeenThere: test-report@dpdk.org X-Mailman-Version: 2.1.29 Precedence: list List-Id: automatic DPDK test reports List-Unsubscribe: , List-Archive: List-Post: List-Help: List-Subscribe: , Errors-To: test-report-bounces@dpdk.org _Testing PASS_ Branch: tags/v24.11 b287e404643aeab5bb5db084c142789df187844e --> testing pass Upstream job id: Generic-DPDK-Compile-Meson#427571 Test environment and result as below: +-------------------------------+--------------------+-------------------+------------------+-------------------+-------------------------+----------------------+ | Environment | dpdk_meson_compile | dpdk_compile_spdk | dpdk_compile_ovs | dpdk_msvc_compile | dpdk_llvm_clang_compile | dpdk_mingw64_compile | +===============================+====================+===================+==================+===================+=========================+======================+ | Ubuntu 20.04 | PASS | SKIPPED | SKIPPED | SKIPPED | SKIPPED | SKIPPED | +-------------------------------+--------------------+-------------------+------------------+-------------------+-------------------------+----------------------+ | CentOS Stream 9 | PASS | PASS | SKIPPED | SKIPPED | SKIPPED | SKIPPED | +-------------------------------+--------------------+-------------------+------------------+-------------------+-------------------------+----------------------+ | CentOS Stream 10 | PASS | SKIPPED | SKIPPED | SKIPPED | SKIPPED | SKIPPED | +-------------------------------+--------------------+-------------------+------------------+-------------------+-------------------------+----------------------+ | Debian GNU/Linux 12 | PASS | PASS | SKIPPED | SKIPPED | SKIPPED | SKIPPED | +-------------------------------+--------------------+-------------------+------------------+-------------------+-------------------------+----------------------+ | Fedora Linux 42 | PASS | PASS | PASS | SKIPPED | SKIPPED | SKIPPED | +-------------------------------+--------------------+-------------------+------------------+-------------------+-------------------------+----------------------+ | openSUSE Leap 15.6 | PASS | SKIPPED | SKIPPED | SKIPPED | SKIPPED | SKIPPED | +-------------------------------+--------------------+-------------------+------------------+-------------------+-------------------------+----------------------+ | Red Hat Enterprise Linux 8.10 | PASS | SKIPPED | SKIPPED | SKIPPED | SKIPPED | SKIPPED | +-------------------------------+--------------------+-------------------+------------------+-------------------+-------------------------+----------------------+ | Red Hat Enterprise Linux 9.5 | PASS | SKIPPED | SKIPPED | SKIPPED | SKIPPED | SKIPPED | +-------------------------------+--------------------+-------------------+------------------+-------------------+-------------------------+----------------------+ | Ubuntu 22.04 | PASS | PASS | SKIPPED | SKIPPED | SKIPPED | SKIPPED | +-------------------------------+--------------------+-------------------+------------------+-------------------+-------------------------+----------------------+ | Ubuntu 24.04 | PASS | PASS | PASS | SKIPPED | SKIPPED | SKIPPED | +-------------------------------+--------------------+-------------------+------------------+-------------------+-------------------------+----------------------+ | Alpine Linux 3.22.0 | PASS | SKIPPED | SKIPPED | SKIPPED | SKIPPED | SKIPPED | +-------------------------------+--------------------+-------------------+------------------+-------------------+-------------------------+----------------------+ | FreeBSD 14.2 | PASS | SKIPPED | SKIPPED | SKIPPED | SKIPPED | SKIPPED | +-------------------------------+--------------------+-------------------+------------------+-------------------+-------------------------+----------------------+ | Windows Server 2022 | SKIPPED | SKIPPED | SKIPPED | PASS | PASS | PASS | +-------------------------------+--------------------+-------------------+------------------+-------------------+-------------------------+----------------------+ Ubuntu 20.04 Kernel: 4.19 Compiler: gcc gcc (Ubuntu 9.4.0-1ubuntu1~20.04.2) 9.4.0 CentOS Stream 9 Kernel: 5.15 Compiler: gcc gcc (GCC) 11.5.0 20240719 (Red Hat 11.5.0-11) CentOS Stream 10 Kernel: 5.15 Compiler: gcc gcc (GCC) 14.2.1 20250110 (Red Hat 14.2.1-8) Debian GNU/Linux 12 Kernel: 5.15 Compiler: gcc gcc (Debian 12.2.0-14+deb12u1) 12.2.0 Fedora Linux 42 Kernel: 5.15 Compiler: clang gcc (GCC) 15.2.1 20250808 (Red Hat 15.2.1-1) openSUSE Leap 15.6 Kernel: 5.15 Compiler: gcc gcc (SUSE Linux) 7.5.0 Red Hat Enterprise Linux 8.10 Kernel: 5.15 Compiler: gcc gcc (GCC) 8.5.0 20210514 (Red Hat 8.5.0-22) Red Hat Enterprise Linux 9.5 Kernel: 5.15 Compiler: gcc gcc (GCC) 11.5.0 20240719 (Red Hat 11.5.0-2) Ubuntu 22.04 Kernel: 5.15 Compiler: gcc gcc (Ubuntu 11.4.0-1ubuntu1~22.04) 11.4.0 Ubuntu 24.04 Kernel: 5.15 Compiler: gcc gcc (Ubuntu 13.3.0-6ubuntu2~24.04) 13.3.0 Alpine Linux 3.22.0 Kernel: 5.15 Compiler: gcc gcc (Alpine 14.2.0) 14.2.0 FreeBSD 14.2 Kernel: 14.2-RELEASE Compiler: clang 18.1.6 Windows Server 2022 Kernel: 10.0.20348.2031 Compiler: clang 15.0.7, gcc 14.1.0 (MinGW), and MSVC VS 19.39.33521 To view detailed results, visit: https://lab.dpdk.org/results/dashboard/tarballs/34964/ UNH-IOL DPDK Community Lab To manage your email subscriptions, visit: https://lab.dpdk.org/results/dashboard/preferences/subscriptions/