From mboxrd@z Thu Jan 1 00:00:00 1970 Return-Path: Received: from mails.dpdk.org (mails.dpdk.org [217.70.189.124]) by inbox.dpdk.org (Postfix) with ESMTP id C760846F05 for ; Tue, 23 Sep 2025 07:56:46 +0200 (CEST) Received: from mails.dpdk.org (localhost [127.0.0.1]) by mails.dpdk.org (Postfix) with ESMTP id B6D4E40144; Tue, 23 Sep 2025 07:56:46 +0200 (CEST) Received: from mail-pl1-f225.google.com (mail-pl1-f225.google.com [209.85.214.225]) by mails.dpdk.org (Postfix) with ESMTP id 1AF3A40144 for ; Tue, 23 Sep 2025 07:56:46 +0200 (CEST) Received: by mail-pl1-f225.google.com with SMTP id d9443c01a7336-2445806e03cso66632235ad.1 for ; Mon, 22 Sep 2025 22:56:46 -0700 (PDT) DKIM-Signature: v=1; a=rsa-sha256; c=relaxed/relaxed; d=iol.unh.edu; s=unh-iol; t=1758607005; x=1759211805; darn=dpdk.org; h=cc:to:from:subject:message-id:date:from:to:cc:subject:date :message-id:reply-to; bh=WiPOT4U2gBd0B/doQEmXHSpNiA0lqI1dp+xlTGI6ZDk=; b=LSsZ49+p7rNaaQr+Z3H8JWh3YXGQiHihArIUuNXQ+wLYcWEdBhrI9tNVDIyOHlqwb4 hivDO83B85yvuAMJzSUL9NIolMjFIrGw5GD/Q2zKVhFrEjKOWprJEnI6a/lnrdIitKOG 4r1stoMK/2CigQ2JCJrn5H/N1NrK04I9pqeVI= X-Google-DKIM-Signature: v=1; a=rsa-sha256; c=relaxed/relaxed; d=1e100.net; s=20230601; t=1758607005; x=1759211805; h=cc:to:from:subject:message-id:date:x-gm-message-state:from:to:cc :subject:date:message-id:reply-to; bh=WiPOT4U2gBd0B/doQEmXHSpNiA0lqI1dp+xlTGI6ZDk=; b=GaRpscnf/4qI4fppoJ0wlXM4eo9g9ErgfWLT4+RloCFnt/ruYobqDyCvUoFnFkdGzs gpq+LsAdbwNZ+8OZtwYidLKxgjIG0DtWi+o1v2hqU03sJjj2zC7Cf8g/480quP3YhcAv cXOhrWGdLZxnq1UnT6PvuFHgjpRxewwBxka6lJSbcVzhYo3Uop/iEwT6/tM+KUnZJYGM EnafOcSDH6ViTFODmUvhL5M6zOmgJh4r2BWXTWG4IfT6PelTYRLfTzKVHP8PAHYXtJ3o bE51kVP21fzolCCay9Ph+xR8hT8BCm4/aQCt3hy4vvkoa1CiV5j6LIdONbD16dNMdkUD ownw== X-Gm-Message-State: AOJu0YybvSj4VaQPLB+63lxY2qdJNPqRk6qVLmiUQ+zmiq2fn+OKlV+1 NyOeSkNl1ovt48JhFhQtq+tQPrhHqFHO1COe0tLK8M1es31t0SHjKxurhpLyyA1dllQArCkoYz3 GPiXYWYV4l89GPCmzYr+yQiDk1nfHkdWgiz4t X-Gm-Gg: ASbGncs2oSAShEWBotTSAk6XWGbIZrgmnUB1Wl91BYNelst/ymkPpNH+FX9EJf88EI3 lf5UWh7gqNw0m6fNbHx7f2o62RsI7bDKAtcKQENHjuNwpepivjt+vbCTr4hDJzlgDpc28E4r//t 2s+FTEC1D3/kcNMoZpo5X+2b34+j/fvU97qBbneg9QL+S83GjzsKUb+haWyg1KzRJvF6MaN7T1C 4VyCuDPksjgJOU8adnDq/setxWWhTExr68Dk2KxvlCdoxaU9kitu8vvyG2Y3VmXjhQ/qeoEkWOl QqOIeR+wV21X66uNQGx4NK5IfHh8TU3b284ox7ABzUIjomG983Wq/+SKK/CaD/7srJ67ymYo X-Google-Smtp-Source: AGHT+IFgbDZ0nXbnGLw6+1H18emwW2vV5Ygq80RRBrlpA8qM320Y/jGzTb9o3e7AMUEeEz1Z+TJqHe6XEbz/ X-Received: by 2002:a17:903:3884:b0:24c:9309:5883 with SMTP id d9443c01a7336-27cc6785d4amr15268785ad.28.1758607005256; Mon, 22 Sep 2025 22:56:45 -0700 (PDT) Received: from postal.iol.unh.edu (postal.iol.unh.edu. [132.177.123.84]) by smtp-relay.gmail.com with ESMTPS id d9443c01a7336-26980045da2sm9960995ad.15.2025.09.22.22.56.45 (version=TLS1_2 cipher=ECDHE-ECDSA-AES128-GCM-SHA256 bits=128/128); Mon, 22 Sep 2025 22:56:45 -0700 (PDT) X-Relaying-Domain: iol.unh.edu Date: Mon, 22 Sep 2025 22:56:45 -0700 (PDT) Message-ID: <68d2369d.170a0220.c55d3.17e2SMTPIN_ADDED_MISSING@mx.google.com> Received: from [172.21.0.5] (unknown [172.18.0.240]) by postal.iol.unh.edu (Postfix) with ESMTP id B38116051830; Tue, 23 Sep 2025 01:56:44 -0400 (EDT) Subject: |SUCCESS| [GIT MASTER] b287e404643aeab5bb5db084c142789df187844e From: dpdklab@iol.unh.edu To: Test Report Cc: dpdk-test-reports@iol.unh.edu, Xueming Li , Christian Ehrhardt , Kevin Traynor , Luca Boccassi Content-Type: text/plain X-BeenThere: test-report@dpdk.org X-Mailman-Version: 2.1.29 Precedence: list List-Id: automatic DPDK test reports List-Unsubscribe: , List-Archive: List-Post: List-Help: List-Subscribe: , Errors-To: test-report-bounces@dpdk.org _Testing PASS_ Branch: tags/v24.11 b287e404643aeab5bb5db084c142789df187844e --> testing pass Upstream job id: Generic-DPDK-Compile-Meson#427564 Test environment and result as below: +-------------------------------+--------------------+-------------------+------------------+-------------------+-------------------------+----------------------+ | Environment | dpdk_meson_compile | dpdk_compile_spdk | dpdk_compile_ovs | dpdk_msvc_compile | dpdk_llvm_clang_compile | dpdk_mingw64_compile | +===============================+====================+===================+==================+===================+=========================+======================+ | Ubuntu 20.04 | PASS | SKIPPED | SKIPPED | SKIPPED | SKIPPED | SKIPPED | +-------------------------------+--------------------+-------------------+------------------+-------------------+-------------------------+----------------------+ | CentOS Stream 9 | PASS | PASS | SKIPPED | SKIPPED | SKIPPED | SKIPPED | +-------------------------------+--------------------+-------------------+------------------+-------------------+-------------------------+----------------------+ | CentOS Stream 10 | PASS | SKIPPED | SKIPPED | SKIPPED | SKIPPED | SKIPPED | +-------------------------------+--------------------+-------------------+------------------+-------------------+-------------------------+----------------------+ | Debian GNU/Linux 12 | PASS | PASS | SKIPPED | SKIPPED | SKIPPED | SKIPPED | +-------------------------------+--------------------+-------------------+------------------+-------------------+-------------------------+----------------------+ | Fedora Linux 42 | PASS | PASS | PASS | SKIPPED | SKIPPED | SKIPPED | +-------------------------------+--------------------+-------------------+------------------+-------------------+-------------------------+----------------------+ | openSUSE Leap 15.6 | PASS | SKIPPED | SKIPPED | SKIPPED | SKIPPED | SKIPPED | +-------------------------------+--------------------+-------------------+------------------+-------------------+-------------------------+----------------------+ | Red Hat Enterprise Linux 8.10 | PASS | SKIPPED | SKIPPED | SKIPPED | SKIPPED | SKIPPED | +-------------------------------+--------------------+-------------------+------------------+-------------------+-------------------------+----------------------+ | Red Hat Enterprise Linux 9.5 | PASS | SKIPPED | SKIPPED | SKIPPED | SKIPPED | SKIPPED | +-------------------------------+--------------------+-------------------+------------------+-------------------+-------------------------+----------------------+ | Ubuntu 22.04 | PASS | PASS | SKIPPED | SKIPPED | SKIPPED | SKIPPED | +-------------------------------+--------------------+-------------------+------------------+-------------------+-------------------------+----------------------+ | Ubuntu 24.04 | PASS | PASS | PASS | SKIPPED | SKIPPED | SKIPPED | +-------------------------------+--------------------+-------------------+------------------+-------------------+-------------------------+----------------------+ | Alpine Linux 3.22.0 | PASS | SKIPPED | SKIPPED | SKIPPED | SKIPPED | SKIPPED | +-------------------------------+--------------------+-------------------+------------------+-------------------+-------------------------+----------------------+ | FreeBSD 14.2 | PASS | SKIPPED | SKIPPED | SKIPPED | SKIPPED | SKIPPED | +-------------------------------+--------------------+-------------------+------------------+-------------------+-------------------------+----------------------+ | Windows Server 2022 | SKIPPED | SKIPPED | SKIPPED | PASS | PASS | PASS | +-------------------------------+--------------------+-------------------+------------------+-------------------+-------------------------+----------------------+ Ubuntu 20.04 Kernel: 4.19 Compiler: gcc gcc (Ubuntu 9.4.0-1ubuntu1~20.04.2) 9.4.0 CentOS Stream 9 Kernel: 5.15 Compiler: gcc gcc (GCC) 11.5.0 20240719 (Red Hat 11.5.0-11) CentOS Stream 10 Kernel: 5.15 Compiler: gcc gcc (GCC) 14.2.1 20250110 (Red Hat 14.2.1-8) Debian GNU/Linux 12 Kernel: 5.15 Compiler: gcc gcc (Debian 12.2.0-14+deb12u1) 12.2.0 Fedora Linux 42 Kernel: 5.15 Compiler: clang gcc (GCC) 15.2.1 20250808 (Red Hat 15.2.1-1) openSUSE Leap 15.6 Kernel: 5.15 Compiler: gcc gcc (SUSE Linux) 7.5.0 Red Hat Enterprise Linux 8.10 Kernel: 5.15 Compiler: gcc gcc (GCC) 8.5.0 20210514 (Red Hat 8.5.0-22) Red Hat Enterprise Linux 9.5 Kernel: 5.15 Compiler: gcc gcc (GCC) 11.5.0 20240719 (Red Hat 11.5.0-2) Ubuntu 22.04 Kernel: 5.15 Compiler: gcc gcc (Ubuntu 11.4.0-1ubuntu1~22.04) 11.4.0 Ubuntu 24.04 Kernel: 5.15 Compiler: gcc gcc (Ubuntu 13.3.0-6ubuntu2~24.04) 13.3.0 Alpine Linux 3.22.0 Kernel: 5.15 Compiler: gcc gcc (Alpine 14.2.0) 14.2.0 FreeBSD 14.2 Kernel: 14.2-RELEASE Compiler: clang 18.1.6 Windows Server 2022 Kernel: 10.0.20348.2031 Compiler: clang 15.0.7, gcc 14.1.0 (MinGW), and MSVC VS 19.39.33521 To view detailed results, visit: https://lab.dpdk.org/results/dashboard/tarballs/34964/ UNH-IOL DPDK Community Lab To manage your email subscriptions, visit: https://lab.dpdk.org/results/dashboard/preferences/subscriptions/