From mboxrd@z Thu Jan 1 00:00:00 1970 Return-Path: Received: from mails.dpdk.org (mails.dpdk.org [217.70.189.124]) by inbox.dpdk.org (Postfix) with ESMTP id 3FAE446F55 for ; Tue, 23 Sep 2025 08:18:49 +0200 (CEST) Received: from mails.dpdk.org (localhost [127.0.0.1]) by mails.dpdk.org (Postfix) with ESMTP id 0D6D540144; Tue, 23 Sep 2025 08:18:49 +0200 (CEST) Received: from mail-pl1-f227.google.com (mail-pl1-f227.google.com [209.85.214.227]) by mails.dpdk.org (Postfix) with ESMTP id 570D740144 for ; Tue, 23 Sep 2025 08:18:47 +0200 (CEST) Received: by mail-pl1-f227.google.com with SMTP id d9443c01a7336-267fac63459so49534505ad.1 for ; Mon, 22 Sep 2025 23:18:47 -0700 (PDT) DKIM-Signature: v=1; a=rsa-sha256; c=relaxed/relaxed; d=iol.unh.edu; s=unh-iol; t=1758608326; x=1759213126; darn=dpdk.org; h=references:in-reply-to:cc:to:from:subject:message-id:date:from:to :cc:subject:date:message-id:reply-to; bh=FZxEMvfMQLDr/q7x7dXdyG0J+Pfpc/i7aokuVEnHc2U=; b=SSCrp/6D79i+v/cKnIhvYzvVOn9P26CMBJKcwGDWm2iYvRKyl2hC+EGKkL5PwyzHcJ q3OSFIXIViga/CTxjRijfzKZlE3iFU6HGo3pY+Y04k4gK3QP9L8MNxGH99grtpw883MO lSWdXjiqO0wPmZjDeNGf44cSYwGTv5oS33i9M= X-Google-DKIM-Signature: v=1; a=rsa-sha256; c=relaxed/relaxed; d=1e100.net; s=20230601; t=1758608326; x=1759213126; h=references:in-reply-to:cc:to:from:subject:message-id:date :x-gm-message-state:from:to:cc:subject:date:message-id:reply-to; bh=FZxEMvfMQLDr/q7x7dXdyG0J+Pfpc/i7aokuVEnHc2U=; b=c32uwrgVY22tre2PhST/3akYE58WZ03EayN7XM2Kznu2b3ypOUMDUniSfMr6YK8lHc muufYEP9fv8UtmNPN4LkzV9WY0WxXjypZIyDWnDp9qnTiUcYMXdu3Y2haaVOK0u/4k7B xvp7qEv6tqAmVBQmXfRWWB1cGG2IpD8U7cutfUvAEEtbJGWhofzByOlE1r593+g7eCJw vw779Ee5FQEiukF0tb6hPoCqScn6YRcbAR5pKi5UqooCKeW71G2xzg+k7QkjPhE4ngkB e/GKgsAxPvADpBMN7guKBx7pQGbp+lxgU1iQlDkCPVKqJRChsm9uECMz4Onac7u1fA57 ruzA== X-Gm-Message-State: AOJu0Yxjv+IsTrJ5dmyGDcVR8McTJgoV2/PWA8RCYwdd+q4ADw84KL/k UlvdRTFf9pwcGbgojrilwCEMkEwVMc9cR6AxqbmP17OT0snhweG0EmU9ly65ZXNgXoz7ghaAnWi /+VRdWrHl5Gp5q8R9x6v5JN3ilSdnssjsBKemxSxLeH/L4FdBpCs6gyOipJML X-Gm-Gg: ASbGncvfu02x79GejWWJLf+W/zvrsXpuWMVJf6CEzj1rsTPFWQbzbxrnHwvO+V/bDc0 xrVfh1RHQ3Ugh8Kj0KEdqOSl6xpT5C+14SC+Z1NTdWwxJ8nJ30zcTxiiMxNnJulLTl48+9/h3je wPTfteHF2yM6SFQierbcmbCD8lrZddUJBQ9SWtCvI1tsokFSA+H7S1ep9l1DoMXXfapiwxdms0X rNhLIONLk5y0ZlhU/bsQ8gkU3gCGY356TaE05/IqTeYbH7LqhHnwWISw9IXj/DuQSACmYpsRth1 sAtM9iV21rhB5u8ZgzyB8IZ1qQpfNBJgCl2FHgxmHLKV4q7DRQ== X-Google-Smtp-Source: AGHT+IHIER6eyGTXFH7HuMDLvBW5MZvPNo1F89BXSaY6Hs/Gz913suKd3m2vlsv01ulL8G1QG9n8EdX+cX92 X-Received: by 2002:a17:902:f78d:b0:269:8dc2:cac2 with SMTP id d9443c01a7336-27cc2d9259amr20137425ad.27.1758608325994; Mon, 22 Sep 2025 23:18:45 -0700 (PDT) Received: from postal.iol.unh.edu (postal.iol.unh.edu. [2606:4100:3880:1234::84]) by smtp-relay.gmail.com with ESMTPS id d9443c01a7336-2698029d4b4sm8780895ad.51.2025.09.22.23.18.45 (version=TLS1_2 cipher=ECDHE-ECDSA-AES128-GCM-SHA256 bits=128/128); Mon, 22 Sep 2025 23:18:45 -0700 (PDT) X-Relaying-Domain: iol.unh.edu Date: Mon, 22 Sep 2025 23:18:45 -0700 (PDT) Message-ID: <68d23bc5.170a0220.fbe96.89a1SMTPIN_ADDED_MISSING@mx.google.com> Received: from [172.21.0.2] (unknown [172.18.0.240]) by postal.iol.unh.edu (Postfix) with ESMTP id 35E086051830; Tue, 23 Sep 2025 02:18:45 -0400 (EDT) Subject: |SUCCESS| pw156812-156828 [PATCH] [v10,17/17] net/nbl: add nbl devic From: dpdklab@iol.unh.edu To: Test Report Cc: dpdk-test-reports@iol.unh.edu, Stephen Hemminger In-Reply-To: <20250923035402.1759922-18-dimon.zhao@nebula-matrix.com> References: <20250923035402.1759922-18-dimon.zhao@nebula-matrix.com> Content-Type: text/plain X-BeenThere: test-report@dpdk.org X-Mailman-Version: 2.1.29 Precedence: list List-Id: automatic DPDK test reports List-Unsubscribe: , List-Archive: List-Post: List-Help: List-Subscribe: , Errors-To: test-report-bounces@dpdk.org Test-Label: iol-compile-amd64-testing Test-Status: SUCCESS http://dpdk.org/patch/156828 _Testing PASS_ Submitter: Dimon Zhao Date: Tuesday, September 23 2025 03:54:02 DPDK git baseline: Repo:dpdk-next-net Branch: master CommitID:6968ca7465d2c01f953e10d225a644a92222c97f 156812-156828 --> testing pass Upstream job id: Generic-DPDK-Compile-Meson#427590 Test environment and result as below: +-------------------------------+--------------------+-------------------+-------------------------+-------------------+------------------+----------------------+ | Environment | dpdk_meson_compile | dpdk_msvc_compile | dpdk_llvm_clang_compile | dpdk_compile_spdk | dpdk_compile_ovs | dpdk_mingw64_compile | +===============================+====================+===================+=========================+===================+==================+======================+ | FreeBSD 14.2 | PASS | SKIPPED | SKIPPED | SKIPPED | SKIPPED | SKIPPED | +-------------------------------+--------------------+-------------------+-------------------------+-------------------+------------------+----------------------+ | Ubuntu 20.04 | PASS | SKIPPED | SKIPPED | SKIPPED | SKIPPED | SKIPPED | +-------------------------------+--------------------+-------------------+-------------------------+-------------------+------------------+----------------------+ | CentOS Stream 9 | PASS | SKIPPED | SKIPPED | PASS | SKIPPED | SKIPPED | +-------------------------------+--------------------+-------------------+-------------------------+-------------------+------------------+----------------------+ | CentOS Stream 10 | PASS | SKIPPED | SKIPPED | SKIPPED | SKIPPED | SKIPPED | +-------------------------------+--------------------+-------------------+-------------------------+-------------------+------------------+----------------------+ | Debian GNU/Linux 12 | PASS | SKIPPED | SKIPPED | PASS | SKIPPED | SKIPPED | +-------------------------------+--------------------+-------------------+-------------------------+-------------------+------------------+----------------------+ | Fedora Linux 42 | PASS | SKIPPED | SKIPPED | PASS | PASS | SKIPPED | +-------------------------------+--------------------+-------------------+-------------------------+-------------------+------------------+----------------------+ | openSUSE Leap 15.6 | PASS | SKIPPED | SKIPPED | SKIPPED | SKIPPED | SKIPPED | +-------------------------------+--------------------+-------------------+-------------------------+-------------------+------------------+----------------------+ | Red Hat Enterprise Linux 8.10 | PASS | SKIPPED | SKIPPED | SKIPPED | SKIPPED | SKIPPED | +-------------------------------+--------------------+-------------------+-------------------------+-------------------+------------------+----------------------+ | Red Hat Enterprise Linux 9.5 | PASS | SKIPPED | SKIPPED | SKIPPED | SKIPPED | SKIPPED | +-------------------------------+--------------------+-------------------+-------------------------+-------------------+------------------+----------------------+ | Ubuntu 22.04 | PASS | SKIPPED | SKIPPED | PASS | SKIPPED | SKIPPED | +-------------------------------+--------------------+-------------------+-------------------------+-------------------+------------------+----------------------+ | Ubuntu 24.04 | PASS | SKIPPED | SKIPPED | PASS | PASS | SKIPPED | +-------------------------------+--------------------+-------------------+-------------------------+-------------------+------------------+----------------------+ | Alpine Linux 3.22.0 | PASS | SKIPPED | SKIPPED | SKIPPED | SKIPPED | SKIPPED | +-------------------------------+--------------------+-------------------+-------------------------+-------------------+------------------+----------------------+ | Windows Server 2022 | SKIPPED | PASS | PASS | SKIPPED | SKIPPED | PASS | +-------------------------------+--------------------+-------------------+-------------------------+-------------------+------------------+----------------------+ FreeBSD 14.2 Kernel: 14.2-RELEASE Compiler: clang 18.1.6 Ubuntu 20.04 Kernel: 4.19 Compiler: gcc gcc (Ubuntu 9.4.0-1ubuntu1~20.04.2) 9.4.0 CentOS Stream 9 Kernel: 5.15 Compiler: gcc gcc (GCC) 11.5.0 20240719 (Red Hat 11.5.0-11) CentOS Stream 10 Kernel: 5.15 Compiler: gcc gcc (GCC) 14.2.1 20250110 (Red Hat 14.2.1-8) Debian GNU/Linux 12 Kernel: 5.15 Compiler: gcc gcc (Debian 12.2.0-14+deb12u1) 12.2.0 Fedora Linux 42 Kernel: 5.15 Compiler: clang gcc (GCC) 15.2.1 20250808 (Red Hat 15.2.1-1) openSUSE Leap 15.6 Kernel: 5.15 Compiler: gcc gcc (SUSE Linux) 7.5.0 Red Hat Enterprise Linux 8.10 Kernel: 5.15 Compiler: gcc gcc (GCC) 8.5.0 20210514 (Red Hat 8.5.0-22) Red Hat Enterprise Linux 9.5 Kernel: 5.15 Compiler: gcc gcc (GCC) 11.5.0 20240719 (Red Hat 11.5.0-2) Ubuntu 22.04 Kernel: 5.15 Compiler: gcc gcc (Ubuntu 11.4.0-1ubuntu1~22.04) 11.4.0 Ubuntu 24.04 Kernel: 5.15 Compiler: gcc gcc (Ubuntu 13.3.0-6ubuntu2~24.04) 13.3.0 Alpine Linux 3.22.0 Kernel: 5.15 Compiler: gcc gcc (Alpine 14.2.0) 14.2.0 Windows Server 2022 Kernel: 10.0.20348.2031 Compiler: clang 15.0.7, gcc 14.1.0 (MinGW), and MSVC VS 19.39.33521 To view detailed results, visit: https://lab.dpdk.org/results/dashboard/patchsets/34119/ UNH-IOL DPDK Community Lab To manage your email subscriptions, visit: https://lab.dpdk.org/results/dashboard/preferences/subscriptions/