From mboxrd@z Thu Jan 1 00:00:00 1970 Return-Path: Received: from mails.dpdk.org (mails.dpdk.org [217.70.189.124]) by inbox.dpdk.org (Postfix) with ESMTP id ED3E546F55 for ; Tue, 23 Sep 2025 08:23:38 +0200 (CEST) Received: from mails.dpdk.org (localhost [127.0.0.1]) by mails.dpdk.org (Postfix) with ESMTP id CE26240144; Tue, 23 Sep 2025 08:23:38 +0200 (CEST) Received: from mail-oa1-f99.google.com (mail-oa1-f99.google.com [209.85.160.99]) by mails.dpdk.org (Postfix) with ESMTP id 86C7840144 for ; Tue, 23 Sep 2025 08:23:37 +0200 (CEST) Received: by mail-oa1-f99.google.com with SMTP id 586e51a60fabf-30cceb3be82so4418049fac.2 for ; Mon, 22 Sep 2025 23:23:37 -0700 (PDT) DKIM-Signature: v=1; a=rsa-sha256; c=relaxed/relaxed; d=iol.unh.edu; s=unh-iol; t=1758608617; x=1759213417; darn=dpdk.org; h=cc:to:from:subject:message-id:date:from:to:cc:subject:date :message-id:reply-to; bh=5mqlBVxZky68256xrexGP+IIJ67gob8hIBkBBBN7m/M=; b=FHSbrv/R5rVWd6hRgXbsV2z/m9tvDQLv9xq/YCAU+T3Fg0LkYGeSC7V6QgirGL3VEU 0JYKnGsH5/CG5g3fqdmjAZ8+R9yrtyvwRcIHkVk5M+/1pI/2Z2NIqxhkbS1va+hDQmU/ klsrNQcs+AQrgB+91IZUimH0Prmn6VJh1wy4I= X-Google-DKIM-Signature: v=1; a=rsa-sha256; c=relaxed/relaxed; d=1e100.net; s=20230601; t=1758608617; x=1759213417; h=cc:to:from:subject:message-id:date:x-gm-message-state:from:to:cc :subject:date:message-id:reply-to; bh=5mqlBVxZky68256xrexGP+IIJ67gob8hIBkBBBN7m/M=; b=i8oFCRVoHy3ijq2swwJG7xlQ4RxClCNFVhD4xHjPyHfJFm7I0WfzCyE/AOzj2SvnTu K592sLJJ3TElcxCqpDrTToJGxILpiKjQpv9E+u375dum9/CcF4BNIENwg0nqisqqJcsQ YZTlztuSbgu/C7vBhrkyh4512oF5i47pMRkCo72yWpagf4vCxb9IDDcYLwV0Q0XnqjoY P1fbpIcuUn/ebpmTegmW4kgftEtxvWom5ziJUu+NvXvT+rSdhZC6EdLJASlBL62ZALAR H2O/j9Gf1qOHiqc99JD/f/1dIKdzbbKcnI7qoEMCH6He6g7bTyPcNkBdDi+5ki4Sl7X7 0mnA== X-Gm-Message-State: AOJu0YzOJlAp5v7wOUT1JvQRoLZXDfN3p6usS5t8am3FsguF9eliHknX DVOivcVYuJp8baRvv/QUePUdoO/D4nPO/aDsjgKS5FS9DmJPub/x54I6oNprrwng8r3sPvpe9Ku DTsgofLRyX/PrqgNlgWbzK0iC/0SPTeNWJ0dU X-Gm-Gg: ASbGncu30aq3T0aPf6vX5NI4g7QI3VUVf+V8N3bSHVRsv7BUUuuSVDCriLZSEyybmq8 IE/diPtXizkM0lgcrFwb+ikZ2lgwpnBzcYPaeZJ1WBJQSVJIgeqKjcJr/nCbcMB9Qt1rSPHWIAG 2rYYighWTXjm9faDpA84SOLmk2vEJf4Q+kk8HpCXC9fh9SE90rrmu99X6SKCpC3pADA8FX0lZx+ DZLnn/JwbVIuQ/t4i+g42BC/GblOF4i+tSLUy7QgN2FS6A5nUlC5XkM/OFWkt0RvaqcXMrtohJE iIAkaivsyXgLk8qhEiMwZRvewxFH4y7yh6YkNG1QguKmTALdLiYDcI1wXg5G8gho3ZS5jPBL X-Google-Smtp-Source: AGHT+IF/XyiT+JM6KI6fGeNApQzLjLxHs4tiU9FrRG4OHf4MNhiELWLbJcFKy3EfHGqmalKmLXB5kKlCwEyl X-Received: by 2002:a05:6870:ab05:b0:31d:63f9:b247 with SMTP id 586e51a60fabf-34c858e36c4mr770510fac.25.1758608616834; Mon, 22 Sep 2025 23:23:36 -0700 (PDT) Received: from postal.iol.unh.edu (postal.iol.unh.edu. [132.177.123.84]) by smtp-relay.gmail.com with ESMTPS id 586e51a60fabf-336e4893b60sm1252845fac.9.2025.09.22.23.23.36 (version=TLS1_2 cipher=ECDHE-ECDSA-AES128-GCM-SHA256 bits=128/128); Mon, 22 Sep 2025 23:23:36 -0700 (PDT) X-Relaying-Domain: iol.unh.edu Date: Mon, 22 Sep 2025 23:23:36 -0700 (PDT) Message-ID: <68d23ce8.050a0220.1a848e.1376SMTPIN_ADDED_MISSING@mx.google.com> Received: from [172.21.0.3] (unknown [172.18.0.240]) by postal.iol.unh.edu (Postfix) with ESMTP id 55C5860003F7; Tue, 23 Sep 2025 02:23:36 -0400 (EDT) Subject: |SUCCESS| [GIT MASTER] b287e404643aeab5bb5db084c142789df187844e From: dpdklab@iol.unh.edu To: Test Report Cc: dpdk-test-reports@iol.unh.edu, Xueming Li , Christian Ehrhardt , Kevin Traynor , Luca Boccassi Content-Type: text/plain X-BeenThere: test-report@dpdk.org X-Mailman-Version: 2.1.29 Precedence: list List-Id: automatic DPDK test reports List-Unsubscribe: , List-Archive: List-Post: List-Help: List-Subscribe: , Errors-To: test-report-bounces@dpdk.org _Testing PASS_ Branch: tags/v24.11 b287e404643aeab5bb5db084c142789df187844e --> testing pass Upstream job id: Generic-Unit-Test-DPDK#373876 Test environment and result as below: +-------------------------------+----------------+ | Environment | dpdk_unit_test | +===============================+================+ | Fedora Linux 42 | PASS | +-------------------------------+----------------+ | Ubuntu 20.04 | PASS | +-------------------------------+----------------+ | Red Hat Enterprise Linux 8.10 | PASS | +-------------------------------+----------------+ | Debian GNU/Linux 12 | PASS | +-------------------------------+----------------+ | Fedora Linux 40 | PASS | +-------------------------------+----------------+ | Fedora Linux 41 | PASS | +-------------------------------+----------------+ | CentOS Stream 9 | PASS | +-------------------------------+----------------+ | CentOS Stream 10 | PASS | +-------------------------------+----------------+ | Ubuntu 22.04 | PASS | +-------------------------------+----------------+ | Ubuntu 24.04 | PASS | +-------------------------------+----------------+ | Red Hat Enterprise Linux 9.5 | PASS | +-------------------------------+----------------+ | Windows Server 2022 | PASS | +-------------------------------+----------------+ Fedora Linux 42 Kernel: 5.15 Compiler: gcc gcc (GCC) 15.2.1 20250808 (Red Hat 15.2.1-1) Ubuntu 20.04 Kernel: 5.15 Compiler: gcc gcc (Ubuntu 9.4.0-1ubuntu1~20.04.2) 9.4.0 Red Hat Enterprise Linux 8.10 Kernel: 5.15 Compiler: gcc gcc (GCC) 8.5.0 20210514 (Red Hat 8.5.0-22) Debian GNU/Linux 12 Kernel: 5.15 Compiler: gcc gcc (Debian 12.2.0-14+deb12u1) 12.2.0 Fedora Linux 40 Kernel: 5.15 Compiler: clang gcc (GCC) 14.2.1 20240912 (Red Hat 14.2.1-3) Fedora Linux 41 Kernel: 5.15 Compiler: clang gcc (GCC) 14.3.1 20250523 (Red Hat 14.3.1-1) CentOS Stream 9 Kernel: 5.15 Compiler: gcc gcc (GCC) 11.5.0 20240719 (Red Hat 11.5.0-11) CentOS Stream 10 Kernel: 5.15 Compiler: gcc gcc (GCC) 14.2.1 20250110 (Red Hat 14.2.1-8) Ubuntu 22.04 Kernel: 5.15 Compiler: gcc gcc (Ubuntu 11.4.0-1ubuntu1~22.04) 11.4.0 Ubuntu 24.04 Kernel: 5.15 Compiler: gcc gcc (Ubuntu 13.3.0-6ubuntu2~24.04) 13.3.0 Red Hat Enterprise Linux 9.5 Kernel: 5.15 Compiler: gcc gcc (GCC) 11.5.0 20240719 (Red Hat 11.5.0-2) Windows Server 2022 Kernel: 10.0.20348.2031 Compiler: clang 15.0.7, gcc 14.1.0 (MinGW), and MSVC VS 19.39.33521 To view detailed results, visit: https://lab.dpdk.org/results/dashboard/tarballs/34964/ UNH-IOL DPDK Community Lab To manage your email subscriptions, visit: https://lab.dpdk.org/results/dashboard/preferences/subscriptions/