From mboxrd@z Thu Jan 1 00:00:00 1970 Return-Path: Received: from mails.dpdk.org (mails.dpdk.org [217.70.189.124]) by inbox.dpdk.org (Postfix) with ESMTP id 3408346F55 for ; Tue, 23 Sep 2025 08:45:20 +0200 (CEST) Received: from mails.dpdk.org (localhost [127.0.0.1]) by mails.dpdk.org (Postfix) with ESMTP id 16E5940144; Tue, 23 Sep 2025 08:45:20 +0200 (CEST) Received: from mail-pf1-f228.google.com (mail-pf1-f228.google.com [209.85.210.228]) by mails.dpdk.org (Postfix) with ESMTP id BB64240144 for ; Tue, 23 Sep 2025 08:45:18 +0200 (CEST) Received: by mail-pf1-f228.google.com with SMTP id d2e1a72fcca58-77f1f8a114bso2058872b3a.0 for ; Mon, 22 Sep 2025 23:45:18 -0700 (PDT) DKIM-Signature: v=1; a=rsa-sha256; c=relaxed/relaxed; d=iol.unh.edu; s=unh-iol; t=1758609918; x=1759214718; darn=dpdk.org; h=references:in-reply-to:cc:to:from:subject:message-id:date:from:to :cc:subject:date:message-id:reply-to; bh=EKX1cCzWU4LSvfdBcQpmRKJXZAtOQTZjCQW8PQ002cs=; b=Q6lJrYBjwhzT6qJ+QkWYQH30cLUSWjbWq1dsuih3/bzPvYTet8l0iydp1HhbTrjQI3 Mddh7BmL2YIFyrKb9twkSakNjLGD41xpoW5WCLQtIwK4lzOeg3/PzPZnVhseeuUWwu2i xh4jorYrHkFM+uxreybWk60puBwb0LfQrQJdQ= X-Google-DKIM-Signature: v=1; a=rsa-sha256; c=relaxed/relaxed; d=1e100.net; s=20230601; t=1758609918; x=1759214718; h=references:in-reply-to:cc:to:from:subject:message-id:date :x-gm-message-state:from:to:cc:subject:date:message-id:reply-to; bh=EKX1cCzWU4LSvfdBcQpmRKJXZAtOQTZjCQW8PQ002cs=; b=D81NiIXSywLIs4CtpmNnAU7E6XPJhYg9iWKbaeQD3b5PU8EIgKVtQ8V4vtycvNkN+Q 55yIqoKrJkT3aNtcZTGcxPHwKzANKtu926Oe6nE/THABYA5k6EHvS87ISI4G3Acw51SX Y+sfmxsnDI51xuYpR71dbkOsvHPgAtuIHmjYu4VYh4J/lJnpVb/Qm2v0ccQ+WpDKTgLs DK3djEe3rZGN7vZf2deuE+jJ2SUYkjnNS4BkXRB5jYdfYNkZOHS4u0fPreGcXAkMAuYQ 1gbrLI0ABf+OtxM8N3jo6lNQijLRxO5ZGtQST5xS1enubc3b/Hv0OIAMZxhY4MFhqit/ d8eg== X-Gm-Message-State: AOJu0YxNvXJv+yzRb2Ubc5AXmj5oY6xaCkh4nAj3MFbYsbAcw35FCyqc Fb329ML5HDpbJCCBEOJE7xS20Oly/Y9VKFUhaF1e1VRgZmJd7JnXxtiYBqBAfHvaor38UQWKEM0 AwqV1RSN26/kbxwr92k6ZhAuvv+k89gKqb9cvtMBOXkou X-Gm-Gg: ASbGncs2RG5pZXrnik/KrPPwQPxouCaNurS2wk0ZRX4DQOgoTsqhmDwHlzsyyYdTh77 oCWtvVr4mPyRnq9b+CKJnH+Btnpb9B+98yDNA+1L42iGU3LO8aDWKXz55wViGVqq8musNk5Gu/Y bPqs4UvDOmrrwHVduy2NwGJJcBho1D/fOeXhgNEoLIpzCejIWif/VqHARTjv3HtygNTq8K9BAZ1 8beCq5D6nfJzU2G/ibqw9o4xoQ/uWYrRuh+PSr7ZW/xwAhqy7IZX1W2MA6wiy33Fkfs3lOYlv+w hT05RRnqMI5ZeJNl7J08+4WHIGeWRlbduuU8oBIa7nN1XbNkPcO6+mKIcpFB+X5SvMsM4fSI X-Google-Smtp-Source: AGHT+IHcm/h5W7AQeDRSdL43rOJLPpvP54VEQ6sDV8Nj0rYS44NvghmZml1kFLcVOSk70Z5wWcxHr2pQ4lVc X-Received: by 2002:a05:6a20:3ca5:b0:2b9:6b0b:66be with SMTP id adf61e73a8af0-2d11c1d3193mr2072090637.14.1758609917835; Mon, 22 Sep 2025 23:45:17 -0700 (PDT) Received: from postal.iol.unh.edu (postal.iol.unh.edu. [132.177.123.84]) by smtp-relay.gmail.com with ESMTPS id 98e67ed59e1d1-32ed2723809sm1251581a91.6.2025.09.22.23.45.17 (version=TLS1_2 cipher=ECDHE-ECDSA-AES128-GCM-SHA256 bits=128/128); Mon, 22 Sep 2025 23:45:17 -0700 (PDT) X-Relaying-Domain: iol.unh.edu Date: Mon, 22 Sep 2025 23:45:17 -0700 (PDT) Message-ID: <68d241fd.170a0220.34f143.db3cSMTPIN_ADDED_MISSING@mx.google.com> Received: from [172.21.0.2] (unknown [172.18.0.240]) by postal.iol.unh.edu (Postfix) with ESMTP id 106036051830; Tue, 23 Sep 2025 02:45:17 -0400 (EDT) Subject: |SUCCESS| pw156829-156830 [PATCH] [2/2] net/cnxk: fix overrun in dis From: dpdklab@iol.unh.edu To: Test Report Cc: dpdk-test-reports@iol.unh.edu In-Reply-To: <20250923044528.89132-3-stephen@networkplumber.org> References: <20250923044528.89132-3-stephen@networkplumber.org> Content-Type: text/plain X-BeenThere: test-report@dpdk.org X-Mailman-Version: 2.1.29 Precedence: list List-Id: automatic DPDK test reports List-Unsubscribe: , List-Archive: List-Post: List-Help: List-Subscribe: , Errors-To: test-report-bounces@dpdk.org Test-Label: iol-compile-amd64-testing Test-Status: SUCCESS http://dpdk.org/patch/156830 _Testing PASS_ Submitter: Stephen Hemminger Date: Tuesday, September 23 2025 04:45:29 DPDK git baseline: Repo:dpdk-next-net-mrvl Branch: master CommitID:10e386a77550322213dedade38d185c240116713 156829-156830 --> testing pass Upstream job id: Generic-DPDK-Compile-Meson#427614 Test environment and result as below: +-------------------------------+--------------------+-------------------+------------------+-------------------+-------------------------+----------------------+ | Environment | dpdk_meson_compile | dpdk_compile_spdk | dpdk_compile_ovs | dpdk_msvc_compile | dpdk_llvm_clang_compile | dpdk_mingw64_compile | +===============================+====================+===================+==================+===================+=========================+======================+ | CentOS Stream 9 | PASS | PASS | SKIPPED | SKIPPED | SKIPPED | SKIPPED | +-------------------------------+--------------------+-------------------+------------------+-------------------+-------------------------+----------------------+ | CentOS Stream 10 | PASS | SKIPPED | SKIPPED | SKIPPED | SKIPPED | SKIPPED | +-------------------------------+--------------------+-------------------+------------------+-------------------+-------------------------+----------------------+ | Debian GNU/Linux 12 | PASS | PASS | SKIPPED | SKIPPED | SKIPPED | SKIPPED | +-------------------------------+--------------------+-------------------+------------------+-------------------+-------------------------+----------------------+ | Fedora Linux 42 | PASS | PASS | PASS | SKIPPED | SKIPPED | SKIPPED | +-------------------------------+--------------------+-------------------+------------------+-------------------+-------------------------+----------------------+ | Ubuntu 20.04 | PASS | SKIPPED | SKIPPED | SKIPPED | SKIPPED | SKIPPED | +-------------------------------+--------------------+-------------------+------------------+-------------------+-------------------------+----------------------+ | FreeBSD 14.2 | PASS | SKIPPED | SKIPPED | SKIPPED | SKIPPED | SKIPPED | +-------------------------------+--------------------+-------------------+------------------+-------------------+-------------------------+----------------------+ | openSUSE Leap 15.6 | PASS | SKIPPED | SKIPPED | SKIPPED | SKIPPED | SKIPPED | +-------------------------------+--------------------+-------------------+------------------+-------------------+-------------------------+----------------------+ | Red Hat Enterprise Linux 8.10 | PASS | SKIPPED | SKIPPED | SKIPPED | SKIPPED | SKIPPED | +-------------------------------+--------------------+-------------------+------------------+-------------------+-------------------------+----------------------+ | Red Hat Enterprise Linux 9.5 | PASS | SKIPPED | SKIPPED | SKIPPED | SKIPPED | SKIPPED | +-------------------------------+--------------------+-------------------+------------------+-------------------+-------------------------+----------------------+ | Ubuntu 24.04 | PASS | PASS | PASS | SKIPPED | SKIPPED | SKIPPED | +-------------------------------+--------------------+-------------------+------------------+-------------------+-------------------------+----------------------+ | Ubuntu 22.04 | PASS | PASS | SKIPPED | SKIPPED | SKIPPED | SKIPPED | +-------------------------------+--------------------+-------------------+------------------+-------------------+-------------------------+----------------------+ | Alpine Linux 3.22.0 | PASS | SKIPPED | SKIPPED | SKIPPED | SKIPPED | SKIPPED | +-------------------------------+--------------------+-------------------+------------------+-------------------+-------------------------+----------------------+ | Windows Server 2022 | SKIPPED | SKIPPED | SKIPPED | PASS | PASS | PASS | +-------------------------------+--------------------+-------------------+------------------+-------------------+-------------------------+----------------------+ CentOS Stream 9 Kernel: 5.15 Compiler: gcc gcc (GCC) 11.5.0 20240719 (Red Hat 11.5.0-11) CentOS Stream 10 Kernel: 5.15 Compiler: gcc gcc (GCC) 14.2.1 20250110 (Red Hat 14.2.1-8) Debian GNU/Linux 12 Kernel: 5.15 Compiler: gcc gcc (Debian 12.2.0-14+deb12u1) 12.2.0 Fedora Linux 42 Kernel: 5.15 Compiler: clang gcc (GCC) 15.2.1 20250808 (Red Hat 15.2.1-1) Ubuntu 20.04 Kernel: 4.19 Compiler: gcc gcc (Ubuntu 9.4.0-1ubuntu1~20.04.2) 9.4.0 FreeBSD 14.2 Kernel: 14.2-RELEASE Compiler: clang 18.1.6 openSUSE Leap 15.6 Kernel: 5.15 Compiler: gcc gcc (SUSE Linux) 7.5.0 Red Hat Enterprise Linux 8.10 Kernel: 5.15 Compiler: gcc gcc (GCC) 8.5.0 20210514 (Red Hat 8.5.0-22) Red Hat Enterprise Linux 9.5 Kernel: 5.15 Compiler: gcc gcc (GCC) 11.5.0 20240719 (Red Hat 11.5.0-2) Ubuntu 24.04 Kernel: 5.15 Compiler: gcc gcc (Ubuntu 13.3.0-6ubuntu2~24.04) 13.3.0 Ubuntu 22.04 Kernel: 5.15 Compiler: gcc gcc (Ubuntu 11.4.0-1ubuntu1~22.04) 11.4.0 Alpine Linux 3.22.0 Kernel: 5.15 Compiler: gcc gcc (Alpine 14.2.0) 14.2.0 Windows Server 2022 Kernel: 10.0.20348.2031 Compiler: clang 15.0.7, gcc 14.1.0 (MinGW), and MSVC VS 19.39.33521 To view detailed results, visit: https://lab.dpdk.org/results/dashboard/patchsets/34120/ UNH-IOL DPDK Community Lab To manage your email subscriptions, visit: https://lab.dpdk.org/results/dashboard/preferences/subscriptions/