From mboxrd@z Thu Jan 1 00:00:00 1970 Return-Path: Received: from mails.dpdk.org (mails.dpdk.org [217.70.189.124]) by inbox.dpdk.org (Postfix) with ESMTP id 9C96E46F55 for ; Tue, 23 Sep 2025 08:59:22 +0200 (CEST) Received: from mails.dpdk.org (localhost [127.0.0.1]) by mails.dpdk.org (Postfix) with ESMTP id 9832340144; Tue, 23 Sep 2025 08:59:22 +0200 (CEST) Received: from mail-pg1-f225.google.com (mail-pg1-f225.google.com [209.85.215.225]) by mails.dpdk.org (Postfix) with ESMTP id 5416C40144 for ; Tue, 23 Sep 2025 08:59:21 +0200 (CEST) Received: by mail-pg1-f225.google.com with SMTP id 41be03b00d2f7-b556284db11so346003a12.0 for ; Mon, 22 Sep 2025 23:59:21 -0700 (PDT) DKIM-Signature: v=1; a=rsa-sha256; c=relaxed/relaxed; d=iol.unh.edu; s=unh-iol; t=1758610760; x=1759215560; darn=dpdk.org; h=references:in-reply-to:cc:to:from:subject:message-id:date:from:to :cc:subject:date:message-id:reply-to; bh=SRobei8Ptht7sLFxynAz5b/ZA/k4A574wywRCZyZgUw=; b=j01nPzUDm6JQVV26cyG3nHenAtyZGqZ/Olb/0QvhKgnMNBeL4ZG5bq4Z6KwUkhB2BK pMNrnQOyQP1wayVUwirkO6EA9PAsgfeqCLLA34F66eNJ0qpThsIJn3M0C8pYFwIiCbj5 yVMLbrpf0woN+HWBMWvUxNw+t51JGJsnQgUx4= X-Google-DKIM-Signature: v=1; a=rsa-sha256; c=relaxed/relaxed; d=1e100.net; s=20230601; t=1758610760; x=1759215560; h=references:in-reply-to:cc:to:from:subject:message-id:date :x-gm-message-state:from:to:cc:subject:date:message-id:reply-to; bh=SRobei8Ptht7sLFxynAz5b/ZA/k4A574wywRCZyZgUw=; b=V3hxxJFuv/0f2eNUV8hgqcRq9HpBUW40yFg9f3G1IadzE7XHernBFAxF6HDzJKgQKl p8Y+Yq7r6g+7Mnq94lSxoOhqdQOMOKIZ9B+F/Ceg8xp4sp8VPNKD2QOy+HiQ2awp6OGT vf++day/2GgMSloxjHlTxPz5pkAv3hxORyQuKc0/Must4/s5xKhQfmNqfu/efpLhK2sf puOWA0OjzkffyNMGfrLKEoJ8Fr0uzAO0afu2mCKACMMxoZaHiCp7OhZ2YpVTTA3q2UVC VRte3B7DbIL0YKY0xdscuqS1kQpNUwKXMl/1cJ96p2sTA4aPrpAvLKetEXDyjSb7PPQ1 E0ZA== X-Gm-Message-State: AOJu0YyPCKyA2O66oC8kzt2d6pw4mjXxy+5NKK1rjrwr01wlcM7ZMldt 1FrPGQW019v2eckeXrXN09amPEHR57DrKYOi/yn64pbgsPf0CPfU2Dq531HUx6isX7ciMYj1WBC pFtGiT0ai4DvIHN7DOxCb4mU+SjmSGsPzqC5VELQZVRcH X-Gm-Gg: ASbGncvLMagDmEH/55GwGBAvpEqEd6psQWWArPiXJmmz3kerK3uoORttqjKYODzPNUK GgJf2A/ZWTxXgRikchUGbRRktD3KsDT0Uq5NBjp2NuVEDDavCGz7C3d3dRM5BoYFvLa4YbpNK5J EgKDtC2TTo2R2HIRq3Ee8bNUm3UObkV001MlnZDOj6NwfSR3wIp7W6Y9dauGAhxU2aEchvOmHtt nUXygsHG0wv22rnKbGO2iJ9hOdRIW5B7LozeS3o7lkakOOVNPjfY12LvgX0H4chdDhKLvgMhBKq O6sr7IVHuazuHtyVMc50xUa3/cfrEeUstwpb2GAomsleli5TxM8GedTZtMf+l8gylxiX/U8N X-Google-Smtp-Source: AGHT+IHP+3LPMXlD7rax+W7CPiYOi+g7wmJNdyPJCVtLwfwwhr6p0NUh9p2Fdyxao/bmTbRI8IEHJrAPta+z X-Received: by 2002:a17:903:18c:b0:270:ea84:3242 with SMTP id d9443c01a7336-27cc1b3745cmr20314645ad.15.1758610760385; Mon, 22 Sep 2025 23:59:20 -0700 (PDT) Received: from postal.iol.unh.edu (postal.iol.unh.edu. [132.177.123.84]) by smtp-relay.gmail.com with ESMTPS id d9443c01a7336-269800463b9sm9147565ad.12.2025.09.22.23.59.20 (version=TLS1_2 cipher=ECDHE-ECDSA-AES128-GCM-SHA256 bits=128/128); Mon, 22 Sep 2025 23:59:20 -0700 (PDT) X-Relaying-Domain: iol.unh.edu Date: Mon, 22 Sep 2025 23:59:20 -0700 (PDT) Message-ID: <68d24548.170a0220.3d1c01.af69SMTPIN_ADDED_MISSING@mx.google.com> Received: from [172.21.0.3] (unknown [172.18.0.240]) by postal.iol.unh.edu (Postfix) with ESMTP id 9EBE96051830; Tue, 23 Sep 2025 02:59:19 -0400 (EDT) Subject: |SUCCESS| pw156812-156828 [PATCH] [v10,17/17] net/nbl: add nbl devic From: dpdklab@iol.unh.edu To: Test Report Cc: dpdk-test-reports@iol.unh.edu, Stephen Hemminger In-Reply-To: <20250923035402.1759922-18-dimon.zhao@nebula-matrix.com> References: <20250923035402.1759922-18-dimon.zhao@nebula-matrix.com> Content-Type: text/plain X-BeenThere: test-report@dpdk.org X-Mailman-Version: 2.1.29 Precedence: list List-Id: automatic DPDK test reports List-Unsubscribe: , List-Archive: List-Post: List-Help: List-Subscribe: , Errors-To: test-report-bounces@dpdk.org Test-Label: iol-unit-amd64-testing Test-Status: SUCCESS http://dpdk.org/patch/156828 _Testing PASS_ Submitter: Dimon Zhao Date: Tuesday, September 23 2025 03:54:02 DPDK git baseline: Repo:dpdk-next-net Branch: master CommitID:6968ca7465d2c01f953e10d225a644a92222c97f 156812-156828 --> testing pass Upstream job id: Generic-Unit-Test-DPDK#373912 Test environment and result as below: +-------------------------------+----------------+ | Environment | dpdk_unit_test | +===============================+================+ | CentOS Stream 9 | PASS | +-------------------------------+----------------+ | CentOS Stream 10 | PASS | +-------------------------------+----------------+ | Debian GNU/Linux 12 | PASS | +-------------------------------+----------------+ | Fedora Linux 40 | PASS | +-------------------------------+----------------+ | Fedora Linux 41 | PASS | +-------------------------------+----------------+ | Fedora Linux 42 | PASS | +-------------------------------+----------------+ | Ubuntu 24.04 | PASS | +-------------------------------+----------------+ | Ubuntu 20.04 | PASS | +-------------------------------+----------------+ | Ubuntu 22.04 | PASS | +-------------------------------+----------------+ | Red Hat Enterprise Linux 9.5 | PASS | +-------------------------------+----------------+ | Red Hat Enterprise Linux 8.10 | PASS | +-------------------------------+----------------+ | Windows Server 2022 | PASS | +-------------------------------+----------------+ CentOS Stream 9 Kernel: 5.15 Compiler: gcc gcc (GCC) 11.5.0 20240719 (Red Hat 11.5.0-11) CentOS Stream 10 Kernel: 5.15 Compiler: gcc gcc (GCC) 14.2.1 20250110 (Red Hat 14.2.1-8) Debian GNU/Linux 12 Kernel: 5.15 Compiler: gcc gcc (Debian 12.2.0-14+deb12u1) 12.2.0 Fedora Linux 40 Kernel: 5.15 Compiler: clang gcc (GCC) 14.2.1 20240912 (Red Hat 14.2.1-3) Fedora Linux 41 Kernel: 5.15 Compiler: clang gcc (GCC) 14.3.1 20250523 (Red Hat 14.3.1-1) Fedora Linux 42 Kernel: 5.15 Compiler: clang gcc (GCC) 15.2.1 20250808 (Red Hat 15.2.1-1) Ubuntu 24.04 Kernel: 5.15 Compiler: gcc gcc (Ubuntu 13.3.0-6ubuntu2~24.04) 13.3.0 Ubuntu 20.04 Kernel: 5.15 Compiler: gcc gcc (Ubuntu 9.4.0-1ubuntu1~20.04.2) 9.4.0 Ubuntu 22.04 Kernel: 5.15 Compiler: gcc gcc (Ubuntu 11.4.0-1ubuntu1~22.04) 11.4.0 Red Hat Enterprise Linux 9.5 Kernel: 5.15 Compiler: gcc gcc (GCC) 11.5.0 20240719 (Red Hat 11.5.0-2) Red Hat Enterprise Linux 8.10 Kernel: 5.15 Compiler: gcc gcc (GCC) 8.5.0 20210514 (Red Hat 8.5.0-22) Windows Server 2022 Kernel: 10.0.20348.2031 Compiler: clang 15.0.7, gcc 14.1.0 (MinGW), and MSVC VS 19.39.33521 To view detailed results, visit: https://lab.dpdk.org/results/dashboard/patchsets/34119/ UNH-IOL DPDK Community Lab To manage your email subscriptions, visit: https://lab.dpdk.org/results/dashboard/preferences/subscriptions/