From mboxrd@z Thu Jan 1 00:00:00 1970 Return-Path: Received: from mails.dpdk.org (mails.dpdk.org [217.70.189.124]) by inbox.dpdk.org (Postfix) with ESMTP id 168B846F55 for ; Tue, 23 Sep 2025 09:02:24 +0200 (CEST) Received: from mails.dpdk.org (localhost [127.0.0.1]) by mails.dpdk.org (Postfix) with ESMTP id E57FE40144; Tue, 23 Sep 2025 09:02:23 +0200 (CEST) Received: from mail-qv1-f97.google.com (mail-qv1-f97.google.com [209.85.219.97]) by mails.dpdk.org (Postfix) with ESMTP id 0953C40144 for ; Tue, 23 Sep 2025 09:02:22 +0200 (CEST) Received: by mail-qv1-f97.google.com with SMTP id 6a1803df08f44-78f30dac856so63737056d6.2 for ; Tue, 23 Sep 2025 00:02:21 -0700 (PDT) DKIM-Signature: v=1; a=rsa-sha256; c=relaxed/relaxed; d=iol.unh.edu; s=unh-iol; t=1758610941; x=1759215741; darn=dpdk.org; h=cc:to:from:subject:message-id:date:from:to:cc:subject:date :message-id:reply-to; bh=qpbAwWEyDB7dIXpcgc3zGu0CRJic4P9TuiXWguo+PRA=; b=DO5e6kdHFYfCPTjEN7UeFk7Kfhcpl0rv6TXkDWhKqYDp0nFRaHUWz8aHB+nnC0XImA 59Tbpj3Esr37RsPh/Ns8+NhWw29Fk7WBmT/dAqnLdCxPJouaZwE95tCyplOYzfkKY11R vHE2+yKSPtZi+7zp7E7kGwM8QyYCRtA3JTI14= X-Google-DKIM-Signature: v=1; a=rsa-sha256; c=relaxed/relaxed; d=1e100.net; s=20230601; t=1758610941; x=1759215741; h=cc:to:from:subject:message-id:date:x-gm-message-state:from:to:cc :subject:date:message-id:reply-to; bh=qpbAwWEyDB7dIXpcgc3zGu0CRJic4P9TuiXWguo+PRA=; b=pSGwTtMo//BS9U97om6ZJIEYi/p0K0Q4gK1zUDRxH6nHD8mibDCq9zcFWRnoWa0XTE B+8EgdQl/ISwYv+2TuSGuSrji+C+sBUd6x8ADi4ygfgKAkJypxBOJEO4RERIRLQaVN0d mfrjh4NVTxhYumvVqRuislw4rO+ROTwrgWnjTtwyHlDt9tBKGK2LuD6cGBzsb0RQbKtf zR4MS7jJENs4Cz9sH8bWxI7ogGQh44pwM1gEMWUlT3exwgCUYwpvLBBxg/SlLFuTz1Z2 tzpCnJOCC+G7s1zH1To1sveXldu7l+sohBAespPtaNCzlIuoXkXmakM1WgXg/H1t//br kTHQ== X-Gm-Message-State: AOJu0Yx/59yavFGh2UFMlQNA2nBkLVizrbW2dBzOoacXrO39XmJuMcXO mFSZYOu6oolQiw5lXJRtyZnYCHIt/YaW+9wA1ah381I3hTXZtpYoxHJD7pWZoP0SlG6Evx/7uaS co09J1iatjyTkBu+wopCIqQWXzlJtTCxSYa8z X-Gm-Gg: ASbGncvT4qPbbTF5XpcR7f3B64oAObHwuikF8OZjsR8HukGN7M+8WbssrJkK7n72MS0 krJG0GW0GQstglP7EPeWM5gwDj6ate+h+ALyL+AJjSnbigu73JCJCSWlqna5rOULJ+pCrhQCfU0 lHq/WNulp5QtRNYC7XZBQameve3btWmMMVy/DfoHJtNCpnDkSdCCRiBbct+UVDLs3qQdyFZCpfH wHElKI8GIYYcJHw+lAmoJC6uKl94lfPyWek1bfOmi1SEqkq6ouxIvV1RIRUozl8Oyau75QcysuR oWlZPNWOjaUyD7D2H8zpPn4e24H3Q6ECuDqc2JSM9s9V5pQSBMCW9eoxrE5VgfQSu0Tt7ACw X-Google-Smtp-Source: AGHT+IE2kLmAm3F5uBXKs7NERPuDXQq6t8a1QhXVDMv80LUEyIHH1hL/Cz2Nyt1LKtLQQlXR+erkSthsgpbV X-Received: by 2002:ad4:5cef:0:b0:795:318f:6da7 with SMTP id 6a1803df08f44-7e7016999b5mr20223336d6.2.1758610941191; Tue, 23 Sep 2025 00:02:21 -0700 (PDT) Received: from postal.iol.unh.edu (postal.iol.unh.edu. [132.177.123.84]) by smtp-relay.gmail.com with ESMTPS id 6a1803df08f44-79353b574bfsm9662386d6.45.2025.09.23.00.02.21 (version=TLS1_2 cipher=ECDHE-ECDSA-AES128-GCM-SHA256 bits=128/128); Tue, 23 Sep 2025 00:02:21 -0700 (PDT) X-Relaying-Domain: iol.unh.edu Date: Tue, 23 Sep 2025 00:02:21 -0700 (PDT) Message-ID: <68d245fd.d40a0220.5c2a3.f179SMTPIN_ADDED_MISSING@mx.google.com> Received: from [172.21.0.2] (unknown [172.18.0.240]) by postal.iol.unh.edu (Postfix) with ESMTP id E85516051830; Tue, 23 Sep 2025 03:02:20 -0400 (EDT) Subject: |SUCCESS| [GIT MASTER] 3b43ce3f4a54468e7ef65760c2fd7b4d6ee6d9fc From: dpdklab@iol.unh.edu To: Test Report Cc: dpdk-test-reports@iol.unh.edu, Xueming Li , Christian Ehrhardt , Kevin Traynor , Luca Boccassi Content-Type: text/plain X-BeenThere: test-report@dpdk.org X-Mailman-Version: 2.1.29 Precedence: list List-Id: automatic DPDK test reports List-Unsubscribe: , List-Archive: List-Post: List-Help: List-Subscribe: , Errors-To: test-report-bounces@dpdk.org _Testing PASS_ Branch: tags/v22.11 3b43ce3f4a54468e7ef65760c2fd7b4d6ee6d9fc --> testing pass Upstream job id: Generic-DPDK-Compile-Meson#427541 Test environment and result as below: +------------------------------+--------------------+ | Environment | dpdk_meson_compile | +==============================+====================+ | Ubuntu 20.04 | PASS | +------------------------------+--------------------+ | Fedora Linux 42 | PASS | +------------------------------+--------------------+ | Red Hat Enterprise Linux 9.5 | PASS | +------------------------------+--------------------+ | CentOS Stream 10 | PASS | +------------------------------+--------------------+ | Ubuntu 22.04 | PASS | +------------------------------+--------------------+ | Debian GNU/Linux 12 | PASS | +------------------------------+--------------------+ | Ubuntu 24.04 | PASS | +------------------------------+--------------------+ | CentOS Stream 9 | PASS | +------------------------------+--------------------+ Ubuntu 20.04 Kernel: 5.15 Compiler: aarch64-linux-gnu-gcc gcc (Ubuntu 9.4.0-1ubuntu1~20.04.2) 9.4.0 Fedora Linux 42 Kernel: 5.4 Compiler: clang gcc (GCC) 15.2.1 20250808 (Red Hat 15.2.1-1) Red Hat Enterprise Linux 9.5 Kernel: 5.4 Compiler: gcc gcc (GCC) 11.5.0 20240719 (Red Hat 11.5.0-2) CentOS Stream 10 Kernel: 5.4 Compiler: gcc gcc (GCC) 14.2.1 20250110 (Red Hat 14.2.1-8) Ubuntu 22.04 Kernel: 5.4 Compiler: gcc gcc (Ubuntu 11.4.0-1ubuntu1~22.04) 11.4.0 Debian GNU/Linux 12 Kernel: 5.4 Compiler: gcc gcc (Debian 12.2.0-14+deb12u1) 12.2.0 Ubuntu 24.04 Kernel: 5.4 Compiler: gcc gcc (Ubuntu 13.3.0-6ubuntu2~24.04) 13.3.0 CentOS Stream 9 Kernel: 5.4 Compiler: gcc gcc (GCC) 11.5.0 20240719 (Red Hat 11.5.0-11) To view detailed results, visit: https://lab.dpdk.org/results/dashboard/tarballs/34963/ UNH-IOL DPDK Community Lab To manage your email subscriptions, visit: https://lab.dpdk.org/results/dashboard/preferences/subscriptions/