From mboxrd@z Thu Jan 1 00:00:00 1970 Return-Path: Received: from mails.dpdk.org (mails.dpdk.org [217.70.189.124]) by inbox.dpdk.org (Postfix) with ESMTP id 9713246F55 for ; Tue, 23 Sep 2025 09:19:28 +0200 (CEST) Received: from mails.dpdk.org (localhost [127.0.0.1]) by mails.dpdk.org (Postfix) with ESMTP id 6718B402EE; Tue, 23 Sep 2025 09:19:28 +0200 (CEST) Received: from mail-yw1-f225.google.com (mail-yw1-f225.google.com [209.85.128.225]) by mails.dpdk.org (Postfix) with ESMTP id 8B7BA402EE for ; Tue, 23 Sep 2025 09:19:26 +0200 (CEST) Received: by mail-yw1-f225.google.com with SMTP id 00721157ae682-74435335177so30308777b3.0 for ; Tue, 23 Sep 2025 00:19:26 -0700 (PDT) DKIM-Signature: v=1; a=rsa-sha256; c=relaxed/relaxed; d=iol.unh.edu; s=unh-iol; t=1758611966; x=1759216766; darn=dpdk.org; h=cc:to:from:subject:message-id:date:from:to:cc:subject:date :message-id:reply-to; bh=RAm9fVcKWwBPq/cvbkNy/7iwm/XFL63Dn4vVWeEfruY=; b=BrX300MVUW5ctZ8FSoYYduJOX1QeA0AJ+HOywKDDK/Y2+aFPaJQPTYwvNpItDiQ0Cl 74/0EKjCMyfqkWigugWWNdVcDU5fTX8gXpSkF//KMtQs8HqEWvlvDxZJHRpIZsm23Xyn Hj+/6XTQJOPXzfzF8QG4gCsyUHYab5pRanWUA= X-Google-DKIM-Signature: v=1; a=rsa-sha256; c=relaxed/relaxed; d=1e100.net; s=20230601; t=1758611966; x=1759216766; h=cc:to:from:subject:message-id:date:x-gm-message-state:from:to:cc :subject:date:message-id:reply-to; bh=RAm9fVcKWwBPq/cvbkNy/7iwm/XFL63Dn4vVWeEfruY=; b=ZHXePT8AFDuiU4AprjxHtrFpnVfHXEDgfWyTQmGRUCV6wxWIfd2/vS/rwbNNhXrqWb /H5wl0vNKubfupu34c+Gw9zoEsHo5pQZFtGg3toUTM+Km2fdxroNaQCbWM2T7aGqP2q1 VIr1Z7iT+vsGcCIWzY2Sf1aY8NBzg4+OxdFw4bsSRP7xm0XTOhVfzGNGbzXeFRxdCJ85 sWpYjXUvbb8EXSdMgVNh10B24+FC3QAKdEk2iaWK0TMDW/o4/+Ul4TdTUMAanIvEvP6F t1vN8XycupZdZHiYhg10MOIKUk9D7dPOaZNR9f/OvdzeREzk7a96iqgVPw7ISUGQYYeN 5tHw== X-Gm-Message-State: AOJu0YylC6BUJLldQx1xS2bK/G+6Mknw06bnyz0dauRngxVTOOuFyx7e JiTC2jvUWPZGf0HRu+qZPHSprZYdilp+AZjZ2CAdhWUP/k+as01Lpq8/njZ1VsTia4n52BJZPIH M6G0Dkt3eYXLkKypLpaOy468IDf0zOLLOqYjzDMYR81Yz X-Gm-Gg: ASbGncsl/IbmG9FyG/QQbDagxHrLJWmRewhh+b49ka6FO4DHamSSJOStnX3lo+7ugsX +1ZxRj2WE8NO4yLek3wEZiyuDemZAnYm32INf2/fKkSARnL7pUg7A7OxNgXKA9AIMZnjxz1v/4G JvjshWzLfJ9QSjFbI9XD1MB90/4fg742fLzNTRKYV+LJIkQPQSNcDKQ9fjH626e3uzj0lzr13hZ 2Mb76761QpRrPumeKN0XVZvudSCU2Y7gDvNnctBtZAkR8/8nLLt2yUt6CdjY1h5qSfj1T1cgvVF LFfX+soCWHPHSfYwz3nBcwrjlGsukIpXha63Q1iZr+lEwdANOhWyDDmcgTvrSZxMoM9ZSBxX X-Google-Smtp-Source: AGHT+IGMakBIYHBNH+YWrDJIsv9xYvaBmiJ2y7ac3HlFcMD3BEe0u4jjfqI+4docya+p/4j2WvA3EgoeXSGX X-Received: by 2002:a05:690c:4986:b0:71d:58db:28b7 with SMTP id 00721157ae682-758a0b3f11dmr10890937b3.20.1758611965673; Tue, 23 Sep 2025 00:19:25 -0700 (PDT) Received: from postal.iol.unh.edu (postal.iol.unh.edu. [132.177.123.84]) by smtp-relay.gmail.com with ESMTPS id 956f58d0204a3-633bcb6bbdbsm568201d50.0.2025.09.23.00.19.25 (version=TLS1_2 cipher=ECDHE-ECDSA-AES128-GCM-SHA256 bits=128/128); Tue, 23 Sep 2025 00:19:25 -0700 (PDT) X-Relaying-Domain: iol.unh.edu Date: Tue, 23 Sep 2025 00:19:25 -0700 (PDT) Message-ID: <68d249fd.530a0220.3cca1f.2a91SMTPIN_ADDED_MISSING@mx.google.com> Received: from [172.21.0.3] (unknown [172.18.0.240]) by postal.iol.unh.edu (Postfix) with ESMTP id 11E6D6051830; Tue, 23 Sep 2025 03:19:25 -0400 (EDT) Subject: |SUCCESS| [GIT MASTER] 6968ca7465d2c01f953e10d225a644a92222c97f From: dpdklab@iol.unh.edu To: Test Report Cc: dpdk-test-reports@iol.unh.edu, Stephen Hemminger Content-Type: text/plain X-BeenThere: test-report@dpdk.org X-Mailman-Version: 2.1.29 Precedence: list List-Id: automatic DPDK test reports List-Unsubscribe: , List-Archive: List-Post: List-Help: List-Subscribe: , Errors-To: test-report-bounces@dpdk.org _Testing PASS_ Branch: dpdk-next-net 6968ca7465d2c01f953e10d225a644a92222c97f --> testing pass Upstream job id: Generic-DPDK-Compile-Meson#427642 Test environment and result as below: +-------------------------------+--------------------+-------------------+------------------+-------------------------+-------------------+----------------------+ | Environment | dpdk_meson_compile | dpdk_compile_spdk | dpdk_compile_ovs | dpdk_llvm_clang_compile | dpdk_msvc_compile | dpdk_mingw64_compile | +===============================+====================+===================+==================+=========================+===================+======================+ | CentOS Stream 9 | PASS | PASS | SKIPPED | SKIPPED | SKIPPED | SKIPPED | +-------------------------------+--------------------+-------------------+------------------+-------------------------+-------------------+----------------------+ | CentOS Stream 10 | PASS | SKIPPED | SKIPPED | SKIPPED | SKIPPED | SKIPPED | +-------------------------------+--------------------+-------------------+------------------+-------------------------+-------------------+----------------------+ | Debian GNU/Linux 12 | PASS | PASS | SKIPPED | SKIPPED | SKIPPED | SKIPPED | +-------------------------------+--------------------+-------------------+------------------+-------------------------+-------------------+----------------------+ | Ubuntu 20.04 | PASS | SKIPPED | SKIPPED | SKIPPED | SKIPPED | SKIPPED | +-------------------------------+--------------------+-------------------+------------------+-------------------------+-------------------+----------------------+ | Fedora Linux 42 | PASS | PASS | PASS | SKIPPED | SKIPPED | SKIPPED | +-------------------------------+--------------------+-------------------+------------------+-------------------------+-------------------+----------------------+ | FreeBSD 14.2 | PASS | SKIPPED | SKIPPED | SKIPPED | SKIPPED | SKIPPED | +-------------------------------+--------------------+-------------------+------------------+-------------------------+-------------------+----------------------+ | openSUSE Leap 15.6 | PASS | SKIPPED | SKIPPED | SKIPPED | SKIPPED | SKIPPED | +-------------------------------+--------------------+-------------------+------------------+-------------------------+-------------------+----------------------+ | Red Hat Enterprise Linux 8.10 | PASS | SKIPPED | SKIPPED | SKIPPED | SKIPPED | SKIPPED | +-------------------------------+--------------------+-------------------+------------------+-------------------------+-------------------+----------------------+ | Red Hat Enterprise Linux 9.5 | PASS | SKIPPED | SKIPPED | SKIPPED | SKIPPED | SKIPPED | +-------------------------------+--------------------+-------------------+------------------+-------------------------+-------------------+----------------------+ | Ubuntu 22.04 | PASS | PASS | SKIPPED | SKIPPED | SKIPPED | SKIPPED | +-------------------------------+--------------------+-------------------+------------------+-------------------------+-------------------+----------------------+ | Ubuntu 24.04 | PASS | PASS | PASS | SKIPPED | SKIPPED | SKIPPED | +-------------------------------+--------------------+-------------------+------------------+-------------------------+-------------------+----------------------+ | Alpine Linux 3.22.0 | PASS | SKIPPED | SKIPPED | SKIPPED | SKIPPED | SKIPPED | +-------------------------------+--------------------+-------------------+------------------+-------------------------+-------------------+----------------------+ | Windows Server 2022 | SKIPPED | SKIPPED | SKIPPED | PASS | PASS | PASS | +-------------------------------+--------------------+-------------------+------------------+-------------------------+-------------------+----------------------+ CentOS Stream 9 Kernel: 5.15 Compiler: gcc gcc (GCC) 11.5.0 20240719 (Red Hat 11.5.0-11) CentOS Stream 10 Kernel: 5.15 Compiler: gcc gcc (GCC) 14.2.1 20250110 (Red Hat 14.2.1-8) Debian GNU/Linux 12 Kernel: 5.15 Compiler: gcc gcc (Debian 12.2.0-14+deb12u1) 12.2.0 Ubuntu 20.04 Kernel: 4.19 Compiler: gcc gcc (Ubuntu 9.4.0-1ubuntu1~20.04.2) 9.4.0 Fedora Linux 42 Kernel: 5.15 Compiler: clang gcc (GCC) 15.2.1 20250808 (Red Hat 15.2.1-1) FreeBSD 14.2 Kernel: 14.2-RELEASE Compiler: clang 18.1.6 openSUSE Leap 15.6 Kernel: 5.15 Compiler: gcc gcc (SUSE Linux) 7.5.0 Red Hat Enterprise Linux 8.10 Kernel: 5.15 Compiler: gcc gcc (GCC) 8.5.0 20210514 (Red Hat 8.5.0-22) Red Hat Enterprise Linux 9.5 Kernel: 5.15 Compiler: gcc gcc (GCC) 11.5.0 20240719 (Red Hat 11.5.0-2) Ubuntu 22.04 Kernel: 5.15 Compiler: gcc gcc (Ubuntu 11.4.0-1ubuntu1~22.04) 11.4.0 Ubuntu 24.04 Kernel: 5.15 Compiler: gcc gcc (Ubuntu 13.3.0-6ubuntu2~24.04) 13.3.0 Alpine Linux 3.22.0 Kernel: 5.15 Compiler: gcc gcc (Alpine 14.2.0) 14.2.0 Windows Server 2022 Kernel: 10.0.20348.2031 Compiler: clang 15.0.7, gcc 14.1.0 (MinGW), and MSVC VS 19.39.33521 To view detailed results, visit: https://lab.dpdk.org/results/dashboard/tarballs/34967/ UNH-IOL DPDK Community Lab To manage your email subscriptions, visit: https://lab.dpdk.org/results/dashboard/preferences/subscriptions/