From mboxrd@z Thu Jan 1 00:00:00 1970 Return-Path: Received: from mails.dpdk.org (mails.dpdk.org [217.70.189.124]) by inbox.dpdk.org (Postfix) with ESMTP id 2AFFB46F55 for ; Tue, 23 Sep 2025 09:36:56 +0200 (CEST) Received: from mails.dpdk.org (localhost [127.0.0.1]) by mails.dpdk.org (Postfix) with ESMTP id 152D240144; Tue, 23 Sep 2025 09:36:56 +0200 (CEST) Received: from mail-pg1-f226.google.com (mail-pg1-f226.google.com [209.85.215.226]) by mails.dpdk.org (Postfix) with ESMTP id 950B240144 for ; Tue, 23 Sep 2025 09:36:55 +0200 (CEST) Received: by mail-pg1-f226.google.com with SMTP id 41be03b00d2f7-b54d23714adso4112673a12.0 for ; Tue, 23 Sep 2025 00:36:55 -0700 (PDT) DKIM-Signature: v=1; a=rsa-sha256; c=relaxed/relaxed; d=iol.unh.edu; s=unh-iol; t=1758613014; x=1759217814; darn=dpdk.org; h=cc:to:from:subject:message-id:date:from:to:cc:subject:date :message-id:reply-to; bh=yrb8AT3AET/HJl9ZXwUhch4Cu/9Y9aR1/zNaNGrnqgU=; b=Cko3tMh5pGvU3W2m4HLPuJn7K9p9moznqL0LJqGFcoccUdpyxk+5Xt/ELHdin79fx0 1YUyJEGPzfmBX6wH2YYPT4D7SYmRQ7eZt7To72CDOYFyITZOfpcVOO70Rp9l1/au0v12 O6ewdk9mNuQLbsAdI6z8vkEdPuCLMFBiKsMw8= X-Google-DKIM-Signature: v=1; a=rsa-sha256; c=relaxed/relaxed; d=1e100.net; s=20230601; t=1758613014; x=1759217814; h=cc:to:from:subject:message-id:date:x-gm-message-state:from:to:cc :subject:date:message-id:reply-to; bh=yrb8AT3AET/HJl9ZXwUhch4Cu/9Y9aR1/zNaNGrnqgU=; b=sr5i6QKZBsUdyviAGRbWkY1Cnf1EuKJufHThHTquzmVEf9EJ494/RHGGuGVqCjHO86 Zmsfq/20m59YNoeTgKPHJNOTxTKFStDVKCqksHtWwuYxAXZNtFReNin/uHinPHpfSK6A xn/oGzqWzu5cXqdJOfb2X+FFSlypT8TPKG2cX//Ib+XQwwyWlxbVVAHJ1Dp++iJn8XaF bcHDzjh1qEhr6Yfjf+w/gaNB9/R2+HSvgDiW10DaiLV9v2oLLQAVKlMv2nTqJh0khnA9 g2W9j7DRWtbZlnWMmIV73WHasZ7hcRLzn9sq8W7VhO/L0TQWf8wck9z15SoW4ZjLprZ8 2FYw== X-Gm-Message-State: AOJu0YyG6URjZbr12u9BpW8uFzddfwadbbtZk0WpNI3Xz7e5YC2kXo+V HQTsJUluZbMKKNd7VyRvI6yTE6jY9jv1CslshNF8THDXTM2AYbYSKuE1EVcWgANFvo/Hm8WCU1Y Qm6KjPR7pwOuW44uY9IxKMce9ocx+bpgu2Cd4 X-Gm-Gg: ASbGncsYJDqxDEknZABXrl0QOITB1L1WY0rOmgUSpaVnspb3S6eF/dIjq8mTbp/McQp DwsYD+m1ItHX1YhP+uXGG99TTz7yvuMjpxh8CFwd1U/Td4sUJ1K3zXNPvKrH0YooVatE3cac39r e4CnUIofZS63I+GwsWZMGIJVpEiPeTs+2riXS5IEd/KDq50gsctTK02Jqx/MWoRHQrjRQzbyVHv 5ms5oEN1Foz+xvSnwHcMgHKehMTHW7/0mvO4uOxpFd/076HKV8PxYNScPiiB2KfEt6XhleG5uci eW/9H2rj65/0FuwBGTmo/XxYyx8cYMC6J0S72oXTD87HRUiyCw+6eNtxf3YMQPztfOSmfDQY X-Google-Smtp-Source: AGHT+IG5X6ibt0SC/KrV9CwHAs5s6Kzd7awnJvvskRdkSNU2xCLYx7sP36V+7JCyslAZ7LSlmV7MccDfumtR X-Received: by 2002:a17:902:be14:b0:279:373b:407f with SMTP id d9443c01a7336-27cd61ddf1cmr17040055ad.5.1758613014597; Tue, 23 Sep 2025 00:36:54 -0700 (PDT) Received: from postal.iol.unh.edu (postal.iol.unh.edu. [132.177.123.84]) by smtp-relay.gmail.com with ESMTPS id d9443c01a7336-2698004b511sm9609635ad.13.2025.09.23.00.36.54 (version=TLS1_2 cipher=ECDHE-ECDSA-AES128-GCM-SHA256 bits=128/128); Tue, 23 Sep 2025 00:36:54 -0700 (PDT) X-Relaying-Domain: iol.unh.edu Date: Tue, 23 Sep 2025 00:36:54 -0700 (PDT) Message-ID: <68d24e16.170a0220.e5422.daffSMTPIN_ADDED_MISSING@mx.google.com> Received: from [172.21.0.2] (unknown [172.18.0.240]) by postal.iol.unh.edu (Postfix) with ESMTP id D29ED6051830; Tue, 23 Sep 2025 03:36:53 -0400 (EDT) Subject: |SUCCESS| [GIT MASTER] b287e404643aeab5bb5db084c142789df187844e From: dpdklab@iol.unh.edu To: Test Report Cc: dpdk-test-reports@iol.unh.edu, Xueming Li , Christian Ehrhardt , Kevin Traynor , Luca Boccassi Content-Type: text/plain X-BeenThere: test-report@dpdk.org X-Mailman-Version: 2.1.29 Precedence: list List-Id: automatic DPDK test reports List-Unsubscribe: , List-Archive: List-Post: List-Help: List-Subscribe: , Errors-To: test-report-bounces@dpdk.org _Testing PASS_ Branch: tags/v24.11 b287e404643aeab5bb5db084c142789df187844e --> testing pass Upstream job id: Generic-Unit-Test-DPDK#373883 Test environment and result as below: +------------------------------+----------------+------------------------------+--------------+---------------------------+ | Environment | dpdk_unit_test | cryptodev_sw_snow3g_autotest | lpm_autotest | cryptodev_sw_zuc_autotest | +==============================+================+==============================+==============+===========================+ | Fedora Linux 41 | PASS | SKIPPED | SKIPPED | SKIPPED | +------------------------------+----------------+------------------------------+--------------+---------------------------+ | Fedora Linux 40 | PASS | SKIPPED | SKIPPED | SKIPPED | +------------------------------+----------------+------------------------------+--------------+---------------------------+ | Ubuntu 22.04 | PASS | SKIPPED | SKIPPED | SKIPPED | +------------------------------+----------------+------------------------------+--------------+---------------------------+ | Ubuntu 24.04 | PASS | SKIPPED | SKIPPED | SKIPPED | +------------------------------+----------------+------------------------------+--------------+---------------------------+ | Fedora Linux 42 | PASS | SKIPPED | SKIPPED | SKIPPED | +------------------------------+----------------+------------------------------+--------------+---------------------------+ | CentOS Stream 9 | PASS | SKIPPED | SKIPPED | SKIPPED | +------------------------------+----------------+------------------------------+--------------+---------------------------+ | Ubuntu 20.04 | PASS | SKIPPED | PASS | SKIPPED | +------------------------------+----------------+------------------------------+--------------+---------------------------+ | Debian GNU/Linux 12 | PASS | SKIPPED | SKIPPED | SKIPPED | +------------------------------+----------------+------------------------------+--------------+---------------------------+ | Red Hat Enterprise Linux 9.5 | PASS | SKIPPED | SKIPPED | SKIPPED | +------------------------------+----------------+------------------------------+--------------+---------------------------+ | CentOS Stream 10 | PASS | SKIPPED | SKIPPED | SKIPPED | +------------------------------+----------------+------------------------------+--------------+---------------------------+ | Debian 12 (arm) | SKIPPED | PASS | SKIPPED | PASS | +------------------------------+----------------+------------------------------+--------------+---------------------------+ Fedora Linux 41 Kernel: 5.4 Compiler: gcc gcc (GCC) 14.3.1 20250523 (Red Hat 14.3.1-1) Fedora Linux 40 Kernel: 5.4 Compiler: clang gcc (GCC) 14.2.1 20240912 (Red Hat 14.2.1-3) Ubuntu 22.04 Kernel: 5.4 Compiler: gcc gcc (Ubuntu 11.4.0-1ubuntu1~22.04) 11.4.0 Ubuntu 24.04 Kernel: 5.4 Compiler: gcc gcc (Ubuntu 13.3.0-6ubuntu2~24.04) 13.3.0 Fedora Linux 42 Kernel: 5.4 Compiler: gcc gcc (GCC) 15.2.1 20250808 (Red Hat 15.2.1-1) CentOS Stream 9 Kernel: 5.4 Compiler: gcc gcc (GCC) 11.5.0 20240719 (Red Hat 11.5.0-11) Ubuntu 20.04 Kernel: 5.4 Compiler: gcc gcc (Ubuntu 9.4.0-1ubuntu1~20.04.2) 9.4.0 Debian GNU/Linux 12 Kernel: 5.4 Compiler: gcc gcc (Debian 12.2.0-14+deb12u1) 12.2.0 Red Hat Enterprise Linux 9.5 Kernel: 5.4 Compiler: gcc gcc (GCC) 11.5.0 20240719 (Red Hat 11.5.0-2) CentOS Stream 10 Kernel: 5.4 Compiler: gcc gcc (GCC) 14.2.1 20250110 (Red Hat 14.2.1-8) Debian 12 (arm) Kernel: Depends on container host Compiler: gcc (Debian 12.2.0-14) 12.2.0 To view detailed results, visit: https://lab.dpdk.org/results/dashboard/tarballs/34964/ UNH-IOL DPDK Community Lab To manage your email subscriptions, visit: https://lab.dpdk.org/results/dashboard/preferences/subscriptions/