From mboxrd@z Thu Jan 1 00:00:00 1970 Return-Path: Received: from mails.dpdk.org (mails.dpdk.org [217.70.189.124]) by inbox.dpdk.org (Postfix) with ESMTP id 557D446F55 for ; Tue, 23 Sep 2025 09:48:39 +0200 (CEST) Received: from mails.dpdk.org (localhost [127.0.0.1]) by mails.dpdk.org (Postfix) with ESMTP id 2B74640144; Tue, 23 Sep 2025 09:48:39 +0200 (CEST) Received: from mail-oa1-f97.google.com (mail-oa1-f97.google.com [209.85.160.97]) by mails.dpdk.org (Postfix) with ESMTP id B7A8340144 for ; Tue, 23 Sep 2025 09:48:38 +0200 (CEST) Received: by mail-oa1-f97.google.com with SMTP id 586e51a60fabf-30cce86052cso4108036fac.1 for ; Tue, 23 Sep 2025 00:48:38 -0700 (PDT) DKIM-Signature: v=1; a=rsa-sha256; c=relaxed/relaxed; d=iol.unh.edu; s=unh-iol; t=1758613718; x=1759218518; darn=dpdk.org; h=cc:to:from:subject:message-id:date:from:to:cc:subject:date :message-id:reply-to; bh=q/0h0gIo2T3DJ0HDnQNlNIJ8Rr5amzs+ByaKLhLJmBQ=; b=hqSMe/My1HdhhLbVxijaIJTKfnCqrKytcvqsWqmlLrfzOOVtrfnX89fxSXlo1+Urio khQH3t27cPRKTGemSJQnBtfe0Ts0y8zO3oMvHvUs2aiY4zsV2WhuOGngOUAT3AVypy0k TuZRq1fO+sDqqzM9VBj+JPypTYfGZpvPwhitQ= X-Google-DKIM-Signature: v=1; a=rsa-sha256; c=relaxed/relaxed; d=1e100.net; s=20230601; t=1758613718; x=1759218518; h=cc:to:from:subject:message-id:date:x-gm-message-state:from:to:cc :subject:date:message-id:reply-to; bh=q/0h0gIo2T3DJ0HDnQNlNIJ8Rr5amzs+ByaKLhLJmBQ=; b=JIGi2VYK9JpL19iaUNA2r2l8Yw4I5rOzHu5NfXdSQEJCjaWasaWq36igkyoGQbLKIr WaBkCZs5Ai+BIkgSRereVEi8hhQTOuGHwUgrmgVpQ+hkeulfPQ+tid+e+S7mhIr/IVAI tz/jFK306C+F3mDf621x5Owntu6VFM3U6jSRibErT0fh0LsX2vObUfwS3ZP3Rqj8jEK+ XOV8X4BYxdYs46BJjxLiKnkgmLtfcmhp+vFFSdPJGHL2wDXKHxbJUCgwkNcR29ci13rW h+dKiFA7zxUjj16PJqK51+mu2aQSNndfN3gFl6i9FKgwthyG/lKTJ5mZzAxx4z9UgRi/ wjBw== X-Gm-Message-State: AOJu0YwhPI+esrvhWNJ13vS6q9vqBTwEalxbMWHdkrTbjbINhjXzU3we fyfSWnVd8OpP9CRvhlB/3BEUbCSU3nPVCTFJTgc8tYbPaVh6OBSv/WX6bLpkovrhK6lFWg+i+Fv MIFjecBPobStV5p6v654i3kmpsY14Ne9L6+krHKsS0v7/EURGJFD8zRjB73nK X-Gm-Gg: ASbGncvhnFikMndPG0Mwsidr2pseE45bAPPPyRxc9pTx32b8Qkqn9T24SBGXjSLCYiM sr+i6qel+J9/DPWV+BSguprLSR1ZfpibRV6VwDjfbctWs0bjt7Y7RQjIswcdoIAber9h8HHN4xG opVKXt3NBHiTeVELJEa+lUQm36zzQUj4VBGwu15TAzICCyp8TKYFeKUnEJ5UkmHAYhIRBBDSXow /qLmDDgxXhkX+mgWlNGsef78UN2bGskxjdCvBxrFbxRrb0zgPvBRp6KFfq/Pusyq6ZoG7hRXZSW PU+IdgX9VUlTYcAL9HsIef8CwGeVU1miMxJ25ywIhwnwqvHgGg== X-Google-Smtp-Source: AGHT+IHHvznWVYC21rd2YqWddbsSu+ziNL9P2aVRLVvez0nJRKJsDhba1zi5H5NlPXrv/V8M8ngkviszFrxC X-Received: by 2002:a05:6871:331e:b0:344:34e3:5143 with SMTP id 586e51a60fabf-34c807ef843mr764364fac.28.1758613717944; Tue, 23 Sep 2025 00:48:37 -0700 (PDT) Received: from postal.iol.unh.edu (postal.iol.unh.edu. [2606:4100:3880:1234::84]) by smtp-relay.gmail.com with ESMTPS id 586e51a60fabf-344a35b715fsm297185fac.25.2025.09.23.00.48.37 (version=TLS1_2 cipher=ECDHE-ECDSA-AES128-GCM-SHA256 bits=128/128); Tue, 23 Sep 2025 00:48:37 -0700 (PDT) X-Relaying-Domain: iol.unh.edu Date: Tue, 23 Sep 2025 00:48:37 -0700 (PDT) Message-ID: <68d250d5.050a0220.1a0846.3fafSMTPIN_ADDED_MISSING@mx.google.com> Received: from [172.21.0.2] (unknown [172.18.0.240]) by postal.iol.unh.edu (Postfix) with ESMTP id 7A2356051830; Tue, 23 Sep 2025 03:48:37 -0400 (EDT) Subject: |SUCCESS| [GIT MASTER] 6968ca7465d2c01f953e10d225a644a92222c97f From: dpdklab@iol.unh.edu To: Test Report Cc: dpdk-test-reports@iol.unh.edu, Stephen Hemminger Content-Type: text/plain X-BeenThere: test-report@dpdk.org X-Mailman-Version: 2.1.29 Precedence: list List-Id: automatic DPDK test reports List-Unsubscribe: , List-Archive: List-Post: List-Help: List-Subscribe: , Errors-To: test-report-bounces@dpdk.org _Testing PASS_ Branch: dpdk-next-net 6968ca7465d2c01f953e10d225a644a92222c97f --> testing pass Upstream job id: Generic-Unit-Test-DPDK#373975 Test environment and result as below: +-------------------------------+----------------+ | Environment | dpdk_unit_test | +===============================+================+ | CentOS Stream 9 | PASS | +-------------------------------+----------------+ | CentOS Stream 10 | PASS | +-------------------------------+----------------+ | Fedora Linux 40 | PASS | +-------------------------------+----------------+ | Debian GNU/Linux 12 | PASS | +-------------------------------+----------------+ | Fedora Linux 41 | PASS | +-------------------------------+----------------+ | Red Hat Enterprise Linux 8.10 | PASS | +-------------------------------+----------------+ | Fedora Linux 42 | PASS | +-------------------------------+----------------+ | Ubuntu 20.04 | PASS | +-------------------------------+----------------+ | Red Hat Enterprise Linux 9.5 | PASS | +-------------------------------+----------------+ | Ubuntu 24.04 | PASS | +-------------------------------+----------------+ | Ubuntu 22.04 | PASS | +-------------------------------+----------------+ | Windows Server 2022 | PASS | +-------------------------------+----------------+ CentOS Stream 9 Kernel: 5.15 Compiler: gcc gcc (GCC) 11.5.0 20240719 (Red Hat 11.5.0-11) CentOS Stream 10 Kernel: 5.15 Compiler: gcc gcc (GCC) 14.2.1 20250110 (Red Hat 14.2.1-8) Fedora Linux 40 Kernel: 5.15 Compiler: gcc gcc (GCC) 14.2.1 20240912 (Red Hat 14.2.1-3) Debian GNU/Linux 12 Kernel: 5.15 Compiler: gcc gcc (Debian 12.2.0-14+deb12u1) 12.2.0 Fedora Linux 41 Kernel: 5.15 Compiler: gcc gcc (GCC) 14.3.1 20250523 (Red Hat 14.3.1-1) Red Hat Enterprise Linux 8.10 Kernel: 5.15 Compiler: gcc gcc (GCC) 8.5.0 20210514 (Red Hat 8.5.0-22) Fedora Linux 42 Kernel: 5.15 Compiler: gcc gcc (GCC) 15.2.1 20250808 (Red Hat 15.2.1-1) Ubuntu 20.04 Kernel: 5.15 Compiler: gcc gcc (Ubuntu 9.4.0-1ubuntu1~20.04.2) 9.4.0 Red Hat Enterprise Linux 9.5 Kernel: 5.15 Compiler: gcc gcc (GCC) 11.5.0 20240719 (Red Hat 11.5.0-2) Ubuntu 24.04 Kernel: 5.15 Compiler: gcc gcc (Ubuntu 13.3.0-6ubuntu2~24.04) 13.3.0 Ubuntu 22.04 Kernel: 5.15 Compiler: gcc gcc (Ubuntu 11.4.0-1ubuntu1~22.04) 11.4.0 Windows Server 2022 Kernel: 10.0.20348.2031 Compiler: clang 15.0.7, gcc 14.1.0 (MinGW), and MSVC VS 19.39.33521 To view detailed results, visit: https://lab.dpdk.org/results/dashboard/tarballs/34967/ UNH-IOL DPDK Community Lab To manage your email subscriptions, visit: https://lab.dpdk.org/results/dashboard/preferences/subscriptions/