From mboxrd@z Thu Jan 1 00:00:00 1970 Return-Path: Received: from mails.dpdk.org (mails.dpdk.org [217.70.189.124]) by inbox.dpdk.org (Postfix) with ESMTP id 8F35146F58 for ; Tue, 23 Sep 2025 10:14:23 +0200 (CEST) Received: from mails.dpdk.org (localhost [127.0.0.1]) by mails.dpdk.org (Postfix) with ESMTP id 74EAB40144; Tue, 23 Sep 2025 10:14:23 +0200 (CEST) Received: from mail-il1-f227.google.com (mail-il1-f227.google.com [209.85.166.227]) by mails.dpdk.org (Postfix) with ESMTP id A826840144 for ; Tue, 23 Sep 2025 10:14:22 +0200 (CEST) Received: by mail-il1-f227.google.com with SMTP id e9e14a558f8ab-4257f2b59ffso5790305ab.1 for ; Tue, 23 Sep 2025 01:14:22 -0700 (PDT) DKIM-Signature: v=1; a=rsa-sha256; c=relaxed/relaxed; d=iol.unh.edu; s=unh-iol; t=1758615262; x=1759220062; darn=dpdk.org; h=cc:to:from:subject:message-id:date:from:to:cc:subject:date :message-id:reply-to; bh=cCzHH2m5FpgTdsYHHII4o9Izz5icisgjTBE+QfKJv2Q=; b=bUSZ/gYfYnstNNPMtE1Qjl6KifVtZDDlvfcMvWrWYgLJSzNLPzR3viXO/FeNxowemX hAFEuowxu+VUO9NUDtZ6Iq7/9sO/owid3Ux4YFP/mUJ5ToQHs6BJWu2P/xhICSLXXraW abxRum6vdwupDv4Z1MwlWzZvI+tOdl011qKGA= X-Google-DKIM-Signature: v=1; a=rsa-sha256; c=relaxed/relaxed; d=1e100.net; s=20230601; t=1758615262; x=1759220062; h=cc:to:from:subject:message-id:date:x-gm-message-state:from:to:cc :subject:date:message-id:reply-to; bh=cCzHH2m5FpgTdsYHHII4o9Izz5icisgjTBE+QfKJv2Q=; b=fVOoapB8g1K+8arpvX6IBXc5x/1mMauc342duPvXe8M+Psb5Gzp5+9d5cddsk7TOk/ wc9/lSHre54eczPoRDCpdmUeHbPtk3qMPDbdBjkRkWSzGFN85pgk69a5D/0z4T0t/3od YPVJFK59MA6wBt1mZdjMFHI52Ao5rZXm9T7iA/Tuhi/TmpqY26+2hGR9vqbRVSVh8MUH 8fhEt3vzATRt8EybUFdt7TBNVCzW7MatmEgdth3qQWmLQRGx55b8T7ppg41ZAqZVa4hV jy6pNZ8JircVQgYTNfEhSFwQ5ONkxcbWu1e1pIkcft3xic5IHXT6ZEux8JTuU4Ib7E+f c7tA== X-Gm-Message-State: AOJu0YxmYhQjELRl9kuVO5ZZTdjBPhVUUU2ooJk766mIRqZENtHnW6lT VMF+jLNTCSD+EBp0E1CMSMQjXVCORmm+AinPt5MF0lOu3mhFHHaB85lFE2Az0j3OVXtuRJzjMt9 4lJ3CtzdtKfa9Lwo3RLgyH9wsOtI/BB6N/0gBSxtduuQflTtyI23M X-Gm-Gg: ASbGncv2eDFEJ66fxB5y4hlNg0Wqc4DhteVsjSo0wVxfZx4APTcDI22/XZgVdVFeSsD 87qxdZ5ePWyoIg3cWWq4LsgfE9Z2ZnX+bGfIYqyp3sQLgmHbEeqERMy0WEWr7Lb6szWKx/UUHy8 8rGGGDdMF6mC9c+l1qJg1S5MDdo+8BfxAsdFItzYY2UEf3HJSUC//PrUxdRx8Kz3/6o8+xzlEx0 ppCRXLovQ7cdtbfqiC+jxqdIwhkgg2rc3vu2wbfudAmbsCrjEi1kP10eCknvdOJQRPGDB4EJXGl AB8PP2E7+ewltnzU9cFZ/uhz474tMJdwFjyLm/ozv9AXHPrbtA== X-Google-Smtp-Source: AGHT+IE+YuXkuskvaYBC1L+PHTYN29CGF8UC0ZTTKYhR9ZgTFL6Gm2r1PMGqVSx/oFzpV320uMqSS7TPti3v X-Received: by 2002:a05:6e02:85:b0:425:849c:52fa with SMTP id e9e14a558f8ab-425849c5424mr16291285ab.15.1758615261960; Tue, 23 Sep 2025 01:14:21 -0700 (PDT) Received: from postal.iol.unh.edu (postal.iol.unh.edu. [2606:4100:3880:1234::84]) by smtp-relay.gmail.com with ESMTPS id e9e14a558f8ab-42449240557sm9323385ab.0.2025.09.23.01.14.21 (version=TLS1_2 cipher=ECDHE-ECDSA-AES128-GCM-SHA256 bits=128/128); Tue, 23 Sep 2025 01:14:21 -0700 (PDT) X-Relaying-Domain: iol.unh.edu Date: Tue, 23 Sep 2025 01:14:21 -0700 (PDT) Message-ID: <68d256dd.050a0220.1292ed.cb34SMTPIN_ADDED_MISSING@mx.google.com> Received: from [172.21.0.2] (unknown [172.18.0.240]) by postal.iol.unh.edu (Postfix) with ESMTP id 8CDC66051830; Tue, 23 Sep 2025 04:14:21 -0400 (EDT) Subject: |SUCCESS| [GIT MASTER] b287e404643aeab5bb5db084c142789df187844e From: dpdklab@iol.unh.edu To: Test Report Cc: dpdk-test-reports@iol.unh.edu, Xueming Li , Christian Ehrhardt , Kevin Traynor , Luca Boccassi Content-Type: text/plain X-BeenThere: test-report@dpdk.org X-Mailman-Version: 2.1.29 Precedence: list List-Id: automatic DPDK test reports List-Unsubscribe: , List-Archive: List-Post: List-Help: List-Subscribe: , Errors-To: test-report-bounces@dpdk.org _Testing PASS_ Branch: tags/v24.11 b287e404643aeab5bb5db084c142789df187844e --> testing pass Upstream job id: Generic-DPDK-Compile-Meson#427577 Test environment and result as below: +------------------------------+--------------------+ | Environment | dpdk_meson_compile | +==============================+====================+ | Red Hat Enterprise Linux 9.5 | PASS | +------------------------------+--------------------+ | Ubuntu 20.04 | PASS | +------------------------------+--------------------+ | Debian GNU/Linux 12 | PASS | +------------------------------+--------------------+ | Fedora Linux 42 | PASS | +------------------------------+--------------------+ | Ubuntu 22.04 | PASS | +------------------------------+--------------------+ | CentOS Stream 9 | PASS | +------------------------------+--------------------+ | Ubuntu 24.04 | PASS | +------------------------------+--------------------+ | CentOS Stream 10 | PASS | +------------------------------+--------------------+ Red Hat Enterprise Linux 9.5 Kernel: 5.4 Compiler: gcc gcc (GCC) 11.5.0 20240719 (Red Hat 11.5.0-2) Ubuntu 20.04 Kernel: 5.15 Compiler: aarch64-linux-gnu-gcc gcc (Ubuntu 9.4.0-1ubuntu1~20.04.2) 9.4.0 Debian GNU/Linux 12 Kernel: 5.4 Compiler: gcc gcc (Debian 12.2.0-14+deb12u1) 12.2.0 Fedora Linux 42 Kernel: 5.4 Compiler: gcc gcc (GCC) 15.2.1 20250808 (Red Hat 15.2.1-1) Ubuntu 22.04 Kernel: 5.4 Compiler: gcc gcc (Ubuntu 11.4.0-1ubuntu1~22.04) 11.4.0 CentOS Stream 9 Kernel: 5.4 Compiler: gcc gcc (GCC) 11.5.0 20240719 (Red Hat 11.5.0-11) Ubuntu 24.04 Kernel: 5.4 Compiler: gcc gcc (Ubuntu 13.3.0-6ubuntu2~24.04) 13.3.0 CentOS Stream 10 Kernel: 5.4 Compiler: gcc gcc (GCC) 14.2.1 20250110 (Red Hat 14.2.1-8) To view detailed results, visit: https://lab.dpdk.org/results/dashboard/tarballs/34964/ UNH-IOL DPDK Community Lab To manage your email subscriptions, visit: https://lab.dpdk.org/results/dashboard/preferences/subscriptions/