From mboxrd@z Thu Jan 1 00:00:00 1970 Return-Path: Received: from mails.dpdk.org (mails.dpdk.org [217.70.189.124]) by inbox.dpdk.org (Postfix) with ESMTP id E0F3446F58 for ; Tue, 23 Sep 2025 10:30:16 +0200 (CEST) Received: from mails.dpdk.org (localhost [127.0.0.1]) by mails.dpdk.org (Postfix) with ESMTP id D8FB140144; Tue, 23 Sep 2025 10:30:16 +0200 (CEST) Received: from mail-il1-f228.google.com (mail-il1-f228.google.com [209.85.166.228]) by mails.dpdk.org (Postfix) with ESMTP id 43B8940144 for ; Tue, 23 Sep 2025 10:30:15 +0200 (CEST) Received: by mail-il1-f228.google.com with SMTP id e9e14a558f8ab-425715aeccdso13125975ab.2 for ; Tue, 23 Sep 2025 01:30:15 -0700 (PDT) DKIM-Signature: v=1; a=rsa-sha256; c=relaxed/relaxed; d=iol.unh.edu; s=unh-iol; t=1758616214; x=1759221014; darn=dpdk.org; h=references:in-reply-to:cc:to:from:subject:message-id:date:from:to :cc:subject:date:message-id:reply-to; bh=RfmjHYu1Mnw08b0/JsN8KRSJd8n24/6QhbFRZFJRWvM=; b=Z5LZppYNkVUOQ3NB4UeozJdfvzRFB94q4tdaGJYGl2QZ2liD9OpdjOXATOLSQK+OC4 XJRJne0IfpPuksJiYyV0YRR8xeTFli7QDHZxTMAvkiIkL3vDWdDLbfFSc1jzWS0flpmy Fn3ofprmz6XZcIB75ofzTRMd0nEmylU4A2e3g= X-Google-DKIM-Signature: v=1; a=rsa-sha256; c=relaxed/relaxed; d=1e100.net; s=20230601; t=1758616214; x=1759221014; h=references:in-reply-to:cc:to:from:subject:message-id:date :x-gm-message-state:from:to:cc:subject:date:message-id:reply-to; bh=RfmjHYu1Mnw08b0/JsN8KRSJd8n24/6QhbFRZFJRWvM=; b=IYQihD83NI+SnmEbnUs9fQZ0tO1TKvjOD9DUj5jSWmm/BUtUxGCdkKiXLtTGW5iahG AvojSUfnbuNduw+OslpOkEUYPAu4JCMBJWUGRr0Ump79BjU4HrHFWiMWDKcIkBlDUemp 8sa0LHjA6LBsZnCvzOuzC1+D7nJrEqy83DZVzvbKREDG0atRAlnsMcqf9SAbx8V9DuVu GAdDGSX7cpZZMOwVsmsw6tqF7B0iv20aQRtaZ45qom4KjrOr2EqZmFBhpIA9N007C2aM z1qOAGg85i+AbOdaPUnjGxKAgsPLIjLTSZQk7mFyIWQgyNP5QFZQ57lK2afP+s8PGYuT W8pg== X-Gm-Message-State: AOJu0Ywlx7qrYI2veD1NKadh2GnopWvjn4+IVkvHMVs1tgAye0h2ugt1 aQzPzYb/BC8I0XMv6Y4e+QicguwuCupRuBft3NuSTJMc5aewUBtdN4zqQMsiR6/0NxdEXF0OXWE unxgqAfMtZlo8k5itZtvhqDlIC3R8NRY93+dW4UncuEEe X-Gm-Gg: ASbGncvQQhCcf2ok1pg26a24CNsX99qmeunUxz3v1ud9jLoKlrsHKmdozzoj8hfBebl C5dFUe8JJxx/c8GMgXl1waUlpBhfOKfhC33NrCigAgF4OnjaVOXrHLLUeChuTtoPK26QwlRrPa3 2L5dQlGvPr2vY0fo2D9i9xmHOmYFejxErK9L80oX93CFUQ3Uum6NsENCJt8uLaoHck1viqC0pFg ds4h4J7TX+hMxrbJ/Nnd8bQqMw3NjA/MYnQZOFtzyqLkp4IZfZaPz5AKcnzxkNLYaxd2lOgnruN eqgPRQgiXYrGf+z7C5k9wvBe/FHPwfk+Ks476J1aSTQy1kMW9gu+iIT1+WozZg3vk1xVzURR X-Google-Smtp-Source: AGHT+IEJ3zApPtPCg70Hr3w3dPx4AV+Fw5dGndasFPknd62EuRKmCTjca4FT1uSxMqsAxafWjrTl1KbD5sq6 X-Received: by 2002:a05:6e02:2789:b0:3f6:618f:6b2b with SMTP id e9e14a558f8ab-42581ea47e4mr22523785ab.28.1758616214527; Tue, 23 Sep 2025 01:30:14 -0700 (PDT) Received: from postal.iol.unh.edu (postal.iol.unh.edu. [132.177.123.84]) by smtp-relay.gmail.com with ESMTPS id 8926c6da1cb9f-53d50f6b621sm766969173.29.2025.09.23.01.30.14 (version=TLS1_2 cipher=ECDHE-ECDSA-AES128-GCM-SHA256 bits=128/128); Tue, 23 Sep 2025 01:30:14 -0700 (PDT) X-Relaying-Domain: iol.unh.edu Date: Tue, 23 Sep 2025 01:30:14 -0700 (PDT) Message-ID: <68d25a96.050a0220.261040.169eSMTPIN_ADDED_MISSING@mx.google.com> Received: from [172.21.0.2] (unknown [172.18.0.240]) by postal.iol.unh.edu (Postfix) with ESMTP id 2A3D26051830; Tue, 23 Sep 2025 04:30:14 -0400 (EDT) Subject: |SUCCESS| pw156812-156828 [PATCH] [v10,17/17] net/nbl: add nbl devic From: dpdklab@iol.unh.edu To: Test Report Cc: dpdk-test-reports@iol.unh.edu, Stephen Hemminger In-Reply-To: <20250923035402.1759922-18-dimon.zhao@nebula-matrix.com> References: <20250923035402.1759922-18-dimon.zhao@nebula-matrix.com> Content-Type: text/plain X-BeenThere: test-report@dpdk.org X-Mailman-Version: 2.1.29 Precedence: list List-Id: automatic DPDK test reports List-Unsubscribe: , List-Archive: List-Post: List-Help: List-Subscribe: , Errors-To: test-report-bounces@dpdk.org Test-Label: iol-compile-arm64-testing Test-Status: SUCCESS http://dpdk.org/patch/156828 _Testing PASS_ Submitter: Dimon Zhao Date: Tuesday, September 23 2025 03:54:02 DPDK git baseline: Repo:dpdk-next-net Branch: master CommitID:6968ca7465d2c01f953e10d225a644a92222c97f 156812-156828 --> testing pass Upstream job id: Generic-DPDK-Compile-Meson#427595 Test environment and result as below: +------------------------------+--------------------+ | Environment | dpdk_meson_compile | +==============================+====================+ | Red Hat Enterprise Linux 9.5 | PASS | +------------------------------+--------------------+ | Ubuntu 20.04 | PASS | +------------------------------+--------------------+ | Debian GNU/Linux 12 | PASS | +------------------------------+--------------------+ | Fedora Linux 42 | PASS | +------------------------------+--------------------+ | Ubuntu 22.04 | PASS | +------------------------------+--------------------+ | Ubuntu 24.04 | PASS | +------------------------------+--------------------+ | CentOS Stream 9 | PASS | +------------------------------+--------------------+ | CentOS Stream 10 | PASS | +------------------------------+--------------------+ Red Hat Enterprise Linux 9.5 Kernel: 5.4 Compiler: gcc gcc (GCC) 11.5.0 20240719 (Red Hat 11.5.0-2) Ubuntu 20.04 Kernel: 5.15 Compiler: aarch64-linux-gnu-gcc gcc (Ubuntu 9.4.0-1ubuntu1~20.04.2) 9.4.0 Debian GNU/Linux 12 Kernel: 5.4 Compiler: gcc gcc (Debian 12.2.0-14+deb12u1) 12.2.0 Fedora Linux 42 Kernel: 5.4 Compiler: gcc gcc (GCC) 15.2.1 20250808 (Red Hat 15.2.1-1) Ubuntu 22.04 Kernel: 5.4 Compiler: gcc gcc (Ubuntu 11.4.0-1ubuntu1~22.04) 11.4.0 Ubuntu 24.04 Kernel: 5.4 Compiler: gcc gcc (Ubuntu 13.3.0-6ubuntu2~24.04) 13.3.0 CentOS Stream 9 Kernel: 5.4 Compiler: gcc gcc (GCC) 11.5.0 20240719 (Red Hat 11.5.0-11) CentOS Stream 10 Kernel: 5.4 Compiler: gcc gcc (GCC) 14.2.1 20250110 (Red Hat 14.2.1-8) To view detailed results, visit: https://lab.dpdk.org/results/dashboard/patchsets/34119/ UNH-IOL DPDK Community Lab To manage your email subscriptions, visit: https://lab.dpdk.org/results/dashboard/preferences/subscriptions/