From mboxrd@z Thu Jan 1 00:00:00 1970 Return-Path: Received: from mails.dpdk.org (mails.dpdk.org [217.70.189.124]) by inbox.dpdk.org (Postfix) with ESMTP id 425EB46F58 for ; Tue, 23 Sep 2025 11:46:19 +0200 (CEST) Received: from mails.dpdk.org (localhost [127.0.0.1]) by mails.dpdk.org (Postfix) with ESMTP id 1C6294021F; Tue, 23 Sep 2025 11:46:19 +0200 (CEST) Received: from mail-pl1-f225.google.com (mail-pl1-f225.google.com [209.85.214.225]) by mails.dpdk.org (Postfix) with ESMTP id 4E4034021F for ; Tue, 23 Sep 2025 11:46:18 +0200 (CEST) Received: by mail-pl1-f225.google.com with SMTP id d9443c01a7336-267facf9b58so39272675ad.2 for ; Tue, 23 Sep 2025 02:46:18 -0700 (PDT) DKIM-Signature: v=1; a=rsa-sha256; c=relaxed/relaxed; d=iol.unh.edu; s=unh-iol; t=1758620777; x=1759225577; darn=dpdk.org; h=cc:to:from:subject:message-id:date:from:to:cc:subject:date :message-id:reply-to; bh=PRTUyGyw5v6icoAtlIF7h+MHdou5Mjftq6T4hGg8GDo=; b=M/iOgPHHRUGWtj81x8Q9QYEn0Naacv8uiJahvzVZKneyX9L3u8jUKqWxbQH4V2dZ93 IqnBkLrxkAU4mKmszLn6g3qvz9fB7aNnIE4gMRRTLoDM+XHL6oIQ+fduFer/m4NzHgKU RAtHPRcdyj9REHJPFI8VwvtRje9ggHWlLtE4M= X-Google-DKIM-Signature: v=1; a=rsa-sha256; c=relaxed/relaxed; d=1e100.net; s=20230601; t=1758620777; x=1759225577; h=cc:to:from:subject:message-id:date:x-gm-message-state:from:to:cc :subject:date:message-id:reply-to; bh=PRTUyGyw5v6icoAtlIF7h+MHdou5Mjftq6T4hGg8GDo=; b=IbXyCnwjl5sEl3yjW/Kv+QY5kyrIISBGg8MFtDdW7lcdxTMzI1jEKe4Tq5T5yu/0vM H6Ec6sUTDjiViWnDm6SmaSItNqCUN9jpnPk6GDTKgq0rjf/MBBQvglF/nyqSBLxfrBkI 3vjE0RD3REMba5x42ulpFV4LVVAHtCeXsbjeiu9CN2X3dkaM+MftCz1lG1OROne6uKhD N1fpfPtVlQhSeq/pNJabMRwD1GDzozFxPwtPWNYrY0fMRV6eQzU9qIvvP0q/QlFerEGa NpCKxEiQJEK1vIUi3VJxpRRauKdg75EQvLn3PrhHIpza9u/e1NwrlAdSVn63rFPKDiD5 rmUA== X-Gm-Message-State: AOJu0YzN5DEQv25ns92/DcORsWux2Erqv1M8DZOy80+hF5dAy0lPcBsw m4ol91vh4/jrQzriBvRXaagVSrCQB0KFytjZU/GOIzA46sS3X8tLwmFK6A0wTpbkqquI8sSsSYU Or7dtVPSPLGPUHLeoRegv0UOT/DXhqZr7w10WXwebVUKH3YHWkO4BXnj/6JlL X-Gm-Gg: ASbGncsvQ2OCH3eztlyYxhWw39246rYFl9n/MWy7+tpaT31PubfOTAopI3EGfbAyve7 +SHu5swTYc8tZDprXjjt1g455HXEBJEQ4e/UxGR+TDV1mEMRvRGlKXjQWjC3CBJudzZXum2abB6 neA0yr0ra7QfJ1xze3swuDAdxRTDl0U/f3yk3IYwaCS/l4wcMFcv5KJPvT29+eHUHIgVjW4ezBx jw3Edmh3FfHbE/tWsdPKOvxvn5ylERpaJ8wj4+cvAeuT54F33Ok5nOkdLbMJ8IbdECuuvXTzAaY ZSIIx2/7PL1BEmZcA8rV7EIeiEUts/MFdg4VTNrQy9m0J9rX1w== X-Google-Smtp-Source: AGHT+IHqbjg17z3H0/YQ3gmBF79Trz16QLG9dh3G0/NZOh/u1dsNOjkrLZjZjWbMMaGdZyXzILFQ7/LkFO5X X-Received: by 2002:a17:903:292:b0:270:4964:ad82 with SMTP id d9443c01a7336-27cc5bf66fbmr24277425ad.38.1758620777346; Tue, 23 Sep 2025 02:46:17 -0700 (PDT) Received: from postal.iol.unh.edu (postal.iol.unh.edu. [2606:4100:3880:1234::84]) by smtp-relay.gmail.com with ESMTPS id d9443c01a7336-270b028ea86sm5423785ad.20.2025.09.23.02.46.17 (version=TLS1_2 cipher=ECDHE-ECDSA-AES128-GCM-SHA256 bits=128/128); Tue, 23 Sep 2025 02:46:17 -0700 (PDT) X-Relaying-Domain: iol.unh.edu Date: Tue, 23 Sep 2025 02:46:17 -0700 (PDT) Message-ID: <68d26c69.170a0220.162367.5b80SMTPIN_ADDED_MISSING@mx.google.com> Received: from [172.21.0.2] (unknown [172.18.0.240]) by postal.iol.unh.edu (Postfix) with ESMTP id C149260003EA; Tue, 23 Sep 2025 05:46:16 -0400 (EDT) Subject: |SUCCESS| [GIT MASTER] 6968ca7465d2c01f953e10d225a644a92222c97f From: dpdklab@iol.unh.edu To: Test Report Cc: dpdk-test-reports@iol.unh.edu, Stephen Hemminger Content-Type: text/plain X-BeenThere: test-report@dpdk.org X-Mailman-Version: 2.1.29 Precedence: list List-Id: automatic DPDK test reports List-Unsubscribe: , List-Archive: List-Post: List-Help: List-Subscribe: , Errors-To: test-report-bounces@dpdk.org _Testing PASS_ Branch: dpdk-next-net 6968ca7465d2c01f953e10d225a644a92222c97f --> testing pass Upstream job id: Generic-DPDK-Compile-Meson#427651 Test environment and result as below: +------------------------------+--------------------+ | Environment | dpdk_meson_compile | +==============================+====================+ | Red Hat Enterprise Linux 9.5 | PASS | +------------------------------+--------------------+ | Ubuntu 20.04 | PASS | +------------------------------+--------------------+ | Debian GNU/Linux 12 | PASS | +------------------------------+--------------------+ | Fedora Linux 42 | PASS | +------------------------------+--------------------+ | Ubuntu 24.04 | PASS | +------------------------------+--------------------+ | Ubuntu 22.04 | PASS | +------------------------------+--------------------+ | CentOS Stream 10 | PASS | +------------------------------+--------------------+ | CentOS Stream 9 | PASS | +------------------------------+--------------------+ Red Hat Enterprise Linux 9.5 Kernel: 5.4 Compiler: gcc gcc (GCC) 11.5.0 20240719 (Red Hat 11.5.0-2) Ubuntu 20.04 Kernel: 5.15 Compiler: aarch64-linux-gnu-gcc gcc (Ubuntu 9.4.0-1ubuntu1~20.04.2) 9.4.0 Debian GNU/Linux 12 Kernel: 5.4 Compiler: gcc gcc (Debian 12.2.0-14+deb12u1) 12.2.0 Fedora Linux 42 Kernel: 5.4 Compiler: gcc gcc (GCC) 15.2.1 20250808 (Red Hat 15.2.1-1) Ubuntu 24.04 Kernel: 5.4 Compiler: gcc gcc (Ubuntu 13.3.0-6ubuntu2~24.04) 13.3.0 Ubuntu 22.04 Kernel: 5.4 Compiler: gcc gcc (Ubuntu 11.4.0-1ubuntu1~22.04) 11.4.0 CentOS Stream 10 Kernel: 5.4 Compiler: gcc gcc (GCC) 14.2.1 20250110 (Red Hat 14.2.1-8) CentOS Stream 9 Kernel: 5.4 Compiler: gcc gcc (GCC) 11.5.0 20240719 (Red Hat 11.5.0-11) To view detailed results, visit: https://lab.dpdk.org/results/dashboard/tarballs/34967/ UNH-IOL DPDK Community Lab To manage your email subscriptions, visit: https://lab.dpdk.org/results/dashboard/preferences/subscriptions/