From mboxrd@z Thu Jan 1 00:00:00 1970 Return-Path: Received: from mails.dpdk.org (mails.dpdk.org [217.70.189.124]) by inbox.dpdk.org (Postfix) with ESMTP id 7242146F59 for ; Tue, 23 Sep 2025 12:23:41 +0200 (CEST) Received: from mails.dpdk.org (localhost [127.0.0.1]) by mails.dpdk.org (Postfix) with ESMTP id 69D204021F; Tue, 23 Sep 2025 12:23:41 +0200 (CEST) Received: from mail-oo1-f98.google.com (mail-oo1-f98.google.com [209.85.161.98]) by mails.dpdk.org (Postfix) with ESMTP id 548194021F for ; Tue, 23 Sep 2025 12:23:40 +0200 (CEST) Received: by mail-oo1-f98.google.com with SMTP id 006d021491bc7-621a3c43df3so2108204eaf.0 for ; Tue, 23 Sep 2025 03:23:40 -0700 (PDT) DKIM-Signature: v=1; a=rsa-sha256; c=relaxed/relaxed; d=iol.unh.edu; s=unh-iol; t=1758623019; x=1759227819; darn=dpdk.org; h=references:in-reply-to:cc:to:from:subject:message-id:date:from:to :cc:subject:date:message-id:reply-to; bh=RWsFXGHRePCu/ZdZWLy3BrKNcUZB2hj3MJPG1FiYzoc=; b=c+0DfVY8lYWosyN6L9pyWJXnD8ELaEm56NgXsfqgPQpm7SRyzuvNQ6OLmsnZVvIlbo /FSO0xqjjhOjkQFJGRl6BSLlY4GxRiAnmr4PN9m6IOc8vPcLqmPp7uacVGhV3Okn3obM Y+GwgqdVNMqzIptbVWSaxWbnASii+jt+g7CEY= X-Google-DKIM-Signature: v=1; a=rsa-sha256; c=relaxed/relaxed; d=1e100.net; s=20230601; t=1758623019; x=1759227819; h=references:in-reply-to:cc:to:from:subject:message-id:date :x-gm-message-state:from:to:cc:subject:date:message-id:reply-to; bh=RWsFXGHRePCu/ZdZWLy3BrKNcUZB2hj3MJPG1FiYzoc=; b=Hoxaue9UAfltHePsOLska2y/s2l36n6Ei7+znqpjOpCJe0VTkU+o4xeAAkX7zm4qG3 T9g12eiR4dJHvNNNExVF5a13HLFpxn++AacTzhe/6zDIWJzDlYUq2i6vcUJ91vyTxNSb +2DR+lalKlq9EK+XV0K3hj+Qud6NRWya4cNNO0h5gJKct8XC8ZvUWmtbmjlx/jDzPq4i pDCFPAuSiCh/97A0ht80f+53HG98FekxxGkqhnk/m4aRVdp7m9pAqGwjML5BPk8IjwNH kkwTWW9rXf9omlm2fvX1gpYX67wPYl4Nb3e0XFV/G/ecJeQYbxYLOTkEyqR+D4L9B9F2 6M6w== X-Gm-Message-State: AOJu0Yz3A+8Ct9pv5qPkVoiM0FCZwmH7fJ20B9QD9mx/M07KFa44N96P 4sizljh/1tcAFm4DFjpmcQA+q6LH1OkcYk+KsC5LeMoqb4ynNbEihq7nHQBkDdAwJ/1fpIViukK cWVHptnVHoLFJKrGXW9hRqBugAcGnMFaqM4XtLHZF06kh X-Gm-Gg: ASbGncv0rVPYzk/E9Z2FACv/Yv50sSP6Uj2hndGxC8+yu9O4qE05VRh5dZPxqgNoA4Q /HB49/AI1caQOpUuSExp/1dNaPlOF6+dosr0dYKEBZo8tN/+OK39gN0raQwnuZBgU7mDV44PIes 8Jwx84GxeLIjvk22Y72NhdfvH0kyEFNUsgZDoq9p7EHjTaOYKnjPlNB/HdCDbFGs4z+8Gf7+roH GtENokhRBUpLGd20GXpBlD4YlxTp5EgfLfmpWBY4Al9ZC6ClbcRnEiSSYMcOwcyNDYvc+hMXG1T 9A9rrclrBKYjKROHWqSln6W9OS9XktYDAJuWCdIlz8gTA3VYYyGBWaA9Nnik7SGA5rmqy1qD X-Google-Smtp-Source: AGHT+IEV0Rps0U7KabW0VvveKk+Nt2dim7jerruuOtGT+IOQzre3oCk4xpd986tMEK5znBieiHZxyjHdlGHK X-Received: by 2002:a05:6820:608:b0:623:42cb:243 with SMTP id 006d021491bc7-6330ffd04f0mr1135777eaf.4.1758623019406; Tue, 23 Sep 2025 03:23:39 -0700 (PDT) Received: from postal.iol.unh.edu (postal.iol.unh.edu. [132.177.123.84]) by smtp-relay.gmail.com with ESMTPS id 006d021491bc7-625d8b0572fsm601705eaf.4.2025.09.23.03.23.39 (version=TLS1_2 cipher=ECDHE-ECDSA-AES128-GCM-SHA256 bits=128/128); Tue, 23 Sep 2025 03:23:39 -0700 (PDT) X-Relaying-Domain: iol.unh.edu Date: Tue, 23 Sep 2025 03:23:39 -0700 (PDT) Message-ID: <68d2752b.050a0220.476aa.7f2eSMTPIN_ADDED_MISSING@mx.google.com> Received: from [172.21.0.2] (unknown [172.18.0.240]) by postal.iol.unh.edu (Postfix) with ESMTP id 8E2446051830; Tue, 23 Sep 2025 06:23:38 -0400 (EDT) Subject: |SUCCESS| pw156829-156830 [PATCH] [2/2] net/cnxk: fix overrun in dis From: dpdklab@iol.unh.edu To: Test Report Cc: dpdk-test-reports@iol.unh.edu In-Reply-To: <20250923044528.89132-3-stephen@networkplumber.org> References: <20250923044528.89132-3-stephen@networkplumber.org> Content-Type: text/plain X-BeenThere: test-report@dpdk.org X-Mailman-Version: 2.1.29 Precedence: list List-Id: automatic DPDK test reports List-Unsubscribe: , List-Archive: List-Post: List-Help: List-Subscribe: , Errors-To: test-report-bounces@dpdk.org Test-Label: iol-unit-arm64-testing Test-Status: SUCCESS http://dpdk.org/patch/156830 _Testing PASS_ Submitter: Stephen Hemminger Date: Tuesday, September 23 2025 04:45:29 DPDK git baseline: Repo:dpdk-next-net-mrvl Branch: master CommitID:10e386a77550322213dedade38d185c240116713 156829-156830 --> testing pass Upstream job id: Generic-Unit-Test-DPDK#373955 Test environment and result as below: +------------------------------+----------------+------------------------------+---------------------------+--------------+ | Environment | dpdk_unit_test | cryptodev_sw_snow3g_autotest | cryptodev_sw_zuc_autotest | lpm_autotest | +==============================+================+==============================+===========================+==============+ | CentOS Stream 9 | PASS | SKIPPED | SKIPPED | SKIPPED | +------------------------------+----------------+------------------------------+---------------------------+--------------+ | Debian GNU/Linux 12 | PASS | SKIPPED | SKIPPED | SKIPPED | +------------------------------+----------------+------------------------------+---------------------------+--------------+ | Fedora Linux 40 | PASS | SKIPPED | SKIPPED | SKIPPED | +------------------------------+----------------+------------------------------+---------------------------+--------------+ | CentOS Stream 10 | PASS | SKIPPED | SKIPPED | SKIPPED | +------------------------------+----------------+------------------------------+---------------------------+--------------+ | Fedora Linux 41 | PASS | SKIPPED | SKIPPED | SKIPPED | +------------------------------+----------------+------------------------------+---------------------------+--------------+ | Fedora Linux 42 | PASS | SKIPPED | SKIPPED | SKIPPED | +------------------------------+----------------+------------------------------+---------------------------+--------------+ | Ubuntu 22.04 | PASS | SKIPPED | SKIPPED | SKIPPED | +------------------------------+----------------+------------------------------+---------------------------+--------------+ | Red Hat Enterprise Linux 9.5 | PASS | SKIPPED | SKIPPED | SKIPPED | +------------------------------+----------------+------------------------------+---------------------------+--------------+ | Ubuntu 20.04 | PASS | SKIPPED | SKIPPED | PASS | +------------------------------+----------------+------------------------------+---------------------------+--------------+ | Ubuntu 24.04 | PASS | SKIPPED | SKIPPED | SKIPPED | +------------------------------+----------------+------------------------------+---------------------------+--------------+ | Debian 12 (arm) | SKIPPED | PASS | PASS | SKIPPED | +------------------------------+----------------+------------------------------+---------------------------+--------------+ CentOS Stream 9 Kernel: 5.4 Compiler: gcc gcc (GCC) 11.5.0 20240719 (Red Hat 11.5.0-11) Debian GNU/Linux 12 Kernel: 5.4 Compiler: gcc gcc (Debian 12.2.0-14+deb12u1) 12.2.0 Fedora Linux 40 Kernel: 5.4 Compiler: gcc gcc (GCC) 14.2.1 20240912 (Red Hat 14.2.1-3) CentOS Stream 10 Kernel: 5.4 Compiler: gcc gcc (GCC) 14.2.1 20250110 (Red Hat 14.2.1-8) Fedora Linux 41 Kernel: 5.4 Compiler: gcc gcc (GCC) 14.3.1 20250523 (Red Hat 14.3.1-1) Fedora Linux 42 Kernel: 5.4 Compiler: gcc gcc (GCC) 15.2.1 20250808 (Red Hat 15.2.1-1) Ubuntu 22.04 Kernel: 5.15 Compiler: gcc gcc (Ubuntu 11.4.0-1ubuntu1~22.04.2) 11.4.0 Red Hat Enterprise Linux 9.5 Kernel: 5.4 Compiler: gcc gcc (GCC) 11.5.0 20240719 (Red Hat 11.5.0-2) Ubuntu 20.04 Kernel: 5.4 Compiler: gcc gcc (Ubuntu 9.4.0-1ubuntu1~20.04.2) 9.4.0 Ubuntu 24.04 Kernel: 5.4 Compiler: gcc gcc (Ubuntu 13.3.0-6ubuntu2~24.04) 13.3.0 Debian 12 (arm) Kernel: Depends on container host Compiler: gcc (Debian 12.2.0-14) 12.2.0 To view detailed results, visit: https://lab.dpdk.org/results/dashboard/patchsets/34120/ UNH-IOL DPDK Community Lab To manage your email subscriptions, visit: https://lab.dpdk.org/results/dashboard/preferences/subscriptions/