From mboxrd@z Thu Jan 1 00:00:00 1970 Return-Path: Received: from mails.dpdk.org (mails.dpdk.org [217.70.189.124]) by inbox.dpdk.org (Postfix) with ESMTP id 7B7AA46F59 for ; Tue, 23 Sep 2025 12:23:50 +0200 (CEST) Received: from mails.dpdk.org (localhost [127.0.0.1]) by mails.dpdk.org (Postfix) with ESMTP id 75D9C4021F; Tue, 23 Sep 2025 12:23:50 +0200 (CEST) Received: from mail-yb1-f226.google.com (mail-yb1-f226.google.com [209.85.219.226]) by mails.dpdk.org (Postfix) with ESMTP id 9A9EF4021F for ; Tue, 23 Sep 2025 12:23:49 +0200 (CEST) Received: by mail-yb1-f226.google.com with SMTP id 3f1490d57ef6-e94d678e116so5852469276.2 for ; Tue, 23 Sep 2025 03:23:49 -0700 (PDT) DKIM-Signature: v=1; a=rsa-sha256; c=relaxed/relaxed; d=iol.unh.edu; s=unh-iol; t=1758623029; x=1759227829; darn=dpdk.org; h=references:in-reply-to:cc:to:from:subject:message-id:date:from:to :cc:subject:date:message-id:reply-to; bh=D6qwFQDcVbFZMG/iHb2/DSaxHXBi6LrP5rT0uUd6Rh4=; b=SPVoWnUvjXBMKtEwHMCNSJcZA/gyDJX9hlTQN27kKq55iTIha8ahJWOHD3YKeRXT9A qnqiMYkLImARvJTx24Ixi16zSlRq7V4FWhiETQoJcu2jKRoUZ5jfPG8V7sInFdseM8TH TGkzPwwydxuJZqTFoL5gSrX/aZ0Fi9nde+4G8= X-Google-DKIM-Signature: v=1; a=rsa-sha256; c=relaxed/relaxed; d=1e100.net; s=20230601; t=1758623029; x=1759227829; h=references:in-reply-to:cc:to:from:subject:message-id:date :x-gm-message-state:from:to:cc:subject:date:message-id:reply-to; bh=D6qwFQDcVbFZMG/iHb2/DSaxHXBi6LrP5rT0uUd6Rh4=; b=XWSJ3So/h7MwOI8TC3trUR2X9YyseMBXwZZyhf1lRFIzhGmNGpOfruP0lnnrE/glbh 3ZkOOovybc9jMoLD/33oeGWiVz5X4xnqq0zoC9TR72nx3c5iyHfKWe8ZchCci33lEidr JpN5j0VvnWV+18voz/2HDm3arkcm40wZX5NSwbhRuqE3CQTA7bLOJwBUyFVnh8fFgS88 WAlup4s1mgf3+CBXAouvSZhL1zirr/lXawlX429hA8l1vg4e0wWtnR5eEw+0I/IxQ7FU PmJ8Kq+j46duo1VZq6nZ2vJoAyEcYSHfvQma1R9c/WysKUxcUJgERplorcMeAa5Z7pz7 GH8g== X-Gm-Message-State: AOJu0YwuuC+XNJfvUYhO74We5zrceUdZa9wFhf6m9/4bCIVORkifg9XL mDYlcZRwAhEwSuP467pRNOc6R9ayCYRT7QU++qXi2vE4lVHf9HjEqJ5kjC2e1pU9/DzsAKBCIBP Nu04KbW4Y6d5Db++TkuwI5u13arlxtNmCzZHBvbDpYD50EdDuNfiMkF2wkMxo X-Gm-Gg: ASbGncuoNAaUgvovfAbU9b2/rJW6TZgwpoExVW0TGZa3hgTaD4AZgMQCgYwpN+VPTKw E0cdTy0Ch5iyO/Ot/M3k7Z/EvS3laZkI3dTT4S7EVCFQvUY+i7T2fGlGrnXsDyN71ypI48Adr7P 7xFpus7f7rkLEM/7QBucI3t8rZhQebS0I3eOdNx1EPYoiEGzvSxsmiyN6mP23fddzHdM7fPqit1 gjWkD+j6uw/2wOPEuqsEhUb6IxCc/oNct2nKoM0bQ1CAUoqNKvI/Uq7GxwD5v+njxbki2/+A5el cXRdyUxtd2kd6gaDHpVcSZdTIRzqZcr3k2qw8q5pgFIZkS0SpQ== X-Google-Smtp-Source: AGHT+IF+fez9ySScy13aWGt1x1z1Nsfufap9RtnhrTeS3wPQO/DfKwebLbZRYWzm1uDhjfdxaU3r2WqzqW3+ X-Received: by 2002:a05:6902:4208:b0:ead:b1cd:826d with SMTP id 3f1490d57ef6-eb32e25037cmr1454421276.20.1758623028962; Tue, 23 Sep 2025 03:23:48 -0700 (PDT) Received: from postal.iol.unh.edu (postal.iol.unh.edu. [2606:4100:3880:1234::84]) by smtp-relay.gmail.com with ESMTPS id 3f1490d57ef6-ea5ce736b06sm744132276.2.2025.09.23.03.23.48 (version=TLS1_2 cipher=ECDHE-ECDSA-AES128-GCM-SHA256 bits=128/128); Tue, 23 Sep 2025 03:23:48 -0700 (PDT) X-Relaying-Domain: iol.unh.edu Date: Tue, 23 Sep 2025 03:23:48 -0700 (PDT) Message-ID: <68d27534.050a0220.8b213.0192SMTPIN_ADDED_MISSING@mx.google.com> Received: from [172.21.0.2] (unknown [172.18.0.240]) by postal.iol.unh.edu (Postfix) with ESMTP id 7814F6051830; Tue, 23 Sep 2025 06:23:48 -0400 (EDT) Subject: |SUCCESS| pw156829-156830 [PATCH] [2/2] net/cnxk: fix overrun in dis From: dpdklab@iol.unh.edu To: Test Report Cc: dpdk-test-reports@iol.unh.edu In-Reply-To: <20250923044528.89132-3-stephen@networkplumber.org> References: <20250923044528.89132-3-stephen@networkplumber.org> Content-Type: text/plain X-BeenThere: test-report@dpdk.org X-Mailman-Version: 2.1.29 Precedence: list List-Id: automatic DPDK test reports List-Unsubscribe: , List-Archive: List-Post: List-Help: List-Subscribe: , Errors-To: test-report-bounces@dpdk.org Test-Label: iol-unit-arm64-testing Test-Status: SUCCESS http://dpdk.org/patch/156830 _Testing PASS_ Submitter: Stephen Hemminger Date: Tuesday, September 23 2025 04:45:29 DPDK git baseline: Repo:dpdk-next-net-mrvl Branch: master CommitID:10e386a77550322213dedade38d185c240116713 156829-156830 --> testing pass Upstream job id: Generic-Unit-Test-DPDK#373946 Test environment and result as below: +------------------------------+----------------+------------------------------+---------------------------+--------------+ | Environment | dpdk_unit_test | cryptodev_sw_snow3g_autotest | cryptodev_sw_zuc_autotest | lpm_autotest | +==============================+================+==============================+===========================+==============+ | CentOS Stream 9 | PASS | SKIPPED | SKIPPED | SKIPPED | +------------------------------+----------------+------------------------------+---------------------------+--------------+ | Debian GNU/Linux 12 | PASS | SKIPPED | SKIPPED | SKIPPED | +------------------------------+----------------+------------------------------+---------------------------+--------------+ | Fedora Linux 40 | PASS | SKIPPED | SKIPPED | SKIPPED | +------------------------------+----------------+------------------------------+---------------------------+--------------+ | CentOS Stream 10 | PASS | SKIPPED | SKIPPED | SKIPPED | +------------------------------+----------------+------------------------------+---------------------------+--------------+ | Fedora Linux 41 | PASS | SKIPPED | SKIPPED | SKIPPED | +------------------------------+----------------+------------------------------+---------------------------+--------------+ | Fedora Linux 42 | PASS | SKIPPED | SKIPPED | SKIPPED | +------------------------------+----------------+------------------------------+---------------------------+--------------+ | Ubuntu 22.04 | PASS | SKIPPED | SKIPPED | SKIPPED | +------------------------------+----------------+------------------------------+---------------------------+--------------+ | Red Hat Enterprise Linux 9.5 | PASS | SKIPPED | SKIPPED | SKIPPED | +------------------------------+----------------+------------------------------+---------------------------+--------------+ | Ubuntu 20.04 | PASS | SKIPPED | SKIPPED | PASS | +------------------------------+----------------+------------------------------+---------------------------+--------------+ | Ubuntu 24.04 | PASS | SKIPPED | SKIPPED | SKIPPED | +------------------------------+----------------+------------------------------+---------------------------+--------------+ | Debian 12 (arm) | SKIPPED | PASS | PASS | SKIPPED | +------------------------------+----------------+------------------------------+---------------------------+--------------+ CentOS Stream 9 Kernel: 5.4 Compiler: gcc gcc (GCC) 11.5.0 20240719 (Red Hat 11.5.0-11) Debian GNU/Linux 12 Kernel: 5.4 Compiler: gcc gcc (Debian 12.2.0-14+deb12u1) 12.2.0 Fedora Linux 40 Kernel: 5.4 Compiler: gcc gcc (GCC) 14.2.1 20240912 (Red Hat 14.2.1-3) CentOS Stream 10 Kernel: 5.4 Compiler: gcc gcc (GCC) 14.2.1 20250110 (Red Hat 14.2.1-8) Fedora Linux 41 Kernel: 5.4 Compiler: gcc gcc (GCC) 14.3.1 20250523 (Red Hat 14.3.1-1) Fedora Linux 42 Kernel: 5.4 Compiler: gcc gcc (GCC) 15.2.1 20250808 (Red Hat 15.2.1-1) Ubuntu 22.04 Kernel: 5.15 Compiler: gcc gcc (Ubuntu 11.4.0-1ubuntu1~22.04.2) 11.4.0 Red Hat Enterprise Linux 9.5 Kernel: 5.4 Compiler: gcc gcc (GCC) 11.5.0 20240719 (Red Hat 11.5.0-2) Ubuntu 20.04 Kernel: 5.4 Compiler: gcc gcc (Ubuntu 9.4.0-1ubuntu1~20.04.2) 9.4.0 Ubuntu 24.04 Kernel: 5.4 Compiler: gcc gcc (Ubuntu 13.3.0-6ubuntu2~24.04) 13.3.0 Debian 12 (arm) Kernel: Depends on container host Compiler: gcc (Debian 12.2.0-14) 12.2.0 To view detailed results, visit: https://lab.dpdk.org/results/dashboard/patchsets/34120/ UNH-IOL DPDK Community Lab To manage your email subscriptions, visit: https://lab.dpdk.org/results/dashboard/preferences/subscriptions/