From mboxrd@z Thu Jan 1 00:00:00 1970 Return-Path: Received: from mails.dpdk.org (mails.dpdk.org [217.70.189.124]) by inbox.dpdk.org (Postfix) with ESMTP id 4959D46F59 for ; Tue, 23 Sep 2025 12:40:00 +0200 (CEST) Received: from mails.dpdk.org (localhost [127.0.0.1]) by mails.dpdk.org (Postfix) with ESMTP id 4442B4021F; Tue, 23 Sep 2025 12:40:00 +0200 (CEST) Received: from mail-il1-f228.google.com (mail-il1-f228.google.com [209.85.166.228]) by mails.dpdk.org (Postfix) with ESMTP id 58B18402CB for ; Tue, 23 Sep 2025 12:39:59 +0200 (CEST) Received: by mail-il1-f228.google.com with SMTP id e9e14a558f8ab-42571b8abbaso28059575ab.0 for ; Tue, 23 Sep 2025 03:39:59 -0700 (PDT) DKIM-Signature: v=1; a=rsa-sha256; c=relaxed/relaxed; d=iol.unh.edu; s=unh-iol; t=1758623998; x=1759228798; darn=dpdk.org; h=references:in-reply-to:cc:to:from:subject:message-id:date:from:to :cc:subject:date:message-id:reply-to; bh=FyiQRv/bach+f2Xho3A7EDP/L9Rz/KbsAeP36D5aERs=; b=W5g53B1zh9oAzksRtLxa0NUyQBOnZvOGXja1MpdDjVYtOYTZkvUnCEowFPkbU4ULpo 60/nlz8YDrAyc/QOERq9dZF8btzcdm3jQ02FsXRDSWePs9XXdYIP5UBk1Q4TeNjZih9Y aOGLgz/hzYXVe8xhhd6mlydU0BZTPGKdZxBZ4= X-Google-DKIM-Signature: v=1; a=rsa-sha256; c=relaxed/relaxed; d=1e100.net; s=20230601; t=1758623998; x=1759228798; h=references:in-reply-to:cc:to:from:subject:message-id:date :x-gm-message-state:from:to:cc:subject:date:message-id:reply-to; bh=FyiQRv/bach+f2Xho3A7EDP/L9Rz/KbsAeP36D5aERs=; b=mDWtD5RIm3STCbgR5qjbXtrIdkTBXnu+PQsAgN3EdTDeo8HWlXQDNgD5KFLIKjXp/J tPgVqSGHd2/uALSxZcmX0mEfiDhO/HB8YcS5rmlnyGSgyWmNMFz+6zhSaiJasoB2MljI 1iFNauqj1fGJx4I3WB6zGb2S2zWAR20YybdMVhCTx/EiusGw56miKnPq6mA1dotZ/M8m hlx1zko8QKQKBlywJmQelErsl0h3wWhApWKk9bjZsT6erf+RANz/KdxmpaaBZpertfzP ltuTZOI5bg+Mk4shs3eTGLkU5nm2iJHVuJBE2m2skkxvCt2zmoL/4PDJXoW+r//pQjwr CRVQ== X-Gm-Message-State: AOJu0Yy7JiXKFn/Ix9PEBz4BOo9Bk4QLTvXWSbMrrfKGOU+71eDXJ6Xz 6xA3Ulz9rUJYsr6lDpDGgvhO+kkKHFWZ4J+UurX0ODs78rQ6U9PDjUWzUTdTDq3tTkGQqTDHWHf xJf58GXrxosrFRsYy3fBNd+d6mZjmh2a4lo5HZS0qjB4U X-Gm-Gg: ASbGnct8HsIgUH4nVypNA+V52vrX2J2FxiaXbcr53VeX4DBkYLPjjCqGNOicvEjNsrV e560d7ZFsX0wR3573/YIuupmcWMrXPReYSzvIBYqwwOltZWBoDdJ8XIneOUFWLHRPfcAYvP7lgN vAkc6ALy9L9LNuDzOwhbVjh6dV+lklIHrDdG1y5UhfbsLWRfiypjIdeDsFP5cEpMbhAq6y1ljAY o4V7qLm43enJ6R9XzagIHc/DbARe4gVIyYt7NzEgSzesMs0joomy1cwdP8MeLnxZj1LV5qLXRcs eWs9+XYsBcSf1zfRfhI37pTtVGr8NzlNBJUs/Fn0UfrhrbWrpVXsaD+TYNy/XTt9GzaVJoti X-Google-Smtp-Source: AGHT+IHSlyzzyfpzf0kdSThQo7SyaV2Rhyc88PeQ3Ggu6quo9urrRiV2JwAF6N0QkpUsAx4ih6sNWqnJpLIv X-Received: by 2002:a05:6e02:1c09:b0:424:8013:c7dd with SMTP id e9e14a558f8ab-42581e170b5mr28755535ab.1.1758623997623; Tue, 23 Sep 2025 03:39:57 -0700 (PDT) Received: from postal.iol.unh.edu (postal.iol.unh.edu. [132.177.123.84]) by smtp-relay.gmail.com with ESMTPS id e9e14a558f8ab-424868dd707sm5828285ab.46.2025.09.23.03.39.57 (version=TLS1_2 cipher=ECDHE-ECDSA-AES128-GCM-SHA256 bits=128/128); Tue, 23 Sep 2025 03:39:57 -0700 (PDT) X-Relaying-Domain: iol.unh.edu Date: Tue, 23 Sep 2025 03:39:57 -0700 (PDT) Message-ID: <68d278fd.050a0220.ccc85.7f2eSMTPIN_ADDED_MISSING@mx.google.com> Received: from [172.21.0.2] (unknown [172.18.0.240]) by postal.iol.unh.edu (Postfix) with ESMTP id 3D3E76051830; Tue, 23 Sep 2025 06:39:57 -0400 (EDT) Subject: |SUCCESS| pw156831-156833 [PATCH] [v3,4/4] net/cpfl: add cpchnl get From: dpdklab@iol.unh.edu To: Test Report Cc: dpdk-test-reports@iol.unh.edu, Bruce Richardson In-Reply-To: <20250923125455.1484992-5-praveen.shetty@intel.com> References: <20250923125455.1484992-5-praveen.shetty@intel.com> Content-Type: text/plain X-BeenThere: test-report@dpdk.org X-Mailman-Version: 2.1.29 Precedence: list List-Id: automatic DPDK test reports List-Unsubscribe: , List-Archive: List-Post: List-Help: List-Subscribe: , Errors-To: test-report-bounces@dpdk.org Test-Label: iol-unit-amd64-testing Test-Status: SUCCESS http://dpdk.org/patch/156833 _Testing PASS_ Submitter: Shetty, Praveen Date: Tuesday, September 23 2025 12:54:55 DPDK git baseline: Repo:dpdk-next-net-intel Branch: master CommitID:4159ea62922ce41566c7bab44655ad78bee85458 156831-156833 --> testing pass Upstream job id: Generic-VM-Unit-Test-DPDK#31310 Test environment and result as below: +-------------------------------+----------------+ | Environment | dpdk_unit_test | +===============================+================+ | Fedora Linux 40 | PASS | +-------------------------------+----------------+ | Fedora Linux 42 | PASS | +-------------------------------+----------------+ | Fedora Linux 41 | PASS | +-------------------------------+----------------+ | CentOS Stream 9 | PASS | +-------------------------------+----------------+ | Debian GNU/Linux 12 | PASS | +-------------------------------+----------------+ | Red Hat Enterprise Linux 8.10 | PASS | +-------------------------------+----------------+ | CentOS Stream 10 | PASS | +-------------------------------+----------------+ | Ubuntu 20.04 | PASS | +-------------------------------+----------------+ | Red Hat Enterprise Linux 9.5 | PASS | +-------------------------------+----------------+ | Ubuntu 24.04 | PASS | +-------------------------------+----------------+ | Ubuntu 22.04 | PASS | +-------------------------------+----------------+ | Windows Server 2022 | PASS | +-------------------------------+----------------+ Fedora Linux 40 Kernel: 5.15 Compiler: gcc gcc (GCC) 14.2.1 20240912 (Red Hat 14.2.1-3) Fedora Linux 42 Kernel: 5.15 Compiler: clang gcc (GCC) 15.2.1 20250808 (Red Hat 15.2.1-1) Fedora Linux 41 Kernel: 5.15 Compiler: clang gcc (GCC) 14.3.1 20250523 (Red Hat 14.3.1-1) CentOS Stream 9 Kernel: 5.15 Compiler: gcc gcc (GCC) 11.5.0 20240719 (Red Hat 11.5.0-11) Debian GNU/Linux 12 Kernel: 5.15 Compiler: gcc gcc (Debian 12.2.0-14+deb12u1) 12.2.0 Red Hat Enterprise Linux 8.10 Kernel: 5.15 Compiler: gcc gcc (GCC) 8.5.0 20210514 (Red Hat 8.5.0-22) CentOS Stream 10 Kernel: 5.15 Compiler: gcc gcc (GCC) 14.2.1 20250110 (Red Hat 14.2.1-8) Ubuntu 20.04 Kernel: 5.15 Compiler: gcc gcc (Ubuntu 9.4.0-1ubuntu1~20.04.2) 9.4.0 Red Hat Enterprise Linux 9.5 Kernel: 5.15 Compiler: gcc gcc (GCC) 11.5.0 20240719 (Red Hat 11.5.0-2) Ubuntu 24.04 Kernel: 5.15 Compiler: gcc gcc (Ubuntu 13.3.0-6ubuntu2~24.04) 13.3.0 Ubuntu 22.04 Kernel: 5.15 Compiler: gcc gcc (Ubuntu 11.4.0-1ubuntu1~22.04) 11.4.0 Windows Server 2022 Kernel: 10.0.20348.2031 Compiler: clang 15.0.7, gcc 14.1.0 (MinGW), and MSVC VS 19.39.33521 To view detailed results, visit: https://lab.dpdk.org/results/dashboard/patchsets/34121/ UNH-IOL DPDK Community Lab To manage your email subscriptions, visit: https://lab.dpdk.org/results/dashboard/preferences/subscriptions/