From mboxrd@z Thu Jan 1 00:00:00 1970 Return-Path: Received: from mails.dpdk.org (mails.dpdk.org [217.70.189.124]) by inbox.dpdk.org (Postfix) with ESMTP id CF47446F59 for ; Tue, 23 Sep 2025 12:44:26 +0200 (CEST) Received: from mails.dpdk.org (localhost [127.0.0.1]) by mails.dpdk.org (Postfix) with ESMTP id C75594021F; Tue, 23 Sep 2025 12:44:26 +0200 (CEST) Received: from mail-ua1-f100.google.com (mail-ua1-f100.google.com [209.85.222.100]) by mails.dpdk.org (Postfix) with ESMTP id E6C154021F for ; Tue, 23 Sep 2025 12:44:25 +0200 (CEST) Received: by mail-ua1-f100.google.com with SMTP id a1e0cc1a2514c-8eafd5a7a23so1850273241.1 for ; Tue, 23 Sep 2025 03:44:25 -0700 (PDT) DKIM-Signature: v=1; a=rsa-sha256; c=relaxed/relaxed; d=iol.unh.edu; s=unh-iol; t=1758624265; x=1759229065; darn=dpdk.org; h=references:in-reply-to:cc:to:from:subject:message-id:date:from:to :cc:subject:date:message-id:reply-to; bh=vQikM4fiPVCnar0gi5naaoioSEHMCqkT48gast+jSUo=; b=GrZK3tGA1MA5khLL4srAgZaaA/VWXvecri+9nNfr2OO4dJPTS6EPTJk8Lq7E5h1PZm 1CCIL+PE5R173SYvozvsCtdNBNUx5Edo0Ifhq6L5yAzA4UVQA12wxJ3Pje1NzNrUc5ag 4zs1K+ZvEwMQ6IGd/DEGdibSzF/y33gQCYi+I= X-Google-DKIM-Signature: v=1; a=rsa-sha256; c=relaxed/relaxed; d=1e100.net; s=20230601; t=1758624265; x=1759229065; h=references:in-reply-to:cc:to:from:subject:message-id:date :x-gm-message-state:from:to:cc:subject:date:message-id:reply-to; bh=vQikM4fiPVCnar0gi5naaoioSEHMCqkT48gast+jSUo=; b=VoIzmiNy6CqfxSI8iEt3SQ5XvFzky0LjWOixDR8caAd3jRdh0BhqlzvXxRZ7RH4YY5 NIRZsKRQL9fF76x4hDn6l6+7ifIlBtpUbu4i6tIsL7sW+Us6l7GtNZmGXyJU+yj/JBh8 nDX76/DoJvlPkDJDDNhqA6hpTrv8B0KCkvt4P8Qqa4foVwdRyRdIMtIIZYyW5b6B8IIB 6Lx3HB7VvUTC773hrswqEmTvu9Vkajn71YT/AkVMuk8tUVkl2csZtdo4qoEjvANvTw5+ oshnE92d2UtR+FLjzK5eF7OIQgOFy1gNpn0phkAg1ATDZV0xhAFn6LEi50z63hFi66rm jO8A== X-Gm-Message-State: AOJu0YxECA0i1VrAcSl2ZXAG9ZesSuc+RBFrqkDlBdN5ksqwIqyACX8x vc61U3c3KfTNPucSG7oDZg3RNYvv1edKLhS6YNeLE8JI6sdh0YKPaYkMk2Lxx2d7xYMdyW9dGpA uPbnA4i39baNgaZ0EQW78284QDmmGnp3KZp0+0RX1/L7I X-Gm-Gg: ASbGncsXsMurtKo6Uuk5tRikF/c9PHyKiT1pm3Qiu5zfTUbfA0GYZENXCGj5m2wMCLp fVa9kPdo9sfrJD7KZb/wvPpqL+7z4xOGGEM1P78EQoDZ9VZQ0ZACm56uJWR2Uc4m8lRDZDtD0gv rFpEYu/J0T0i4j+rQVsR8DkqHiRU2ZfsrJnKPPMohv8kP756CM2xFpswpvTq+t/ITbWnJGmojNJ CPBrSsAoj5f4VjNANUSk8nFHgLhEpf52EokFKDujnagibB3dewspaFTxyq5tmOKWaD60x4ewUwj h1pw0C/hVA8wa2JYFBYd/JtF714RLXsC93QQwIFMZm13xiWBA77zCiB4LLCjpRW6Oyal1o6x X-Google-Smtp-Source: AGHT+IEYMBVDX3DLxh7RkGswoStVNCIFlgMj0en2Y6E1YQmer5AHMCGKfAhTtQ7iKVpDwcPJcwECq2dqGcvY X-Received: by 2002:a05:6102:510b:b0:51c:4443:16c7 with SMTP id ada2fe7eead31-5a5abec46admr586686137.6.1758624265240; Tue, 23 Sep 2025 03:44:25 -0700 (PDT) Received: from postal.iol.unh.edu (postal.iol.unh.edu. [132.177.123.84]) by smtp-relay.gmail.com with ESMTPS id ada2fe7eead31-583e694ff73sm896723137.3.2025.09.23.03.44.25 (version=TLS1_2 cipher=ECDHE-ECDSA-AES128-GCM-SHA256 bits=128/128); Tue, 23 Sep 2025 03:44:25 -0700 (PDT) X-Relaying-Domain: iol.unh.edu Date: Tue, 23 Sep 2025 03:44:25 -0700 (PDT) Message-ID: <68d27a09.050a0220.2c9d38.d1bbSMTPIN_ADDED_MISSING@mx.google.com> Received: from [172.21.0.2] (unknown [172.18.0.240]) by postal.iol.unh.edu (Postfix) with ESMTP id DDFCA6051830; Tue, 23 Sep 2025 06:44:24 -0400 (EDT) Subject: |SUCCESS| pw156831-156833 [PATCH] [v3,4/4] net/cpfl: add cpchnl get From: dpdklab@iol.unh.edu To: Test Report Cc: dpdk-test-reports@iol.unh.edu, Bruce Richardson In-Reply-To: <20250923125455.1484992-5-praveen.shetty@intel.com> References: <20250923125455.1484992-5-praveen.shetty@intel.com> Content-Type: text/plain X-BeenThere: test-report@dpdk.org X-Mailman-Version: 2.1.29 Precedence: list List-Id: automatic DPDK test reports List-Unsubscribe: , List-Archive: List-Post: List-Help: List-Subscribe: , Errors-To: test-report-bounces@dpdk.org Test-Label: iol-unit-amd64-testing Test-Status: SUCCESS http://dpdk.org/patch/156833 _Testing PASS_ Submitter: Shetty, Praveen Date: Tuesday, September 23 2025 12:54:55 DPDK git baseline: Repo:dpdk-next-net-intel Branch: master CommitID:4159ea62922ce41566c7bab44655ad78bee85458 156831-156833 --> testing pass Upstream job id: Generic-VM-Unit-Test-DPDK#31311 Test environment and result as below: +-------------------------------+----------------+ | Environment | dpdk_unit_test | +===============================+================+ | Fedora Linux 40 | PASS | +-------------------------------+----------------+ | Fedora Linux 42 | PASS | +-------------------------------+----------------+ | Fedora Linux 41 | PASS | +-------------------------------+----------------+ | CentOS Stream 9 | PASS | +-------------------------------+----------------+ | Debian GNU/Linux 12 | PASS | +-------------------------------+----------------+ | Red Hat Enterprise Linux 8.10 | PASS | +-------------------------------+----------------+ | CentOS Stream 10 | PASS | +-------------------------------+----------------+ | Ubuntu 20.04 | PASS | +-------------------------------+----------------+ | Red Hat Enterprise Linux 9.5 | PASS | +-------------------------------+----------------+ | Ubuntu 24.04 | PASS | +-------------------------------+----------------+ | Ubuntu 22.04 | PASS | +-------------------------------+----------------+ | Windows Server 2022 | PASS | +-------------------------------+----------------+ Fedora Linux 40 Kernel: 5.15 Compiler: gcc gcc (GCC) 14.2.1 20240912 (Red Hat 14.2.1-3) Fedora Linux 42 Kernel: 5.15 Compiler: clang gcc (GCC) 15.2.1 20250808 (Red Hat 15.2.1-1) Fedora Linux 41 Kernel: 5.15 Compiler: clang gcc (GCC) 14.3.1 20250523 (Red Hat 14.3.1-1) CentOS Stream 9 Kernel: 5.15 Compiler: gcc gcc (GCC) 11.5.0 20240719 (Red Hat 11.5.0-11) Debian GNU/Linux 12 Kernel: 5.15 Compiler: gcc gcc (Debian 12.2.0-14+deb12u1) 12.2.0 Red Hat Enterprise Linux 8.10 Kernel: 5.15 Compiler: gcc gcc (GCC) 8.5.0 20210514 (Red Hat 8.5.0-22) CentOS Stream 10 Kernel: 5.15 Compiler: gcc gcc (GCC) 14.2.1 20250110 (Red Hat 14.2.1-8) Ubuntu 20.04 Kernel: 5.15 Compiler: gcc gcc (Ubuntu 9.4.0-1ubuntu1~20.04.2) 9.4.0 Red Hat Enterprise Linux 9.5 Kernel: 5.15 Compiler: gcc gcc (GCC) 11.5.0 20240719 (Red Hat 11.5.0-2) Ubuntu 24.04 Kernel: 5.15 Compiler: gcc gcc (Ubuntu 13.3.0-6ubuntu2~24.04) 13.3.0 Ubuntu 22.04 Kernel: 5.15 Compiler: gcc gcc (Ubuntu 11.4.0-1ubuntu1~22.04) 11.4.0 Windows Server 2022 Kernel: 10.0.20348.2031 Compiler: clang 15.0.7, gcc 14.1.0 (MinGW), and MSVC VS 19.39.33521 To view detailed results, visit: https://lab.dpdk.org/results/dashboard/patchsets/34121/ UNH-IOL DPDK Community Lab To manage your email subscriptions, visit: https://lab.dpdk.org/results/dashboard/preferences/subscriptions/