From mboxrd@z Thu Jan 1 00:00:00 1970 Return-Path: Received: from mails.dpdk.org (mails.dpdk.org [217.70.189.124]) by inbox.dpdk.org (Postfix) with ESMTP id A4CCF46F5A for ; Tue, 23 Sep 2025 15:12:54 +0200 (CEST) Received: from mails.dpdk.org (localhost [127.0.0.1]) by mails.dpdk.org (Postfix) with ESMTP id 89F9C402CB; Tue, 23 Sep 2025 15:12:54 +0200 (CEST) Received: from mail-il1-f226.google.com (mail-il1-f226.google.com [209.85.166.226]) by mails.dpdk.org (Postfix) with ESMTP id 01E02402CB for ; Tue, 23 Sep 2025 15:12:52 +0200 (CEST) Received: by mail-il1-f226.google.com with SMTP id e9e14a558f8ab-4256f0fac67so31096365ab.2 for ; Tue, 23 Sep 2025 06:12:52 -0700 (PDT) DKIM-Signature: v=1; a=rsa-sha256; c=relaxed/relaxed; d=iol.unh.edu; s=unh-iol; t=1758633172; x=1759237972; darn=dpdk.org; h=references:in-reply-to:cc:to:from:subject:message-id:date:from:to :cc:subject:date:message-id:reply-to; bh=jxlBqgtUvK7e7OmcwkSulvlze5YcTz5+rDuBnQydhtY=; b=iu2yBAxF0ON6i8fJYEJ/6UpMLT2u3ZDYygsqDpdnGkQX1e5dSfv79pmg4BRFaZQaSK esTdXcL+oQYKyz+aTTi/H4OBvR/ffnQA6uSGbRgZkjdNT3glHvguVIZeqUuYujv/DWYE Lz0/R1IaXzcpreUPlQD7O7J5F2XeezQnB3xVk= X-Google-DKIM-Signature: v=1; a=rsa-sha256; c=relaxed/relaxed; d=1e100.net; s=20230601; t=1758633172; x=1759237972; h=references:in-reply-to:cc:to:from:subject:message-id:date :x-gm-message-state:from:to:cc:subject:date:message-id:reply-to; bh=jxlBqgtUvK7e7OmcwkSulvlze5YcTz5+rDuBnQydhtY=; b=lSPStTRfM+XueEQ75VqktV7feyjHHBTEQ/swinES9xze/+e8mCQd6ldqnPOuod93HY ljkO17LM8H6l+RBYnd3YWe/5A911lUBE1pcWh18OUeB71lbRKAsSqvOIspTYyeWXCenz uJfZOPnMRqZTZYf9EOVu94loKpMLL0zO99ugRXsluROw73QqM9wFuIxtCh139tchLAxc 3JrKwPcPbvBa3kbC4NGtxsdyo3MK1FsJ2U2BdUldbWPVlJBCAP4Mje++Fr/afiWg5gKo Yvdg/7tlMDDMuE42akITV7/LbcR61SfjlcpXkzt/Dj9++cv8EZX+LA2VWYWgZ/1a/TWi 19oQ== X-Gm-Message-State: AOJu0Yyy9FwOzUVm9ox/ucPNeY2StHBUVCZbY+g8kbeY1b3+DOBTGjl4 4ZP1I/K9/D7ZuQKPKL3sSCI02ai6f3prU7KMlp8TpTzYrDzriBRSSjo9srBBWMCHaUpIzgIo9+0 BI6jfqLboa7PbW9wRuUCy/Yx/uiNCamTMFLMzHBA8Yh0i X-Gm-Gg: ASbGncso+g6Sa/6TMIyy0y7MTO4s3fH8u3UD9F1ZXYoVGEtVq+ugHpuhbyI3fu2+A/f NdxiElRDxpNyHVFf0/6ModPwBgbrpH4O0UHz01jhNffoAgLwypIx4M88urETedy4N6mZtBlXRn/ D0xzmE1MfoiGSX8nzBqPwdFc4HqeQOp5BP5tbDCtnU41SBBnC4EkxZ5oHsKBNr3gktmO/Fr2ErF erx2x/hH6pthKCswqbkpy/soTtLcHIDxdO9Ecg1tDxn0JiIWmPBt3AAYBp05hdv1oglto4/NHn5 l96l6pq1cUCNiYcjwFoprcB0uKnyJuSVf1T+ZToW0FxyPYplYeyUhS6qTdTcB6Jb1chnBaJK X-Google-Smtp-Source: AGHT+IFCYDTLyGPGm6jtrFrjOwLuXFNaTnda1x0Z1hNpVsQxZ/PflHM+8NjzzlnioeaDhADsRrS/2KTR1NWr X-Received: by 2002:a05:6e02:2308:b0:424:b863:73ca with SMTP id e9e14a558f8ab-42581e8b53dmr36256575ab.16.1758633172130; Tue, 23 Sep 2025 06:12:52 -0700 (PDT) Received: from postal.iol.unh.edu (postal.iol.unh.edu. [132.177.123.84]) by smtp-relay.gmail.com with ESMTPS id 8926c6da1cb9f-56260a5f727sm161224173.36.2025.09.23.06.12.52 (version=TLS1_2 cipher=ECDHE-ECDSA-AES128-GCM-SHA256 bits=128/128); Tue, 23 Sep 2025 06:12:52 -0700 (PDT) X-Relaying-Domain: iol.unh.edu Date: Tue, 23 Sep 2025 06:12:52 -0700 (PDT) Message-ID: <68d29cd4.050a0220.286061.ac68SMTPIN_ADDED_MISSING@mx.google.com> Received: from [172.21.0.2] (unknown [172.18.0.240]) by postal.iol.unh.edu (Postfix) with ESMTP id 324356050A61; Tue, 23 Sep 2025 09:12:51 -0400 (EDT) Subject: |SUCCESS| pw156831-156833 [PATCH] [v3,4/4] net/cpfl: add cpchnl get From: dpdklab@iol.unh.edu To: Test Report Cc: dpdk-test-reports@iol.unh.edu, Bruce Richardson In-Reply-To: <20250923125455.1484992-5-praveen.shetty@intel.com> References: <20250923125455.1484992-5-praveen.shetty@intel.com> Content-Type: text/plain X-BeenThere: test-report@dpdk.org X-Mailman-Version: 2.1.29 Precedence: list List-Id: automatic DPDK test reports List-Unsubscribe: , List-Archive: List-Post: List-Help: List-Subscribe: , Errors-To: test-report-bounces@dpdk.org Test-Label: iol-compile-arm64-testing Test-Status: SUCCESS http://dpdk.org/patch/156833 _Testing PASS_ Submitter: Shetty, Praveen Date: Tuesday, September 23 2025 12:54:55 DPDK git baseline: Repo:dpdk-next-net-intel Branch: master CommitID:4159ea62922ce41566c7bab44655ad78bee85458 156831-156833 --> testing pass Upstream job id: Generic-DPDK-Compile-Meson#427683 Test environment and result as below: +------------------------------+--------------------+ | Environment | dpdk_meson_compile | +==============================+====================+ | Ubuntu 20.04 | PASS | +------------------------------+--------------------+ | Red Hat Enterprise Linux 9.5 | PASS | +------------------------------+--------------------+ | Ubuntu 22.04 | PASS | +------------------------------+--------------------+ | Ubuntu 24.04 | PASS | +------------------------------+--------------------+ | Debian GNU/Linux 12 | PASS | +------------------------------+--------------------+ | Fedora Linux 42 | PASS | +------------------------------+--------------------+ | CentOS Stream 10 | PASS | +------------------------------+--------------------+ | CentOS Stream 9 | PASS | +------------------------------+--------------------+ Ubuntu 20.04 Kernel: 5.15 Compiler: clang gcc (Ubuntu 9.4.0-1ubuntu1~20.04.2) 9.4.0 Red Hat Enterprise Linux 9.5 Kernel: 5.4 Compiler: gcc gcc (GCC) 11.5.0 20240719 (Red Hat 11.5.0-2) Ubuntu 22.04 Kernel: 5.4 Compiler: gcc gcc (Ubuntu 11.4.0-1ubuntu1~22.04) 11.4.0 Ubuntu 24.04 Kernel: 5.4 Compiler: gcc gcc (Ubuntu 13.3.0-6ubuntu2~24.04) 13.3.0 Debian GNU/Linux 12 Kernel: 5.4 Compiler: gcc gcc (Debian 12.2.0-14+deb12u1) 12.2.0 Fedora Linux 42 Kernel: 5.4 Compiler: clang gcc (GCC) 15.2.1 20250808 (Red Hat 15.2.1-1) CentOS Stream 10 Kernel: 5.4 Compiler: gcc gcc (GCC) 14.2.1 20250110 (Red Hat 14.2.1-8) CentOS Stream 9 Kernel: 5.4 Compiler: gcc gcc (GCC) 11.5.0 20240719 (Red Hat 11.5.0-11) To view detailed results, visit: https://lab.dpdk.org/results/dashboard/patchsets/34121/ UNH-IOL DPDK Community Lab To manage your email subscriptions, visit: https://lab.dpdk.org/results/dashboard/preferences/subscriptions/