From mboxrd@z Thu Jan 1 00:00:00 1970 Return-Path: Received: from mails.dpdk.org (mails.dpdk.org [217.70.189.124]) by inbox.dpdk.org (Postfix) with ESMTP id 492CB46F5A for ; Tue, 23 Sep 2025 15:19:29 +0200 (CEST) Received: from mails.dpdk.org (localhost [127.0.0.1]) by mails.dpdk.org (Postfix) with ESMTP id 23F80402CB; Tue, 23 Sep 2025 15:19:29 +0200 (CEST) Received: from mail-yb1-f228.google.com (mail-yb1-f228.google.com [209.85.219.228]) by mails.dpdk.org (Postfix) with ESMTP id BC1FD402CB for ; Tue, 23 Sep 2025 15:19:27 +0200 (CEST) Received: by mail-yb1-f228.google.com with SMTP id 3f1490d57ef6-ea5c06bd2b2so5664494276.2 for ; Tue, 23 Sep 2025 06:19:27 -0700 (PDT) DKIM-Signature: v=1; a=rsa-sha256; c=relaxed/relaxed; d=iol.unh.edu; s=unh-iol; t=1758633567; x=1759238367; darn=dpdk.org; h=references:in-reply-to:cc:to:from:subject:message-id:date:from:to :cc:subject:date:message-id:reply-to; bh=yZErd3BXobRgg6zAC1pelAa7JJoCb4Txn2X+cH6OCoQ=; b=BXwiTP+jNKTZwF77zh6FZovlZzzpbEcT3tM6NRMb60ahgxLqNDeGWit6OdCaaKdoA+ hbNqYK2irzjl2vahymznXJ2z4IwOb9KmCT1nswC8OCf7rI0tMxYsp19lo9M9vEZJzmle 5KK/cYAy+ufctdX2bw0/O+VZ854HR22F425d8= X-Google-DKIM-Signature: v=1; a=rsa-sha256; c=relaxed/relaxed; d=1e100.net; s=20230601; t=1758633567; x=1759238367; h=references:in-reply-to:cc:to:from:subject:message-id:date :x-gm-message-state:from:to:cc:subject:date:message-id:reply-to; bh=yZErd3BXobRgg6zAC1pelAa7JJoCb4Txn2X+cH6OCoQ=; b=AFjBZaVnQb9LndvNJzsBl4oQ+D5GXcXAQTkknW3aF+sLXtMuhNFMjAYDV73QuEWRfU ZraQoqZsheKNM5WRKAmfpNcuJEZucTT07cjWZmnGFeSZlbxHepskUlCaZ6x2l7zO8/cb 1b+MRwy2+q6Z5So9r6x2STOBIOMJGrrIORkze830EdHf6jVw/HlQXzX5isMp0a6nOzbW UCS03Flub1WqbJFxUgdUZJXl3FuljnvtHJxl9tAwyaJdSSEUPPSzimnZm4/8z/RK6tTw 3IHsl/dZ4ddEeNjZe9RJ0/GbNQ0PzJO3KXwIzKYJuDOVv9PIJ98aseJy13lcaqUaf92M 2HrQ== X-Gm-Message-State: AOJu0Ywc55PW/74/boCbdo0JIRud7WH3o/pWEGzg8leOf4qxodFLgWlE Gk4WH7YlkTiald0FLbulpvSI8CvIX5sDNDbDGoAXeoLCe39pYsiY0Fww/gcSPI3fPZPtTIL9+EX rxK/cklXKUzD+Nu9xcHLgXTx5rGCAvEp88As1JABcOeCDhHijknkjb2OzbJ3M X-Gm-Gg: ASbGncuWrA9iU/X1VstJOE5202fOON9OJ4Y1714Y5dHwmQgkEhJSZJ8S4GSakkO2nJe /PJn68Rw9j0IBUGoQD/+kVndRGuMPPW9++DQ2aTvMXo3fCC713ZpOSqfor3Wg6JEqULY1almq2n xtGl+pXIPFuM30dDnGhOFtg8BNUy9HdjolryfiJ3BSQzTSMJDSnQSoAV3idwKSaJaV58jjqhIf1 +dJcbaUhtumo8NbkGptHvPmTKjfNH+4XMxMR7uEXUkPVZ+SVZjl/ciX228K1BjmPKw+1mreqayL R5adVUjJHsXaPXRuSdK0ukzj4K1DetsLvUNSgnLiOmUqx9sMXw== X-Google-Smtp-Source: AGHT+IHIkTZtalCQCNYyuF5rKlM7u8P/FCp2nrPDo35uJYQd2erDkDE+HMAgfKrEANhejtpvQ94B7bcnj214 X-Received: by 2002:a05:690e:15c3:b0:631:d1f8:38b4 with SMTP id 956f58d0204a3-636045bfa31mr1500802d50.4.1758633566897; Tue, 23 Sep 2025 06:19:26 -0700 (PDT) Received: from postal.iol.unh.edu (postal.iol.unh.edu. [2606:4100:3880:1234::84]) by smtp-relay.gmail.com with ESMTPS id 956f58d0204a3-636024e6adbsm89522d50.12.2025.09.23.06.19.26 (version=TLS1_2 cipher=ECDHE-ECDSA-AES128-GCM-SHA256 bits=128/128); Tue, 23 Sep 2025 06:19:26 -0700 (PDT) X-Relaying-Domain: iol.unh.edu Date: Tue, 23 Sep 2025 06:19:26 -0700 (PDT) Message-ID: <68d29e5e.050a0220.180250.5db1SMTPIN_ADDED_MISSING@mx.google.com> Received: from [172.21.0.2] (unknown [172.18.0.240]) by postal.iol.unh.edu (Postfix) with ESMTP id 805046050A61; Tue, 23 Sep 2025 09:19:26 -0400 (EDT) Subject: |SUCCESS| pw156831-156833 [PATCH] [v3,4/4] net/cpfl: add cpchnl get From: dpdklab@iol.unh.edu To: Test Report Cc: dpdk-test-reports@iol.unh.edu, Bruce Richardson In-Reply-To: <20250923125455.1484992-5-praveen.shetty@intel.com> References: <20250923125455.1484992-5-praveen.shetty@intel.com> Content-Type: text/plain X-BeenThere: test-report@dpdk.org X-Mailman-Version: 2.1.29 Precedence: list List-Id: automatic DPDK test reports List-Unsubscribe: , List-Archive: List-Post: List-Help: List-Subscribe: , Errors-To: test-report-bounces@dpdk.org Test-Label: iol-unit-arm64-testing Test-Status: SUCCESS http://dpdk.org/patch/156833 _Testing PASS_ Submitter: Shetty, Praveen Date: Tuesday, September 23 2025 12:54:55 DPDK git baseline: Repo:dpdk-next-net-intel Branch: master CommitID:4159ea62922ce41566c7bab44655ad78bee85458 156831-156833 --> testing pass Upstream job id: Generic-Unit-Test-DPDK#374003 Test environment and result as below: +------------------------------+----------------+--------------+---------------------------+------------------------------+ | Environment | dpdk_unit_test | lpm_autotest | cryptodev_sw_zuc_autotest | cryptodev_sw_snow3g_autotest | +==============================+================+==============+===========================+==============================+ | Fedora Linux 42 | PASS | SKIPPED | SKIPPED | SKIPPED | +------------------------------+----------------+--------------+---------------------------+------------------------------+ | Fedora Linux 40 | PASS | SKIPPED | SKIPPED | SKIPPED | +------------------------------+----------------+--------------+---------------------------+------------------------------+ | Red Hat Enterprise Linux 9.5 | PASS | SKIPPED | SKIPPED | SKIPPED | +------------------------------+----------------+--------------+---------------------------+------------------------------+ | CentOS Stream 10 | PASS | SKIPPED | SKIPPED | SKIPPED | +------------------------------+----------------+--------------+---------------------------+------------------------------+ | Debian GNU/Linux 12 | PASS | SKIPPED | SKIPPED | SKIPPED | +------------------------------+----------------+--------------+---------------------------+------------------------------+ | Ubuntu 22.04 | PASS | SKIPPED | SKIPPED | SKIPPED | +------------------------------+----------------+--------------+---------------------------+------------------------------+ | Fedora Linux 41 | PASS | SKIPPED | SKIPPED | SKIPPED | +------------------------------+----------------+--------------+---------------------------+------------------------------+ | CentOS Stream 9 | PASS | SKIPPED | SKIPPED | SKIPPED | +------------------------------+----------------+--------------+---------------------------+------------------------------+ | Ubuntu 20.04 | PASS | PASS | SKIPPED | SKIPPED | +------------------------------+----------------+--------------+---------------------------+------------------------------+ | Ubuntu 24.04 | PASS | SKIPPED | SKIPPED | SKIPPED | +------------------------------+----------------+--------------+---------------------------+------------------------------+ | Debian 12 (arm) | SKIPPED | SKIPPED | PASS | PASS | +------------------------------+----------------+--------------+---------------------------+------------------------------+ Fedora Linux 42 Kernel: 5.4 Compiler: gcc gcc (GCC) 15.2.1 20250808 (Red Hat 15.2.1-1) Fedora Linux 40 Kernel: 5.4 Compiler: gcc gcc (GCC) 14.2.1 20240912 (Red Hat 14.2.1-3) Red Hat Enterprise Linux 9.5 Kernel: 5.4 Compiler: gcc gcc (GCC) 11.5.0 20240719 (Red Hat 11.5.0-2) CentOS Stream 10 Kernel: 5.4 Compiler: gcc gcc (GCC) 14.2.1 20250110 (Red Hat 14.2.1-8) Debian GNU/Linux 12 Kernel: 5.4 Compiler: gcc gcc (Debian 12.2.0-14+deb12u1) 12.2.0 Ubuntu 22.04 Kernel: 5.4 Compiler: gcc gcc (Ubuntu 11.4.0-1ubuntu1~22.04) 11.4.0 Fedora Linux 41 Kernel: 5.4 Compiler: clang gcc (GCC) 14.3.1 20250523 (Red Hat 14.3.1-1) CentOS Stream 9 Kernel: 5.4 Compiler: gcc gcc (GCC) 11.5.0 20240719 (Red Hat 11.5.0-11) Ubuntu 20.04 Kernel: 5.4 Compiler: gcc gcc (Ubuntu 9.4.0-1ubuntu1~20.04.2) 9.4.0 Ubuntu 24.04 Kernel: 5.4 Compiler: gcc gcc (Ubuntu 13.3.0-6ubuntu2~24.04) 13.3.0 Debian 12 (arm) Kernel: Depends on container host Compiler: gcc (Debian 12.2.0-14) 12.2.0 To view detailed results, visit: https://lab.dpdk.org/results/dashboard/patchsets/34121/ UNH-IOL DPDK Community Lab To manage your email subscriptions, visit: https://lab.dpdk.org/results/dashboard/preferences/subscriptions/