From mboxrd@z Thu Jan 1 00:00:00 1970 Return-Path: Received: from mails.dpdk.org (mails.dpdk.org [217.70.189.124]) by inbox.dpdk.org (Postfix) with ESMTP id 363D546F5B for ; Tue, 23 Sep 2025 17:43:23 +0200 (CEST) Received: from mails.dpdk.org (localhost [127.0.0.1]) by mails.dpdk.org (Postfix) with ESMTP id 2EE1C402CB; Tue, 23 Sep 2025 17:43:23 +0200 (CEST) Received: from mail-pf1-f225.google.com (mail-pf1-f225.google.com [209.85.210.225]) by mails.dpdk.org (Postfix) with ESMTP id 9A872402CB for ; Tue, 23 Sep 2025 17:43:21 +0200 (CEST) Received: by mail-pf1-f225.google.com with SMTP id d2e1a72fcca58-77f32d99a97so2233454b3a.1 for ; Tue, 23 Sep 2025 08:43:21 -0700 (PDT) DKIM-Signature: v=1; a=rsa-sha256; c=relaxed/relaxed; d=iol.unh.edu; s=unh-iol; t=1758642201; x=1759247001; darn=dpdk.org; h=references:in-reply-to:cc:to:from:subject:message-id:date:from:to :cc:subject:date:message-id:reply-to; bh=bgiPJPIAVHHzi/b0GF0wjzSmEiBaAR+j51yOWsw3jkw=; b=fF8QYBC2RnL+V/vHFJ8bDyXZHV5C1g2NlgwTuPdRCsA7pM2Kcxy4mgGvdOBgp0sxOZ NGuE6nFqiqHvh1NAecN4vcbAnZPA7T+gzyu3fhV2bxiuJZBu6jYsI+be7e/a5VqhoEvu bLJ8bjE76hrXXsTN7ko3XG8v5Bff9z6hp/KQE= X-Google-DKIM-Signature: v=1; a=rsa-sha256; c=relaxed/relaxed; d=1e100.net; s=20230601; t=1758642201; x=1759247001; h=references:in-reply-to:cc:to:from:subject:message-id:date :x-gm-message-state:from:to:cc:subject:date:message-id:reply-to; bh=bgiPJPIAVHHzi/b0GF0wjzSmEiBaAR+j51yOWsw3jkw=; b=E4O0nLpdIL1ATxLFr/ezjOaoPK0cvbmaoOJh71j8nMfrHLfWAXzk+ZsskzMuRSNKOC ZaLIuEkwQ4FGpB249uHgzehFjPPEmrcCOo2o72JJdvHtQrEVkNZ9upk0Kc1HGMJmnP+H tcj2SRAxL1tW7+ux6NqDa9sNIbuMeOEPUhz4LLmQQ0wlaFKuLTdJeZdZu9Rl20oDqjcX usHewDRvNcVwIAJf+I9vjF2wXg0ztpuLSZChIQyJjE+WLl0efV1hRb6dpZM8NKQM6Zqp rLbOPIo+oXTvOMPeics5WTAxvAFJptwT1R2pgreKmqrvmLXCUvdQNdDWV7kWYaMSZVWo t+sQ== X-Gm-Message-State: AOJu0Yy6yKzAkun+VcgTr/+oKP4qaPek6ad4r9LJd4W8NqDWAVycam9a YZJPJkvHaZ34qvoXc3qEYysjBsiI32eHrv7GP0nQOdL8q0Q6qmmepZy35GHXOJnVsxJ3Et/CfRY Kdc8BrzSMISnS2Sdxdsqx/JgvZl8rR0pZwtlQbRMHiZ2H X-Gm-Gg: ASbGncsdDo+WI/Yj/cGrT5TD85pRlbP5jhZwaqME43SlN4yf/79K3elUDRrp2TNCErb oNkXL7b6V1BjJ4B9vpuuNLbs8vTG5evz2P4FFoa+5RzcZHC6G5Uu3hQbnRRc9XstUBNvtVNne31 3SqAvOtzpEqr084/n/gM0ztyCgvUHKj4UygnMvS7Hch/PUjJUF8ivAkqAheYD/xOW1P8aekaOLg WaYS6QiDScPDmJn5RJlRbeK99SJJ05OpHDgRIjPSsRSycUVHIOq24NA2rj6F7TPbPI6unfNd1hV U60BAa0LotAt2HYn/cMGJYlizsJ7wDSp+bzzxzYuGY+OuxD83UygI8qBWKEgWU7WxcLEiCFU X-Google-Smtp-Source: AGHT+IFNBEm2HvLwBRnkmBFQXVQpzr7h0ZExlKoZJpN1NtkecRfYYt/6u4mwPsAFiUYCWD3NyA/y9o9rdLNo X-Received: by 2002:a05:6a00:3d13:b0:775:f2cc:c78e with SMTP id d2e1a72fcca58-77f53a83d8emr4078090b3a.21.1758642200823; Tue, 23 Sep 2025 08:43:20 -0700 (PDT) Received: from postal.iol.unh.edu (postal.iol.unh.edu. [132.177.123.84]) by smtp-relay.gmail.com with ESMTPS id d2e1a72fcca58-77cfe669a63sm949246b3a.10.2025.09.23.08.43.20 (version=TLS1_2 cipher=ECDHE-ECDSA-AES128-GCM-SHA256 bits=128/128); Tue, 23 Sep 2025 08:43:20 -0700 (PDT) X-Relaying-Domain: iol.unh.edu Date: Tue, 23 Sep 2025 08:43:20 -0700 (PDT) Message-ID: <68d2c018.050a0220.2fd705.dfdcSMTPIN_ADDED_MISSING@mx.google.com> Received: from [172.21.0.2] (unknown [172.18.0.240]) by postal.iol.unh.edu (Postfix) with ESMTP id 1C3C4604D420; Tue, 23 Sep 2025 11:43:20 -0400 (EDT) Subject: |SUCCESS| pw156843 [PATCH] test/crypto: fix for mbuf sanity check fa From: dpdklab@iol.unh.edu To: Test Report Cc: dpdk-test-reports@iol.unh.edu, Akhil Goyal In-Reply-To: <20250923142254.1904208-1-nkaithakadan@marvell.com> References: <20250923142254.1904208-1-nkaithakadan@marvell.com> Content-Type: text/plain X-BeenThere: test-report@dpdk.org X-Mailman-Version: 2.1.29 Precedence: list List-Id: automatic DPDK test reports List-Unsubscribe: , List-Archive: List-Post: List-Help: List-Subscribe: , Errors-To: test-report-bounces@dpdk.org Test-Label: iol-unit-amd64-testing Test-Status: SUCCESS http://dpdk.org/patch/156843 _Testing PASS_ Submitter: Nithinsen Kaithakadan Date: Tuesday, September 23 2025 14:22:54 DPDK git baseline: Repo:dpdk-next-crypto Branch: master CommitID:4159ea62922ce41566c7bab44655ad78bee85458 156843 --> testing pass Upstream job id: Generic-VM-Unit-Test-DPDK#31313 Test environment and result as below: +-------------------------------+----------------+ | Environment | dpdk_unit_test | +===============================+================+ | Ubuntu 24.04 | PASS | +-------------------------------+----------------+ | Red Hat Enterprise Linux 9.5 | PASS | +-------------------------------+----------------+ | CentOS Stream 9 | PASS | +-------------------------------+----------------+ | Fedora Linux 41 | PASS | +-------------------------------+----------------+ | Fedora Linux 40 | PASS | +-------------------------------+----------------+ | Ubuntu 22.04 | PASS | +-------------------------------+----------------+ | Debian GNU/Linux 12 | PASS | +-------------------------------+----------------+ | Ubuntu 20.04 | PASS | +-------------------------------+----------------+ | CentOS Stream 10 | PASS | +-------------------------------+----------------+ | Fedora Linux 42 | PASS | +-------------------------------+----------------+ | Red Hat Enterprise Linux 8.10 | PASS | +-------------------------------+----------------+ | Windows Server 2022 | PASS | +-------------------------------+----------------+ Ubuntu 24.04 Kernel: 5.15 Compiler: gcc gcc (Ubuntu 13.3.0-6ubuntu2~24.04) 13.3.0 Red Hat Enterprise Linux 9.5 Kernel: 5.15 Compiler: gcc gcc (GCC) 11.5.0 20240719 (Red Hat 11.5.0-2) CentOS Stream 9 Kernel: 5.15 Compiler: gcc gcc (GCC) 11.5.0 20240719 (Red Hat 11.5.0-11) Fedora Linux 41 Kernel: 5.15 Compiler: gcc gcc (GCC) 14.3.1 20250523 (Red Hat 14.3.1-1) Fedora Linux 40 Kernel: 5.15 Compiler: clang gcc (GCC) 14.2.1 20240912 (Red Hat 14.2.1-3) Ubuntu 22.04 Kernel: 5.15 Compiler: gcc gcc (Ubuntu 11.4.0-1ubuntu1~22.04) 11.4.0 Debian GNU/Linux 12 Kernel: 5.15 Compiler: gcc gcc (Debian 12.2.0-14+deb12u1) 12.2.0 Ubuntu 20.04 Kernel: 5.15 Compiler: gcc gcc (Ubuntu 9.4.0-1ubuntu1~20.04.2) 9.4.0 CentOS Stream 10 Kernel: 5.15 Compiler: gcc gcc (GCC) 14.2.1 20250110 (Red Hat 14.2.1-8) Fedora Linux 42 Kernel: 5.15 Compiler: gcc gcc (GCC) 15.2.1 20250808 (Red Hat 15.2.1-1) Red Hat Enterprise Linux 8.10 Kernel: 5.15 Compiler: gcc gcc (GCC) 8.5.0 20210514 (Red Hat 8.5.0-22) Windows Server 2022 Kernel: 10.0.20348.2031 Compiler: clang 15.0.7, gcc 14.1.0 (MinGW), and MSVC VS 19.39.33521 To view detailed results, visit: https://lab.dpdk.org/results/dashboard/patchsets/34122/ UNH-IOL DPDK Community Lab To manage your email subscriptions, visit: https://lab.dpdk.org/results/dashboard/preferences/subscriptions/