From mboxrd@z Thu Jan 1 00:00:00 1970 Return-Path: Received: from mails.dpdk.org (mails.dpdk.org [217.70.189.124]) by inbox.dpdk.org (Postfix) with ESMTP id 5BC9246F5C for ; Tue, 23 Sep 2025 18:14:19 +0200 (CEST) Received: from mails.dpdk.org (localhost [127.0.0.1]) by mails.dpdk.org (Postfix) with ESMTP id 2B843402CB; Tue, 23 Sep 2025 18:14:19 +0200 (CEST) Received: from mail-qv1-f98.google.com (mail-qv1-f98.google.com [209.85.219.98]) by mails.dpdk.org (Postfix) with ESMTP id 02131402CB for ; Tue, 23 Sep 2025 18:14:17 +0200 (CEST) Received: by mail-qv1-f98.google.com with SMTP id 6a1803df08f44-791875a9071so55538616d6.1 for ; Tue, 23 Sep 2025 09:14:17 -0700 (PDT) DKIM-Signature: v=1; a=rsa-sha256; c=relaxed/relaxed; d=iol.unh.edu; s=unh-iol; t=1758644057; x=1759248857; darn=dpdk.org; h=references:in-reply-to:cc:to:from:subject:message-id:date:from:to :cc:subject:date:message-id:reply-to; bh=RRAjNxo0Tum+JDgFhs/c+NVMtfJdWj7FH73RXx8qaw0=; b=fvUTaUR9sMQt4QOLr6NMHBQrALknuJWBOe+R8YkuUIIF1qNJ7JWXCNDEDBpDEmlul/ c/3kjOWdhrr42PmxkCbXzsy8F1ZRF08uOChtDWm63aihypAmReCirmtZtABsBBnL1EDO hXJSj1VqJthFbWe8GzmA5eT2bqOOSX4mwXLNg= X-Google-DKIM-Signature: v=1; a=rsa-sha256; c=relaxed/relaxed; d=1e100.net; s=20230601; t=1758644057; x=1759248857; h=references:in-reply-to:cc:to:from:subject:message-id:date :x-gm-message-state:from:to:cc:subject:date:message-id:reply-to; bh=RRAjNxo0Tum+JDgFhs/c+NVMtfJdWj7FH73RXx8qaw0=; b=MrHEuWXDqGd0+xWv/usoiNjG33Y3q5MLZCXPhsj+wEsGNvkxl8AcYTXH37yIKyuat9 CIi2OI+ThRWPF/DtJ6Fb9kxdTffK4tup71DRLJxsrwhVUh8fCD08grXEr1ImTnweWPzC WLCUwU6CBNU2a9Ygos0dca+yk0Gi2dkJjmrcXPvOORNtWR1VcJqav2b4G9uzGChoro+m 6LpzZkpMBLmDVnV3WzzmcGJpNpLNqAlSHb+2NsCLpHUu1g8Fa1xdFleAdbsTjsd20HUH k3clsE/odGNMRqGa4C9u32GYxnuPdWLXKAUudHqFAnVHRvJ7FnYlanZRRCWLKZEIpttA DZtA== X-Gm-Message-State: AOJu0YzHTpr9CoUyyZlMa4qnqvrGYHxJGhSVk7BYmqMg+ORe83ZiWusj G7RK5Dm+l+JaNStAe66PVPVkExukLTQO9q8JJ0iuVgmcR0wg9EDizAOovpb8loXidx6M8yzZyn1 vV/VnOyWFh/GLp8E6e8G6Jgt5meCuPMblXwim1XZU2eRJNxA/vQqWXJo9tQe+ X-Gm-Gg: ASbGncukO+yknb6E2zg5yDzDgIwlqonLWeSYrOQC9GGyzzQsRFDlCiN7bFwApxTx0iu DF14B8YDQ5/FO+RfHXVv34fASARINw8ONuzV7b46oGqzTns/66tXjT1qUgtFIAYd5sYf60cQ0Sv KrW5tyA+LHpabeEAG7xqxAAIQT4LpzFda1TfuT7LjMxremEdbWF+uEobO1ytULzJsu4KWbPJSNn UjdwHFNlRdVe32Xwrhe472QNv6gwA50FrqwtrG75ioMaiIP4gsSQLrXAgujE59PfvyN7NfO8w5v 4n9Liyz3Ywr1i3yTUm8mmm3bY7UaFTOI/3xUTfXQm0ec/Za4Nw== X-Google-Smtp-Source: AGHT+IFweq3xphjkUea6Xew3v8dG2h+Bw2ntcULFg4y4V+OaLhsa83BRjWFvSIClY6YJvC2ZuR+xS2chBCmX X-Received: by 2002:ad4:5969:0:b0:77e:c29b:679b with SMTP id 6a1803df08f44-7e71a7b0349mr30673646d6.65.1758644057287; Tue, 23 Sep 2025 09:14:17 -0700 (PDT) Received: from postal.iol.unh.edu (postal.iol.unh.edu. [2606:4100:3880:1234::84]) by smtp-relay.gmail.com with ESMTPS id 6a1803df08f44-793455133adsm8972556d6.11.2025.09.23.09.14.17 (version=TLS1_2 cipher=ECDHE-ECDSA-AES128-GCM-SHA256 bits=128/128); Tue, 23 Sep 2025 09:14:17 -0700 (PDT) X-Relaying-Domain: iol.unh.edu Date: Tue, 23 Sep 2025 09:14:17 -0700 (PDT) Message-ID: <68d2c759.050a0220.21291e.c1cfSMTPIN_ADDED_MISSING@mx.google.com> Received: from [172.21.0.2] (unknown [172.18.0.240]) by postal.iol.unh.edu (Postfix) with ESMTP id EE232604D420; Tue, 23 Sep 2025 12:14:16 -0400 (EDT) Subject: |SUCCESS| pw156844 [PATCH] [v2] telemetry: remove deprecated functio From: dpdklab@iol.unh.edu To: Test Report Cc: dpdk-test-reports@iol.unh.edu In-Reply-To: <20250923143225.12252-1-bruce.richardson@intel.com> References: <20250923143225.12252-1-bruce.richardson@intel.com> Content-Type: text/plain X-BeenThere: test-report@dpdk.org X-Mailman-Version: 2.1.29 Precedence: list List-Id: automatic DPDK test reports List-Unsubscribe: , List-Archive: List-Post: List-Help: List-Subscribe: , Errors-To: test-report-bounces@dpdk.org Test-Label: iol-unit-amd64-testing Test-Status: SUCCESS http://dpdk.org/patch/156844 _Testing PASS_ Submitter: Bruce Richardson Date: Tuesday, September 23 2025 14:32:25 DPDK git baseline: Repo:dpdk Branch: master CommitID:0e03ab647d07cd985a7cac36cefff5195cc3a07d 156844 --> testing pass Upstream job id: Generic-Unit-Test-DPDK#374046 Test environment and result as below: +-------------------------------+----------------+ | Environment | dpdk_unit_test | +===============================+================+ | Fedora Linux 42 | PASS | +-------------------------------+----------------+ | Fedora Linux 40 | PASS | +-------------------------------+----------------+ | Ubuntu 22.04 | PASS | +-------------------------------+----------------+ | Ubuntu 20.04 | PASS | +-------------------------------+----------------+ | Red Hat Enterprise Linux 9.5 | PASS | +-------------------------------+----------------+ | Red Hat Enterprise Linux 8.10 | PASS | +-------------------------------+----------------+ | Fedora Linux 41 | PASS | +-------------------------------+----------------+ | CentOS Stream 10 | PASS | +-------------------------------+----------------+ | Ubuntu 24.04 | PASS | +-------------------------------+----------------+ | Debian GNU/Linux 12 | PASS | +-------------------------------+----------------+ | CentOS Stream 9 | PASS | +-------------------------------+----------------+ | Windows Server 2022 | PASS | +-------------------------------+----------------+ Fedora Linux 42 Kernel: 5.15 Compiler: clang gcc (GCC) 15.2.1 20250808 (Red Hat 15.2.1-1) Fedora Linux 40 Kernel: 5.15 Compiler: gcc gcc (GCC) 14.2.1 20240912 (Red Hat 14.2.1-3) Ubuntu 22.04 Kernel: 5.15 Compiler: gcc gcc (Ubuntu 11.4.0-1ubuntu1~22.04) 11.4.0 Ubuntu 20.04 Kernel: 5.15 Compiler: gcc gcc (Ubuntu 9.4.0-1ubuntu1~20.04.2) 9.4.0 Red Hat Enterprise Linux 9.5 Kernel: 5.15 Compiler: gcc gcc (GCC) 11.5.0 20240719 (Red Hat 11.5.0-2) Red Hat Enterprise Linux 8.10 Kernel: 5.15 Compiler: gcc gcc (GCC) 8.5.0 20210514 (Red Hat 8.5.0-22) Fedora Linux 41 Kernel: 5.15 Compiler: clang gcc (GCC) 14.3.1 20250523 (Red Hat 14.3.1-1) CentOS Stream 10 Kernel: 5.15 Compiler: gcc gcc (GCC) 14.2.1 20250110 (Red Hat 14.2.1-8) Ubuntu 24.04 Kernel: 5.15 Compiler: gcc gcc (Ubuntu 13.3.0-6ubuntu2~24.04) 13.3.0 Debian GNU/Linux 12 Kernel: 5.15 Compiler: gcc gcc (Debian 12.2.0-14+deb12u1) 12.2.0 CentOS Stream 9 Kernel: 5.15 Compiler: gcc gcc (GCC) 11.5.0 20240719 (Red Hat 11.5.0-11) Windows Server 2022 Kernel: 10.0.20348.2031 Compiler: clang 15.0.7, gcc 14.1.0 (MinGW), and MSVC VS 19.39.33521 To view detailed results, visit: https://lab.dpdk.org/results/dashboard/patchsets/34123/ UNH-IOL DPDK Community Lab To manage your email subscriptions, visit: https://lab.dpdk.org/results/dashboard/preferences/subscriptions/