From mboxrd@z Thu Jan 1 00:00:00 1970 Return-Path: Received: from mails.dpdk.org (mails.dpdk.org [217.70.189.124]) by inbox.dpdk.org (Postfix) with ESMTP id DE8AC46F5C for ; Tue, 23 Sep 2025 18:20:22 +0200 (CEST) Received: from mails.dpdk.org (localhost [127.0.0.1]) by mails.dpdk.org (Postfix) with ESMTP id D9888402CB; Tue, 23 Sep 2025 18:20:22 +0200 (CEST) Received: from mail-qv1-f99.google.com (mail-qv1-f99.google.com [209.85.219.99]) by mails.dpdk.org (Postfix) with ESMTP id 1216E402CB for ; Tue, 23 Sep 2025 18:20:21 +0200 (CEST) Received: by mail-qv1-f99.google.com with SMTP id 6a1803df08f44-796d68804a0so56335256d6.3 for ; Tue, 23 Sep 2025 09:20:21 -0700 (PDT) DKIM-Signature: v=1; a=rsa-sha256; c=relaxed/relaxed; d=iol.unh.edu; s=unh-iol; t=1758644420; x=1759249220; darn=dpdk.org; h=references:in-reply-to:cc:to:from:subject:message-id:date:from:to :cc:subject:date:message-id:reply-to; bh=Dt2nR3dj3PhVuesc8/S0YGAVYeLguBV8DBPq/IBXx4Q=; b=Lym/wW0u5ioa5dGd+7ySm95aSF9WB9n3Lyw/KY/uai0FiRg4dyhhAjbPNFnN9XNNiX N1PTRGavEo6HmPMW4qk03TT/wUHT7RrHtZ/P8aUz6cSMiFGXNt6KccuADA+Ht5O9MRL1 SWjPK0vIqi9QhznMtdEMzBTi6UaOexGg1tGqk= X-Google-DKIM-Signature: v=1; a=rsa-sha256; c=relaxed/relaxed; d=1e100.net; s=20230601; t=1758644420; x=1759249220; h=references:in-reply-to:cc:to:from:subject:message-id:date :x-gm-message-state:from:to:cc:subject:date:message-id:reply-to; bh=Dt2nR3dj3PhVuesc8/S0YGAVYeLguBV8DBPq/IBXx4Q=; b=GpSqVFSD0EYp5KtX33iYMIGpAK54A3K/68KP8L97zFRtYl3X00ELSGLRNEbAJCsQDM 51autORqr9fGx48RyQyxpTVDEPmcker20U0pxx0R67KCkwMV6Z8tuYO185tC+AnFzlfr 8uGf8qJ1RTTQbQ6yJXZRGYIEPHD78Eh1KUBr0qfMqSMHYToD1/E1YfPzuVy+E165xjGC NWjaCQOE3Zl1r82KeVKBblXutxzbZlZBlmkvl1U8GpBYRorBJ3eNe2Iye+bN+cVwsUiv 9eX3LADbqsW7+aWnM9APgBcbY4Sqk/khAtKeU/vzcwwLAawIyCDpLYgmQsG7apCjuUXq uJCQ== X-Gm-Message-State: AOJu0Yy+ep5gQ3jgJsRRSGivvNoh+hTN29PZg21FxQit94QcD6QiKad8 iL+LQgWiKbJRKTCjF76GXfj6asZ/Z9Sep0wLvG3a8mQDfYVdYO2euYHnnHSesAOXT7NN2eZ5BTh svcIP3d+ynVdXjmHN6aSPY7qutc2n5ArTKGjqhdCi3MPA X-Gm-Gg: ASbGncv3flVpIi05EkiTMfldhjhg3aSYy2/Rk/FL1r3juOcbqUONgEK56dSJGtGGe2g +Bt3KuCrqaQg3sgDfagmH7vAuIwqN6VaHltar/IajjyVR4sQ2uDm2uw4aLPzxyKVF/MeDDzKtCh HTD6e1u71bNoKqs1ldgDr0UMM3jdxuT90g1VvwZ/e4vRvBfXFwfqhAc5YalZWcwbCH4HZWi2kwh b97V6PMvIK5s9kV4pdNMISUVTH43Y9rP9ESc6Hbqv311oRg7omq0rDiVtkh7YtM6htlAoca1fWM 1uZgdWRsv8aUXPfka2Yd6k1GXB+oNty7WBgZH5zV4ZH8euXzorK9ZzqBnycTx8T4zAK5fm0J X-Google-Smtp-Source: AGHT+IEleu61uukn30ngSDq6oM0vstG2RJnx+2Ntk7QscJGQ2YJr0ZRs4acHp1g3IMNQVq9Hfk07q1HV57Ym X-Received: by 2002:ad4:5fcd:0:b0:727:e45a:562c with SMTP id 6a1803df08f44-7e717d8c149mr41884136d6.45.1758644420275; Tue, 23 Sep 2025 09:20:20 -0700 (PDT) Received: from postal.iol.unh.edu (postal.iol.unh.edu. [132.177.123.84]) by smtp-relay.gmail.com with ESMTPS id 6a1803df08f44-793533af99asm9975376d6.46.2025.09.23.09.20.20 (version=TLS1_2 cipher=ECDHE-ECDSA-AES128-GCM-SHA256 bits=128/128); Tue, 23 Sep 2025 09:20:20 -0700 (PDT) X-Relaying-Domain: iol.unh.edu Date: Tue, 23 Sep 2025 09:20:20 -0700 (PDT) Message-ID: <68d2c8c4.d40a0220.e43c1.f537SMTPIN_ADDED_MISSING@mx.google.com> Received: from [172.21.0.2] (unknown [172.18.0.240]) by postal.iol.unh.edu (Postfix) with ESMTP id F1097604D420; Tue, 23 Sep 2025 12:20:19 -0400 (EDT) Subject: |SUCCESS| pw156843 [PATCH] test/crypto: fix for mbuf sanity check fa From: dpdklab@iol.unh.edu To: Test Report Cc: dpdk-test-reports@iol.unh.edu, Akhil Goyal In-Reply-To: <20250923142254.1904208-1-nkaithakadan@marvell.com> References: <20250923142254.1904208-1-nkaithakadan@marvell.com> Content-Type: text/plain X-BeenThere: test-report@dpdk.org X-Mailman-Version: 2.1.29 Precedence: list List-Id: automatic DPDK test reports List-Unsubscribe: , List-Archive: List-Post: List-Help: List-Subscribe: , Errors-To: test-report-bounces@dpdk.org Test-Label: iol-compile-amd64-testing Test-Status: SUCCESS http://dpdk.org/patch/156843 _Testing PASS_ Submitter: Nithinsen Kaithakadan Date: Tuesday, September 23 2025 14:22:54 DPDK git baseline: Repo:dpdk-next-crypto Branch: master CommitID:4159ea62922ce41566c7bab44655ad78bee85458 156843 --> testing pass Upstream job id: Generic-DPDK-Compile-Meson#427718 Test environment and result as below: +-------------------------------+--------------------+------------------+-------------------+-------------------------+-------------------+----------------------+ | Environment | dpdk_meson_compile | dpdk_compile_ovs | dpdk_compile_spdk | dpdk_llvm_clang_compile | dpdk_msvc_compile | dpdk_mingw64_compile | +===============================+====================+==================+===================+=========================+===================+======================+ | Fedora Linux 42 | PASS | PASS | PASS | SKIPPED | SKIPPED | SKIPPED | +-------------------------------+--------------------+------------------+-------------------+-------------------------+-------------------+----------------------+ | openSUSE Leap 15.6 | PASS | SKIPPED | SKIPPED | SKIPPED | SKIPPED | SKIPPED | +-------------------------------+--------------------+------------------+-------------------+-------------------------+-------------------+----------------------+ | Ubuntu 20.04 | PASS | SKIPPED | SKIPPED | SKIPPED | SKIPPED | SKIPPED | +-------------------------------+--------------------+------------------+-------------------+-------------------------+-------------------+----------------------+ | Debian GNU/Linux 12 | PASS | SKIPPED | PASS | SKIPPED | SKIPPED | SKIPPED | +-------------------------------+--------------------+------------------+-------------------+-------------------------+-------------------+----------------------+ | Red Hat Enterprise Linux 9.5 | PASS | SKIPPED | SKIPPED | SKIPPED | SKIPPED | SKIPPED | +-------------------------------+--------------------+------------------+-------------------+-------------------------+-------------------+----------------------+ | Red Hat Enterprise Linux 8.10 | PASS | SKIPPED | SKIPPED | SKIPPED | SKIPPED | SKIPPED | +-------------------------------+--------------------+------------------+-------------------+-------------------------+-------------------+----------------------+ | CentOS Stream 10 | PASS | SKIPPED | SKIPPED | SKIPPED | SKIPPED | SKIPPED | +-------------------------------+--------------------+------------------+-------------------+-------------------------+-------------------+----------------------+ | CentOS Stream 9 | PASS | SKIPPED | PASS | SKIPPED | SKIPPED | SKIPPED | +-------------------------------+--------------------+------------------+-------------------+-------------------------+-------------------+----------------------+ | Ubuntu 22.04 | PASS | SKIPPED | PASS | SKIPPED | SKIPPED | SKIPPED | +-------------------------------+--------------------+------------------+-------------------+-------------------------+-------------------+----------------------+ | FreeBSD 14.2 | PASS | SKIPPED | SKIPPED | SKIPPED | SKIPPED | SKIPPED | +-------------------------------+--------------------+------------------+-------------------+-------------------------+-------------------+----------------------+ | Alpine Linux 3.22.0 | PASS | SKIPPED | SKIPPED | SKIPPED | SKIPPED | SKIPPED | +-------------------------------+--------------------+------------------+-------------------+-------------------------+-------------------+----------------------+ | Ubuntu 24.04 | PASS | PASS | PASS | SKIPPED | SKIPPED | SKIPPED | +-------------------------------+--------------------+------------------+-------------------+-------------------------+-------------------+----------------------+ | Windows Server 2022 | SKIPPED | SKIPPED | SKIPPED | PASS | PASS | PASS | +-------------------------------+--------------------+------------------+-------------------+-------------------------+-------------------+----------------------+ Fedora Linux 42 Kernel: 5.15 Compiler: gcc gcc (GCC) 15.2.1 20250808 (Red Hat 15.2.1-1) openSUSE Leap 15.6 Kernel: 5.15 Compiler: gcc gcc (SUSE Linux) 7.5.0 Ubuntu 20.04 Kernel: 5.15 Compiler: gcc gcc (Ubuntu 9.4.0-1ubuntu1~20.04.2) 9.4.0 Debian GNU/Linux 12 Kernel: 5.15 Compiler: gcc gcc (Debian 12.2.0-14+deb12u1) 12.2.0 Red Hat Enterprise Linux 9.5 Kernel: 5.15 Compiler: gcc gcc (GCC) 11.5.0 20240719 (Red Hat 11.5.0-2) Red Hat Enterprise Linux 8.10 Kernel: 5.15 Compiler: gcc gcc (GCC) 8.5.0 20210514 (Red Hat 8.5.0-22) CentOS Stream 10 Kernel: 5.15 Compiler: gcc gcc (GCC) 14.2.1 20250110 (Red Hat 14.2.1-8) CentOS Stream 9 Kernel: 5.15 Compiler: gcc gcc (GCC) 11.5.0 20240719 (Red Hat 11.5.0-11) Ubuntu 22.04 Kernel: 5.15 Compiler: gcc gcc (Ubuntu 11.4.0-1ubuntu1~22.04) 11.4.0 FreeBSD 14.2 Kernel: 14.2-RELEASE Compiler: clang 18.1.6 Alpine Linux 3.22.0 Kernel: 5.15 Compiler: gcc gcc (Alpine 14.2.0) 14.2.0 Ubuntu 24.04 Kernel: 5.15 Compiler: gcc gcc (Ubuntu 13.3.0-6ubuntu2~24.04) 13.3.0 Windows Server 2022 Kernel: 10.0.20348.2031 Compiler: clang 15.0.7, gcc 14.1.0 (MinGW), and MSVC VS 19.39.33521 To view detailed results, visit: https://lab.dpdk.org/results/dashboard/patchsets/34122/ UNH-IOL DPDK Community Lab To manage your email subscriptions, visit: https://lab.dpdk.org/results/dashboard/preferences/subscriptions/