From mboxrd@z Thu Jan 1 00:00:00 1970 Return-Path: Received: from mails.dpdk.org (mails.dpdk.org [217.70.189.124]) by inbox.dpdk.org (Postfix) with ESMTP id 1F5C046F5C for ; Tue, 23 Sep 2025 18:34:34 +0200 (CEST) Received: from mails.dpdk.org (localhost [127.0.0.1]) by mails.dpdk.org (Postfix) with ESMTP id 1A0EC402CB; Tue, 23 Sep 2025 18:34:34 +0200 (CEST) Received: from mail-qt1-f226.google.com (mail-qt1-f226.google.com [209.85.160.226]) by mails.dpdk.org (Postfix) with ESMTP id BF87D402CB for ; Tue, 23 Sep 2025 18:34:32 +0200 (CEST) Received: by mail-qt1-f226.google.com with SMTP id d75a77b69052e-4d53d1e9bd7so5974631cf.0 for ; Tue, 23 Sep 2025 09:34:32 -0700 (PDT) DKIM-Signature: v=1; a=rsa-sha256; c=relaxed/relaxed; d=iol.unh.edu; s=unh-iol; t=1758645272; x=1759250072; darn=dpdk.org; h=references:in-reply-to:cc:to:from:subject:message-id:date:from:to :cc:subject:date:message-id:reply-to; bh=z4Q2ZT0ZIPny5bga9b2n9rmF1gWjHU53ov0GMqP7yHg=; b=Vr+mOCK/DgW7zBkbFA0E8k/ie/7bKzWBYfPXSoWeHGbHPnv2sb85aAfslybr8bukdx o+M866mpoyGRpv7zfHmH6ywoHakGprMxjRbqYNuZk1uPVAjCkD7YYGIfRTbYSrli6VLP FAbOLdERe93KO6aVhd9ojSoAZN+KryqfQx0kg= X-Google-DKIM-Signature: v=1; a=rsa-sha256; c=relaxed/relaxed; d=1e100.net; s=20230601; t=1758645272; x=1759250072; h=references:in-reply-to:cc:to:from:subject:message-id:date :x-gm-message-state:from:to:cc:subject:date:message-id:reply-to; bh=z4Q2ZT0ZIPny5bga9b2n9rmF1gWjHU53ov0GMqP7yHg=; b=cCu4/lXe3etZhdkujg7tWQIj8iuSyPU2N4UgDJmWm9NBJvX45udSvhRa+KOslenDVR n0R6zANkkG/bg9qonSaePETLBCpRhzfrCpdoxV3jCuK186rAmJoUBmfPV4q4AKcVHRkS eZw84LMGEljRnfP5nK9mEvBWqDXT/fF59wLBBQvE/uhGNdKrdPYMkLiFoGOr1ANgC7a6 kkNB4t28BvT5rgD0rURJfLJzW/R/8JAnJ29nOIluiyzhnyXCc0xJEPWypm3G5g8j++jW tIjdHlehlFJFw5TSQJnD5zrc6g4PMHJD+BvGStnSy0sjfWgxE59n4cKlGh+5MlYaRU+o nc8Q== X-Gm-Message-State: AOJu0YzkOZhJdwyqXf4JiI99VLZXHI8WgHC6hAQeLfK76brZM88h3Iet /HDi8i78gf8wWlVKf/w3eDBMnIIrjXeJgdpMbCBj3h1OLjXAp52esM5bX7AJvBG6FHdKh+rIprU e3KJ9CQxc00DcY9uPxtxZDAP2fkBnsWYHnUqjUcoGh4ui X-Gm-Gg: ASbGncsuqLOEP96AyorCu/CZ98deJyZ14ird6fh0L1ixaHg2hNmDaJk+cEgGQQQJ/Lm ANRc+HWItL+VfG247Vz9dHSH87miIcLcIr24hPHTvhsH8PMAJzDosbYYzP5eWm53S7wtRGyqzcY mTwTTmMNRCxTbH8wbV0s2HwquRVD6/GE73+vT+HFDwmivetJ9JX9y//9oqNrU53F2Yz2nHd9itJ Vpzt3Gcw4OFZifVSo0ek5bLJPVPzVuIb5cC+Pz0K0DSNN/toPGIpDDjwTpzlNrocV/kugj7jQO+ 9n6hMBr90hvX5wlRdV6oRVicxSZOLHwpXhPJha62c1O4I59GZac60JknpmrEqM/M2+BH47MS X-Google-Smtp-Source: AGHT+IH25UuBT/aBr/sIHBOBDoCraZK+m3IfnN7t1CSfp6r5qiqVMTyt8Woh7hHbiGuqGy708+6N+gq9gxiB X-Received: by 2002:a05:622a:5e0c:b0:4d6:281a:fe41 with SMTP id d75a77b69052e-4d6281b0c15mr13272851cf.46.1758645271974; Tue, 23 Sep 2025 09:34:31 -0700 (PDT) Received: from postal.iol.unh.edu (postal.iol.unh.edu. [132.177.123.84]) by smtp-relay.gmail.com with ESMTPS id d75a77b69052e-4bda65acf03sm3494681cf.14.2025.09.23.09.34.31 (version=TLS1_2 cipher=ECDHE-ECDSA-AES128-GCM-SHA256 bits=128/128); Tue, 23 Sep 2025 09:34:31 -0700 (PDT) X-Relaying-Domain: iol.unh.edu Date: Tue, 23 Sep 2025 09:34:31 -0700 (PDT) Message-ID: <68d2cc17.c80a0220.11ce82.6a19SMTPIN_ADDED_MISSING@mx.google.com> Received: from [172.21.0.2] (unknown [172.18.0.240]) by postal.iol.unh.edu (Postfix) with ESMTP id A7C556050A62; Tue, 23 Sep 2025 12:34:31 -0400 (EDT) Subject: |SUCCESS| pw156844 [PATCH] [v2] telemetry: remove deprecated functio From: dpdklab@iol.unh.edu To: Test Report Cc: dpdk-test-reports@iol.unh.edu In-Reply-To: <20250923143225.12252-1-bruce.richardson@intel.com> References: <20250923143225.12252-1-bruce.richardson@intel.com> Content-Type: text/plain X-BeenThere: test-report@dpdk.org X-Mailman-Version: 2.1.29 Precedence: list List-Id: automatic DPDK test reports List-Unsubscribe: , List-Archive: List-Post: List-Help: List-Subscribe: , Errors-To: test-report-bounces@dpdk.org Test-Label: iol-compile-amd64-testing Test-Status: SUCCESS http://dpdk.org/patch/156844 _Testing PASS_ Submitter: Bruce Richardson Date: Tuesday, September 23 2025 14:32:25 DPDK git baseline: Repo:dpdk Branch: master CommitID:0e03ab647d07cd985a7cac36cefff5195cc3a07d 156844 --> testing pass Upstream job id: Generic-DPDK-Compile-Meson#427722 Test environment and result as below: +-------------------------------+--------------------+-------------------+------------------+-------------------+-------------------------+----------------------+ | Environment | dpdk_meson_compile | dpdk_compile_spdk | dpdk_compile_ovs | dpdk_msvc_compile | dpdk_llvm_clang_compile | dpdk_mingw64_compile | +===============================+====================+===================+==================+===================+=========================+======================+ | FreeBSD 14.2 | PASS | SKIPPED | SKIPPED | SKIPPED | SKIPPED | SKIPPED | +-------------------------------+--------------------+-------------------+------------------+-------------------+-------------------------+----------------------+ | Debian GNU/Linux 12 | PASS | PASS | SKIPPED | SKIPPED | SKIPPED | SKIPPED | +-------------------------------+--------------------+-------------------+------------------+-------------------+-------------------------+----------------------+ | CentOS Stream 10 | PASS | SKIPPED | SKIPPED | SKIPPED | SKIPPED | SKIPPED | +-------------------------------+--------------------+-------------------+------------------+-------------------+-------------------------+----------------------+ | openSUSE Leap 15.6 | PASS | SKIPPED | SKIPPED | SKIPPED | SKIPPED | SKIPPED | +-------------------------------+--------------------+-------------------+------------------+-------------------+-------------------------+----------------------+ | CentOS Stream 9 | PASS | PASS | SKIPPED | SKIPPED | SKIPPED | SKIPPED | +-------------------------------+--------------------+-------------------+------------------+-------------------+-------------------------+----------------------+ | Alpine Linux 3.22.0 | PASS | SKIPPED | SKIPPED | SKIPPED | SKIPPED | SKIPPED | +-------------------------------+--------------------+-------------------+------------------+-------------------+-------------------------+----------------------+ | Ubuntu 24.04 | PASS | PASS | PASS | SKIPPED | SKIPPED | SKIPPED | +-------------------------------+--------------------+-------------------+------------------+-------------------+-------------------------+----------------------+ | Fedora Linux 42 | PASS | PASS | PASS | SKIPPED | SKIPPED | SKIPPED | +-------------------------------+--------------------+-------------------+------------------+-------------------+-------------------------+----------------------+ | Ubuntu 20.04 | PASS | SKIPPED | SKIPPED | SKIPPED | SKIPPED | SKIPPED | +-------------------------------+--------------------+-------------------+------------------+-------------------+-------------------------+----------------------+ | Ubuntu 22.04 | PASS | PASS | SKIPPED | SKIPPED | SKIPPED | SKIPPED | +-------------------------------+--------------------+-------------------+------------------+-------------------+-------------------------+----------------------+ | Red Hat Enterprise Linux 8.10 | PASS | SKIPPED | SKIPPED | SKIPPED | SKIPPED | SKIPPED | +-------------------------------+--------------------+-------------------+------------------+-------------------+-------------------------+----------------------+ | Red Hat Enterprise Linux 9.5 | PASS | SKIPPED | SKIPPED | SKIPPED | SKIPPED | SKIPPED | +-------------------------------+--------------------+-------------------+------------------+-------------------+-------------------------+----------------------+ | Windows Server 2022 | SKIPPED | SKIPPED | SKIPPED | PASS | PASS | PASS | +-------------------------------+--------------------+-------------------+------------------+-------------------+-------------------------+----------------------+ FreeBSD 14.2 Kernel: 14.2-RELEASE Compiler: clang 18.1.6 Debian GNU/Linux 12 Kernel: 5.15 Compiler: gcc gcc (Debian 12.2.0-14+deb12u1) 12.2.0 CentOS Stream 10 Kernel: 5.15 Compiler: gcc gcc (GCC) 14.2.1 20250110 (Red Hat 14.2.1-8) openSUSE Leap 15.6 Kernel: 5.15 Compiler: gcc gcc (SUSE Linux) 7.5.0 CentOS Stream 9 Kernel: 5.15 Compiler: gcc gcc (GCC) 11.5.0 20240719 (Red Hat 11.5.0-11) Alpine Linux 3.22.0 Kernel: 5.15 Compiler: gcc gcc (Alpine 14.2.0) 14.2.0 Ubuntu 24.04 Kernel: 5.15 Compiler: gcc gcc (Ubuntu 13.3.0-6ubuntu2~24.04) 13.3.0 Fedora Linux 42 Kernel: 5.15 Compiler: clang gcc (GCC) 15.2.1 20250808 (Red Hat 15.2.1-1) Ubuntu 20.04 Kernel: 4.19 Compiler: gcc gcc (Ubuntu 9.4.0-1ubuntu1~20.04.2) 9.4.0 Ubuntu 22.04 Kernel: 5.15 Compiler: gcc gcc (Ubuntu 11.4.0-1ubuntu1~22.04) 11.4.0 Red Hat Enterprise Linux 8.10 Kernel: 5.15 Compiler: gcc gcc (GCC) 8.5.0 20210514 (Red Hat 8.5.0-22) Red Hat Enterprise Linux 9.5 Kernel: 5.15 Compiler: gcc gcc (GCC) 11.5.0 20240719 (Red Hat 11.5.0-2) Windows Server 2022 Kernel: 10.0.20348.2031 Compiler: clang 15.0.7, gcc 14.1.0 (MinGW), and MSVC VS 19.39.33521 To view detailed results, visit: https://lab.dpdk.org/results/dashboard/patchsets/34123/ UNH-IOL DPDK Community Lab To manage your email subscriptions, visit: https://lab.dpdk.org/results/dashboard/preferences/subscriptions/