From mboxrd@z Thu Jan 1 00:00:00 1970 Return-Path: Received: from mails.dpdk.org (mails.dpdk.org [217.70.189.124]) by inbox.dpdk.org (Postfix) with ESMTP id 2765946F5C for ; Tue, 23 Sep 2025 18:43:52 +0200 (CEST) Received: from mails.dpdk.org (localhost [127.0.0.1]) by mails.dpdk.org (Postfix) with ESMTP id 05440402CB; Tue, 23 Sep 2025 18:43:52 +0200 (CEST) Received: from mail-yx1-f99.google.com (mail-yx1-f99.google.com [74.125.224.99]) by mails.dpdk.org (Postfix) with ESMTP id 5228F402CB for ; Tue, 23 Sep 2025 18:43:50 +0200 (CEST) Received: by mail-yx1-f99.google.com with SMTP id 956f58d0204a3-6352ba3c35cso1570909d50.3 for ; Tue, 23 Sep 2025 09:43:50 -0700 (PDT) DKIM-Signature: v=1; a=rsa-sha256; c=relaxed/relaxed; d=iol.unh.edu; s=unh-iol; t=1758645829; x=1759250629; darn=dpdk.org; h=references:in-reply-to:cc:to:from:subject:message-id:date:from:to :cc:subject:date:message-id:reply-to; bh=G5Bthu6RbPFdjXNdhzjK0jRF+KlmT62BbCm7siyDqtQ=; b=VI99p0p7rrNIq1U60ubZLbWoXRJuMWln78jYug1ULoW9R/H3RTydMFFmWFYUDaAs0O sLSDYlP8UrKyV8hFOjkaOqRcVpmfDrqY+pwzwDcmjmYnpA2Vtq6zP/ofeaT4uKndBWaj htHurnWWDWxE0Pphe3Qp/P1AppD7FLmakG5nU= X-Google-DKIM-Signature: v=1; a=rsa-sha256; c=relaxed/relaxed; d=1e100.net; s=20230601; t=1758645829; x=1759250629; h=references:in-reply-to:cc:to:from:subject:message-id:date :x-gm-message-state:from:to:cc:subject:date:message-id:reply-to; bh=G5Bthu6RbPFdjXNdhzjK0jRF+KlmT62BbCm7siyDqtQ=; b=utlOc8ZLklC8+NWPNgUSbeTGKX7xIghyuKTSisvWQtphFhUeUovyOsvE3HGh4kHTvc YQcTKhlXjLwA7RgVorU42QGbOac+fvKo7PUDCVTE5Iyc9ZGEWThsp7LrmKohdqZtWsTk Mdi3fYD0kquLhssrx8PZL9XncXxdOI8LeqjnLnJlVRFxO3Pnq44dgAhUyaztZwDhvS0y FOs6EDJvM1WBv76wHHoKKhb1dFEuiJyqv+CPgwRk7mKbPD9X4CIrj2R8ZqIyw8EbeLkH T1sV+WHtH9L9V0zZSqbquy7R9oR12Q84DQVpPu5F1w9OSTm/zvoVgdMdmZlprS69nIl2 rWBw== X-Gm-Message-State: AOJu0YwIC2xq/hWk+UTEzvOEE15LEKxw8NDCA0IedC6Km/hpDLvonH4+ qTuIM7+1mskrVvHm5/gwnojJrX4wqyofpGNIFJ7moxMsmX8j9c998Y8STNXyDksudHUU8Wx4ft/ PuN++dkNQoDullE51QIqykU6W9EzVpIbSWUgMm5FSFbUp X-Gm-Gg: ASbGncsV0qelgGIJbWOho+AAzbmEIL74vvNb3kQGpB7JlL2H/jkbAE0Bi7mtc6DT6w8 misK+FI1J8/YTywrKRLoyJMM3PHVy8fOjR1W7TLDkLAykP03Opxe7LE5LUnchYB9XSqB1ASjUXe ZJZUOVzo1Bgxo6Kuwu7vHucvUMAPztOK5nFAjTZ84z0SDUz3io2zvmEV+bLLDZQivFIIdQIP74e z4BydaTyZePH4aNTi6cAjFHOCxVbBv7Pi3SYgmC8un7OPZJvYwDQXOsQwB5k8JCWJp7Z8gBS0D3 tHrc67lS7pB8RbITTU4nr652Yoi4hNkbjrKrnZnOVnvRlbQUb9hznzfuwdeqNT+HGpQhIMoh X-Google-Smtp-Source: AGHT+IH6PPgsYDejtjFo1EMwS3i/6GyoqJhdN6ewS/MWVHQ2HAGRTCCKtu2IzwY7QewCVah6Sn6AgXrPNI8E X-Received: by 2002:a05:690e:4348:b0:635:4ed0:5759 with SMTP id 956f58d0204a3-6360479280cmr1929013d50.39.1758645829512; Tue, 23 Sep 2025 09:43:49 -0700 (PDT) Received: from postal.iol.unh.edu (postal.iol.unh.edu. [132.177.123.84]) by smtp-relay.gmail.com with ESMTPS id 00721157ae682-7397193077fsm6551707b3.28.2025.09.23.09.43.49 (version=TLS1_2 cipher=ECDHE-ECDSA-AES128-GCM-SHA256 bits=128/128); Tue, 23 Sep 2025 09:43:49 -0700 (PDT) X-Relaying-Domain: iol.unh.edu Date: Tue, 23 Sep 2025 09:43:49 -0700 (PDT) Message-ID: <68d2ce45.050a0220.372f85.a93bSMTPIN_ADDED_MISSING@mx.google.com> Received: from [172.21.0.2] (unknown [172.18.0.240]) by postal.iol.unh.edu (Postfix) with ESMTP id 111F8604D420; Tue, 23 Sep 2025 12:43:49 -0400 (EDT) Subject: |SUCCESS| pw156843 [PATCH] test/crypto: fix for mbuf sanity check fa From: dpdklab@iol.unh.edu To: Test Report Cc: dpdk-test-reports@iol.unh.edu, Akhil Goyal In-Reply-To: <20250923142254.1904208-1-nkaithakadan@marvell.com> References: <20250923142254.1904208-1-nkaithakadan@marvell.com> Content-Type: text/plain X-BeenThere: test-report@dpdk.org X-Mailman-Version: 2.1.29 Precedence: list List-Id: automatic DPDK test reports List-Unsubscribe: , List-Archive: List-Post: List-Help: List-Subscribe: , Errors-To: test-report-bounces@dpdk.org Test-Label: iol-unit-arm64-testing Test-Status: SUCCESS http://dpdk.org/patch/156843 _Testing PASS_ Submitter: Nithinsen Kaithakadan Date: Tuesday, September 23 2025 14:22:54 DPDK git baseline: Repo:dpdk-next-crypto Branch: master CommitID:4159ea62922ce41566c7bab44655ad78bee85458 156843 --> testing pass Upstream job id: Generic-Unit-Test-DPDK#374029 Test environment and result as below: +------------------------------+----------------+--------------+---------------------------+------------------------------+ | Environment | dpdk_unit_test | lpm_autotest | cryptodev_sw_zuc_autotest | cryptodev_sw_snow3g_autotest | +==============================+================+==============+===========================+==============================+ | Debian GNU/Linux 12 | PASS | SKIPPED | SKIPPED | SKIPPED | +------------------------------+----------------+--------------+---------------------------+------------------------------+ | Ubuntu 24.04 | PASS | SKIPPED | SKIPPED | SKIPPED | +------------------------------+----------------+--------------+---------------------------+------------------------------+ | Ubuntu 22.04 | PASS | SKIPPED | SKIPPED | SKIPPED | +------------------------------+----------------+--------------+---------------------------+------------------------------+ | CentOS Stream 10 | PASS | SKIPPED | SKIPPED | SKIPPED | +------------------------------+----------------+--------------+---------------------------+------------------------------+ | Fedora Linux 40 | PASS | SKIPPED | SKIPPED | SKIPPED | +------------------------------+----------------+--------------+---------------------------+------------------------------+ | Fedora Linux 42 | PASS | SKIPPED | SKIPPED | SKIPPED | +------------------------------+----------------+--------------+---------------------------+------------------------------+ | Fedora Linux 41 | PASS | SKIPPED | SKIPPED | SKIPPED | +------------------------------+----------------+--------------+---------------------------+------------------------------+ | Ubuntu 20.04 | PASS | PASS | SKIPPED | SKIPPED | +------------------------------+----------------+--------------+---------------------------+------------------------------+ | Red Hat Enterprise Linux 9.5 | PASS | SKIPPED | SKIPPED | SKIPPED | +------------------------------+----------------+--------------+---------------------------+------------------------------+ | CentOS Stream 9 | PASS | SKIPPED | SKIPPED | SKIPPED | +------------------------------+----------------+--------------+---------------------------+------------------------------+ | Debian 12 (arm) | SKIPPED | SKIPPED | PASS | PASS | +------------------------------+----------------+--------------+---------------------------+------------------------------+ Debian GNU/Linux 12 Kernel: 5.4 Compiler: gcc gcc (Debian 12.2.0-14+deb12u1) 12.2.0 Ubuntu 24.04 Kernel: 5.4 Compiler: gcc gcc (Ubuntu 13.3.0-6ubuntu2~24.04) 13.3.0 Ubuntu 22.04 Kernel: 5.4 Compiler: gcc gcc (Ubuntu 11.4.0-1ubuntu1~22.04) 11.4.0 CentOS Stream 10 Kernel: 5.4 Compiler: gcc gcc (GCC) 14.2.1 20250110 (Red Hat 14.2.1-8) Fedora Linux 40 Kernel: 5.4 Compiler: gcc gcc (GCC) 14.2.1 20240912 (Red Hat 14.2.1-3) Fedora Linux 42 Kernel: 5.4 Compiler: gcc gcc (GCC) 15.2.1 20250808 (Red Hat 15.2.1-1) Fedora Linux 41 Kernel: 5.4 Compiler: gcc gcc (GCC) 14.3.1 20250523 (Red Hat 14.3.1-1) Ubuntu 20.04 Kernel: 5.4 Compiler: gcc gcc (Ubuntu 9.4.0-1ubuntu1~20.04.2) 9.4.0 Red Hat Enterprise Linux 9.5 Kernel: 5.4 Compiler: gcc gcc (GCC) 11.5.0 20240719 (Red Hat 11.5.0-2) CentOS Stream 9 Kernel: 5.4 Compiler: gcc gcc (GCC) 11.5.0 20240719 (Red Hat 11.5.0-11) Debian 12 (arm) Kernel: Depends on container host Compiler: gcc (Debian 12.2.0-14) 12.2.0 To view detailed results, visit: https://lab.dpdk.org/results/dashboard/patchsets/34122/ UNH-IOL DPDK Community Lab To manage your email subscriptions, visit: https://lab.dpdk.org/results/dashboard/preferences/subscriptions/