From mboxrd@z Thu Jan 1 00:00:00 1970 Return-Path: Received: from mails.dpdk.org (mails.dpdk.org [217.70.189.124]) by inbox.dpdk.org (Postfix) with ESMTP id DD99146F5C for ; Tue, 23 Sep 2025 18:53:06 +0200 (CEST) Received: from mails.dpdk.org (localhost [127.0.0.1]) by mails.dpdk.org (Postfix) with ESMTP id D42D2402CB; Tue, 23 Sep 2025 18:53:06 +0200 (CEST) Received: from mail-pf1-f228.google.com (mail-pf1-f228.google.com [209.85.210.228]) by mails.dpdk.org (Postfix) with ESMTP id D3B22402CB for ; Tue, 23 Sep 2025 18:53:04 +0200 (CEST) Received: by mail-pf1-f228.google.com with SMTP id d2e1a72fcca58-77e6495c999so4357627b3a.3 for ; Tue, 23 Sep 2025 09:53:04 -0700 (PDT) DKIM-Signature: v=1; a=rsa-sha256; c=relaxed/relaxed; d=iol.unh.edu; s=unh-iol; t=1758646384; x=1759251184; darn=dpdk.org; h=references:in-reply-to:cc:to:from:subject:message-id:date:from:to :cc:subject:date:message-id:reply-to; bh=4rgD5LWsbVXea/WJceCFi1h9gH8o/XNVEpcOr7+xsIM=; b=IsdTDzzZ0wQMZ9nfQLCDLJ3eYqTbSAc8vDKIUd89YY0dIG9hBVS2nsXJFgIYIY8boO boHSTexucld9ezxpfu6XV7mWMDEDSDY4XvgZp7pWuCdJd7QpGJABx+scrtXSsDLKGsLb +8IBPckQiM6/sDEdDx5wJ91XyIOjOt2lEYxjQ= X-Google-DKIM-Signature: v=1; a=rsa-sha256; c=relaxed/relaxed; d=1e100.net; s=20230601; t=1758646384; x=1759251184; h=references:in-reply-to:cc:to:from:subject:message-id:date :x-gm-message-state:from:to:cc:subject:date:message-id:reply-to; bh=4rgD5LWsbVXea/WJceCFi1h9gH8o/XNVEpcOr7+xsIM=; b=UOGTTPYfIQNB4IBAxMq0rwvK2Upgk4es5C4Sc9BoyrcmJ+896nBearllJozvaFhGf0 8wpYJZ+qoRUECoNdBdrfxAF3cNXLW+SODIMeIrMrNtqKlm3lquPSvzcISS9VaGdzFRpj V2TdSqe+/l0IBaUJf4NTfxC5NZlH8KdG1a4j6Y4QRzx1SlE/5PeJtqiVWH3sX/xEJ6yv vg4p1APwzIiEJqA8P2nBy76AGdgeLuVPmljwFD8t19SPJuqsVIu4H8DNdZ9aWFJ9uvC1 p7rnI9z0tdEp+jdEV1aL1qkZ85S6telqqowiXp82W4NMix/o/SCsEjqs3EBxVDxPxg5e 2zMQ== X-Gm-Message-State: AOJu0YxzY79sBjTRxD0slvt9+98ny5xJt7d7S9R3VCtsr0CsfTcZC/H2 OJWRA6WzWgim+yeV/6MkYmVcAoEvGEWcAj+5x5Ucdn4RlWmDuQw4uxbzLTwpQyYmg85vvUTg9vA B/w5IpUqhoNE7Mjl9fQncuxmGgIBNBZVX/ORE50agvXqB6qkrF+lLvQo+Hdby X-Gm-Gg: ASbGnctKjT1iJgaJKQg5JgYkv5G8vQ9YabqWgJJhwYv66KELIIpkjvUlC/mQIVlJgS0 Rewizfur5crPRx1C9Ci2AqrN74A4Ak+GMnl4zLht49fMwv+jj8htA9imEyd9qsTnnUmAxDpl7X1 939YV7Wxpgy/cuoHn1IJpIvYy1wHhD8pCyO7RBOHOBc/hoyWk/6Kxbs1Ph61v2QFQ66pC+gHQd0 x39kEOg15YFuZW67DKE74ufB7gEX3YpnUlMbrKACxhLUrOCqASrWPVB5daWgVfrOOP3XS+SBb20 zV9xAYY/mStL0Lt2q75s4P5GdqM25oVzZP7Ujzo8L1qKxH9aIQ== X-Google-Smtp-Source: AGHT+IHa2zqQfZtIlZaTlEzPfefMOYJKq/MiqUd65pfAzvxF3qIrk3mCJo15HI3ail8srjrQf7d4HGuO7GUz X-Received: by 2002:aa7:8882:0:b0:77e:81fb:709d with SMTP id d2e1a72fcca58-77f53a6dbfdmr3335762b3a.16.1758646384003; Tue, 23 Sep 2025 09:53:04 -0700 (PDT) Received: from postal.iol.unh.edu (postal.iol.unh.edu. [2606:4100:3880:1234::84]) by smtp-relay.gmail.com with ESMTPS id d2e1a72fcca58-77f165855dfsm592141b3a.14.2025.09.23.09.53.03 (version=TLS1_2 cipher=ECDHE-ECDSA-AES128-GCM-SHA256 bits=128/128); Tue, 23 Sep 2025 09:53:03 -0700 (PDT) X-Relaying-Domain: iol.unh.edu Date: Tue, 23 Sep 2025 09:53:03 -0700 (PDT) Message-ID: <68d2d06f.050a0220.14eb68.9c94SMTPIN_ADDED_MISSING@mx.google.com> Received: from [172.21.0.3] (unknown [172.18.0.240]) by postal.iol.unh.edu (Postfix) with ESMTP id 118AF604D420; Tue, 23 Sep 2025 12:53:03 -0400 (EDT) Subject: |SUCCESS| pw156845 [PATCH] [v3] build: remove deprecated kmods optio From: dpdklab@iol.unh.edu To: Test Report Cc: dpdk-test-reports@iol.unh.edu In-Reply-To: <20250923144000.13570-1-bruce.richardson@intel.com> References: <20250923144000.13570-1-bruce.richardson@intel.com> Content-Type: text/plain X-BeenThere: test-report@dpdk.org X-Mailman-Version: 2.1.29 Precedence: list List-Id: automatic DPDK test reports List-Unsubscribe: , List-Archive: List-Post: List-Help: List-Subscribe: , Errors-To: test-report-bounces@dpdk.org Test-Label: iol-compile-amd64-testing Test-Status: SUCCESS http://dpdk.org/patch/156845 _Testing PASS_ Submitter: Bruce Richardson Date: Tuesday, September 23 2025 14:40:00 DPDK git baseline: Repo:dpdk-next-dts Branch: master CommitID:b71d7bdf2b663f9fedc1d344b81a8cf65518026c 156845 --> testing pass Upstream job id: Generic-DPDK-Compile-Meson#427762 Test environment and result as below: +-------------------------------+--------------------+-------------------+------------------+-------------------+-------------------------+----------------------+ | Environment | dpdk_meson_compile | dpdk_compile_spdk | dpdk_compile_ovs | dpdk_msvc_compile | dpdk_llvm_clang_compile | dpdk_mingw64_compile | +===============================+====================+===================+==================+===================+=========================+======================+ | CentOS Stream 9 | PASS | PASS | SKIPPED | SKIPPED | SKIPPED | SKIPPED | +-------------------------------+--------------------+-------------------+------------------+-------------------+-------------------------+----------------------+ | CentOS Stream 10 | PASS | SKIPPED | SKIPPED | SKIPPED | SKIPPED | SKIPPED | +-------------------------------+--------------------+-------------------+------------------+-------------------+-------------------------+----------------------+ | Ubuntu 20.04 | PASS | SKIPPED | SKIPPED | SKIPPED | SKIPPED | SKIPPED | +-------------------------------+--------------------+-------------------+------------------+-------------------+-------------------------+----------------------+ | Debian GNU/Linux 12 | PASS | PASS | SKIPPED | SKIPPED | SKIPPED | SKIPPED | +-------------------------------+--------------------+-------------------+------------------+-------------------+-------------------------+----------------------+ | Fedora Linux 42 | PASS | PASS | PASS | SKIPPED | SKIPPED | SKIPPED | +-------------------------------+--------------------+-------------------+------------------+-------------------+-------------------------+----------------------+ | FreeBSD 14.2 | PASS | SKIPPED | SKIPPED | SKIPPED | SKIPPED | SKIPPED | +-------------------------------+--------------------+-------------------+------------------+-------------------+-------------------------+----------------------+ | openSUSE Leap 15.6 | PASS | SKIPPED | SKIPPED | SKIPPED | SKIPPED | SKIPPED | +-------------------------------+--------------------+-------------------+------------------+-------------------+-------------------------+----------------------+ | Red Hat Enterprise Linux 8.10 | PASS | SKIPPED | SKIPPED | SKIPPED | SKIPPED | SKIPPED | +-------------------------------+--------------------+-------------------+------------------+-------------------+-------------------------+----------------------+ | Red Hat Enterprise Linux 9.5 | PASS | SKIPPED | SKIPPED | SKIPPED | SKIPPED | SKIPPED | +-------------------------------+--------------------+-------------------+------------------+-------------------+-------------------------+----------------------+ | Ubuntu 22.04 | PASS | PASS | SKIPPED | SKIPPED | SKIPPED | SKIPPED | +-------------------------------+--------------------+-------------------+------------------+-------------------+-------------------------+----------------------+ | Ubuntu 24.04 | PASS | PASS | PASS | SKIPPED | SKIPPED | SKIPPED | +-------------------------------+--------------------+-------------------+------------------+-------------------+-------------------------+----------------------+ | Alpine Linux 3.22.0 | PASS | SKIPPED | SKIPPED | SKIPPED | SKIPPED | SKIPPED | +-------------------------------+--------------------+-------------------+------------------+-------------------+-------------------------+----------------------+ | Windows Server 2022 | SKIPPED | SKIPPED | SKIPPED | PASS | PASS | PASS | +-------------------------------+--------------------+-------------------+------------------+-------------------+-------------------------+----------------------+ CentOS Stream 9 Kernel: 5.15 Compiler: gcc gcc (GCC) 11.5.0 20240719 (Red Hat 11.5.0-11) CentOS Stream 10 Kernel: 5.15 Compiler: gcc gcc (GCC) 14.2.1 20250110 (Red Hat 14.2.1-8) Ubuntu 20.04 Kernel: 4.19 Compiler: gcc gcc (Ubuntu 9.4.0-1ubuntu1~20.04.2) 9.4.0 Debian GNU/Linux 12 Kernel: 5.15 Compiler: gcc gcc (Debian 12.2.0-14+deb12u1) 12.2.0 Fedora Linux 42 Kernel: 5.15 Compiler: clang gcc (GCC) 15.2.1 20250808 (Red Hat 15.2.1-1) FreeBSD 14.2 Kernel: 14.2-RELEASE Compiler: clang 18.1.6 openSUSE Leap 15.6 Kernel: 5.15 Compiler: gcc gcc (SUSE Linux) 7.5.0 Red Hat Enterprise Linux 8.10 Kernel: 5.15 Compiler: gcc gcc (GCC) 8.5.0 20210514 (Red Hat 8.5.0-22) Red Hat Enterprise Linux 9.5 Kernel: 5.15 Compiler: gcc gcc (GCC) 11.5.0 20240719 (Red Hat 11.5.0-2) Ubuntu 22.04 Kernel: 5.15 Compiler: gcc gcc (Ubuntu 11.4.0-1ubuntu1~22.04) 11.4.0 Ubuntu 24.04 Kernel: 5.15 Compiler: gcc gcc (Ubuntu 13.3.0-6ubuntu2~24.04) 13.3.0 Alpine Linux 3.22.0 Kernel: 5.15 Compiler: gcc gcc (Alpine 14.2.0) 14.2.0 Windows Server 2022 Kernel: 10.0.20348.2031 Compiler: clang 15.0.7, gcc 14.1.0 (MinGW), and MSVC VS 19.39.33521 To view detailed results, visit: https://lab.dpdk.org/results/dashboard/patchsets/34124/ UNH-IOL DPDK Community Lab To manage your email subscriptions, visit: https://lab.dpdk.org/results/dashboard/preferences/subscriptions/