From mboxrd@z Thu Jan 1 00:00:00 1970 Return-Path: Received: from mails.dpdk.org (mails.dpdk.org [217.70.189.124]) by inbox.dpdk.org (Postfix) with ESMTP id 6D4D546F5C for ; Tue, 23 Sep 2025 19:02:29 +0200 (CEST) Received: from mails.dpdk.org (localhost [127.0.0.1]) by mails.dpdk.org (Postfix) with ESMTP id 4FCC540615; Tue, 23 Sep 2025 19:02:29 +0200 (CEST) Received: from mail-oa1-f100.google.com (mail-oa1-f100.google.com [209.85.160.100]) by mails.dpdk.org (Postfix) with ESMTP id 0F10640615 for ; Tue, 23 Sep 2025 19:02:28 +0200 (CEST) Received: by mail-oa1-f100.google.com with SMTP id 586e51a60fabf-3463a97602aso1638899fac.1 for ; Tue, 23 Sep 2025 10:02:27 -0700 (PDT) DKIM-Signature: v=1; a=rsa-sha256; c=relaxed/relaxed; d=iol.unh.edu; s=unh-iol; t=1758646947; x=1759251747; darn=dpdk.org; h=references:in-reply-to:cc:to:from:subject:message-id:date:from:to :cc:subject:date:message-id:reply-to; bh=hjJmzc9V6ZOyUyqJNjJoFOJQWrMRErkNaU5RmjErMiI=; b=ar3/qpgApCOj2XK0UUZe7ynY48CRMPbSKPmkOANxmr03Jrqrs24PsLio6zgEJS/ouS YG3m4nLYiOf7yD+MjWTwjM5bilr01FU/fBZ67eq2qReYv6WfRLWAOzb0KIgIg0gTbVnr rwAgcx/kUqmGaR+Y987ayn4ojVaj8QSShj9vQ= X-Google-DKIM-Signature: v=1; a=rsa-sha256; c=relaxed/relaxed; d=1e100.net; s=20230601; t=1758646947; x=1759251747; h=references:in-reply-to:cc:to:from:subject:message-id:date :x-gm-message-state:from:to:cc:subject:date:message-id:reply-to; bh=hjJmzc9V6ZOyUyqJNjJoFOJQWrMRErkNaU5RmjErMiI=; b=OCtypT9rLa4Zu3g/HyY1P90/Gz0kl8bmBUyB6AgvHmbSbujuicvRZcB3tMxZAcX+Em I5BRh46qqxT7RejprXE4Fyac1jeMzMjyVrk9eAqrGYHjiMmMeI2tVeE+ZxN3G1pZhZE1 8xNt4T61+OQ1aYaOCAOlN/6CWxV0+lidBLxPc8przOyhuj89tpXdfnun3QuEOgA6EQ0o vNF5yVbGV6LTqp7qL+2bd5MXLKBIfgYjeR7SUUCOIKqNfqTT8ZEpQ078I8TPA0Cc2dTm Fgo+aGqOQFe398crkfAwWmx/0xAVio3WnNSaHhQmrW0UvRImYzRfiERn52VT/mxzT5Uz 1U9g== X-Gm-Message-State: AOJu0YysA8yAeYea4ZMGGN4/O4OfApVEvxmR5+4bIHCJnQaQQ80ViWgG p4k1ZljKVLLNB1AXFg0Min3v0qUg2O6ETJoS7Nk/IB6TU4qF1il9vSI909fO7LCr9qmnNWSBCPm U1Y9EPjkpJQNDgbYwD+qczx/jgGwuBy5Fy+RujdXu3ZAs X-Gm-Gg: ASbGncvww/VZhC4+ZXnB09/hCnQW9BswDQ4DRvhfnk7188LP8Pwff+NdByG9PYPU80R 1n2rppiIirDLxmUV5lpH0ke0dYfTtOIjWI+Ks2j8hdoeQ/FzBgWnUlgYKX8zEmU47wE58BX4QzN ArpqLBGbJ3UjEQQHj587bR2Ud4alsZpq9DkcpwLcYVqnrq/ZJQgjNp6LVQ27SbCboWxUVl7ediZ qJk3TLvBcsryhR4nBQ5/iNShhTcGH3WnFuBFirYjURoVjxnEkulXOOj2rfkLc09Ai4TqUxWzisS XIivdIbw9rBu7WrCwRzfyVhGHN17DxSe3cSk6GyM0btVNdioI+Qnl5bWRxRidb9QoYoyOrrU X-Google-Smtp-Source: AGHT+IEw6Bzk03iTfjWqsm+FP76tpMygJkNZZPtmvnXaY++k3eBNwEotPfe7MAJ33CXRbwlfwIaom3YAOLoZ X-Received: by 2002:a05:6808:f8c:b0:43f:2794:3afd with SMTP id 5614622812f47-43f2d4ccec6mr1444016b6e.36.1758646947108; Tue, 23 Sep 2025 10:02:27 -0700 (PDT) Received: from postal.iol.unh.edu (postal.iol.unh.edu. [132.177.123.84]) by smtp-relay.gmail.com with ESMTPS id 8926c6da1cb9f-566394860d3sm38844173.30.2025.09.23.10.02.27 (version=TLS1_2 cipher=ECDHE-ECDSA-AES128-GCM-SHA256 bits=128/128); Tue, 23 Sep 2025 10:02:27 -0700 (PDT) X-Relaying-Domain: iol.unh.edu Date: Tue, 23 Sep 2025 10:02:27 -0700 (PDT) Message-ID: <68d2d2a3.050a0220.101657.24a7SMTPIN_ADDED_MISSING@mx.google.com> Received: from [172.21.0.2] (unknown [172.18.0.240]) by postal.iol.unh.edu (Postfix) with ESMTP id A7AB7604D420; Tue, 23 Sep 2025 13:02:26 -0400 (EDT) Subject: |SUCCESS| pw156845 [PATCH] [v3] build: remove deprecated kmods optio From: dpdklab@iol.unh.edu To: Test Report Cc: dpdk-test-reports@iol.unh.edu In-Reply-To: <20250923144000.13570-1-bruce.richardson@intel.com> References: <20250923144000.13570-1-bruce.richardson@intel.com> Content-Type: text/plain X-BeenThere: test-report@dpdk.org X-Mailman-Version: 2.1.29 Precedence: list List-Id: automatic DPDK test reports List-Unsubscribe: , List-Archive: List-Post: List-Help: List-Subscribe: , Errors-To: test-report-bounces@dpdk.org Test-Label: iol-unit-amd64-testing Test-Status: SUCCESS http://dpdk.org/patch/156845 _Testing PASS_ Submitter: Bruce Richardson Date: Tuesday, September 23 2025 14:40:00 DPDK git baseline: Repo:dpdk-next-dts Branch: master CommitID:b71d7bdf2b663f9fedc1d344b81a8cf65518026c 156845 --> testing pass Upstream job id: Generic-Unit-Test-DPDK#374104 Test environment and result as below: +-------------------------------+----------------+ | Environment | dpdk_unit_test | +===============================+================+ | CentOS Stream 9 | PASS | +-------------------------------+----------------+ | Fedora Linux 40 | PASS | +-------------------------------+----------------+ | Fedora Linux 41 | PASS | +-------------------------------+----------------+ | CentOS Stream 10 | PASS | +-------------------------------+----------------+ | Debian GNU/Linux 12 | PASS | +-------------------------------+----------------+ | Red Hat Enterprise Linux 8.10 | PASS | +-------------------------------+----------------+ | Fedora Linux 42 | PASS | +-------------------------------+----------------+ | Red Hat Enterprise Linux 9.5 | PASS | +-------------------------------+----------------+ | Ubuntu 20.04 | PASS | +-------------------------------+----------------+ | Ubuntu 24.04 | PASS | +-------------------------------+----------------+ | Ubuntu 22.04 | PASS | +-------------------------------+----------------+ | Windows Server 2022 | PASS | +-------------------------------+----------------+ CentOS Stream 9 Kernel: 5.15 Compiler: gcc gcc (GCC) 11.5.0 20240719 (Red Hat 11.5.0-11) Fedora Linux 40 Kernel: 5.15 Compiler: gcc gcc (GCC) 14.2.1 20240912 (Red Hat 14.2.1-3) Fedora Linux 41 Kernel: 5.15 Compiler: gcc gcc (GCC) 14.3.1 20250523 (Red Hat 14.3.1-1) CentOS Stream 10 Kernel: 5.15 Compiler: gcc gcc (GCC) 14.2.1 20250110 (Red Hat 14.2.1-8) Debian GNU/Linux 12 Kernel: 5.15 Compiler: gcc gcc (Debian 12.2.0-14+deb12u1) 12.2.0 Red Hat Enterprise Linux 8.10 Kernel: 5.15 Compiler: gcc gcc (GCC) 8.5.0 20210514 (Red Hat 8.5.0-22) Fedora Linux 42 Kernel: 5.15 Compiler: clang gcc (GCC) 15.2.1 20250808 (Red Hat 15.2.1-1) Red Hat Enterprise Linux 9.5 Kernel: 5.15 Compiler: gcc gcc (GCC) 11.5.0 20240719 (Red Hat 11.5.0-2) Ubuntu 20.04 Kernel: 5.15 Compiler: gcc gcc (Ubuntu 9.4.0-1ubuntu1~20.04.2) 9.4.0 Ubuntu 24.04 Kernel: 5.15 Compiler: gcc gcc (Ubuntu 13.3.0-6ubuntu2~24.04) 13.3.0 Ubuntu 22.04 Kernel: 5.15 Compiler: gcc gcc (Ubuntu 11.4.0-1ubuntu1~22.04) 11.4.0 Windows Server 2022 Kernel: 10.0.20348.2031 Compiler: clang 15.0.7, gcc 14.1.0 (MinGW), and MSVC VS 19.39.33521 To view detailed results, visit: https://lab.dpdk.org/results/dashboard/patchsets/34124/ UNH-IOL DPDK Community Lab To manage your email subscriptions, visit: https://lab.dpdk.org/results/dashboard/preferences/subscriptions/