From mboxrd@z Thu Jan 1 00:00:00 1970 Return-Path: Received: from mails.dpdk.org (mails.dpdk.org [217.70.189.124]) by inbox.dpdk.org (Postfix) with ESMTP id 3611D46F5C for ; Tue, 23 Sep 2025 19:46:35 +0200 (CEST) Received: from mails.dpdk.org (localhost [127.0.0.1]) by mails.dpdk.org (Postfix) with ESMTP id 31704402D9; Tue, 23 Sep 2025 19:46:35 +0200 (CEST) Received: from mail-pl1-f226.google.com (mail-pl1-f226.google.com [209.85.214.226]) by mails.dpdk.org (Postfix) with ESMTP id 7FAB2402D9 for ; Tue, 23 Sep 2025 19:46:34 +0200 (CEST) Received: by mail-pl1-f226.google.com with SMTP id d9443c01a7336-271067d66fbso34494185ad.3 for ; Tue, 23 Sep 2025 10:46:34 -0700 (PDT) DKIM-Signature: v=1; a=rsa-sha256; c=relaxed/relaxed; d=iol.unh.edu; s=unh-iol; t=1758649594; x=1759254394; darn=dpdk.org; h=references:in-reply-to:cc:to:from:subject:message-id:date:from:to :cc:subject:date:message-id:reply-to; bh=meD9AOlIaT0Pqtliig5qVG5RWdHeOvj62nKIL2TL6oQ=; b=cLHyUvcRYC/Y4lkhIRWpAWK9IrJtc5Ky8OEk2Kd7Zq2u+2QKNZvcmv+ljvSy+AT78Y t8DSvbratcM2R6X/tiSTw3/36JYG+A2gpZoitwzPHb7mvaZSgq7a6bBk0GeFpJGW178t xG185R/VGuqvdss7oAQSA4QUCsgmpiP3pmn8s= X-Google-DKIM-Signature: v=1; a=rsa-sha256; c=relaxed/relaxed; d=1e100.net; s=20230601; t=1758649594; x=1759254394; h=references:in-reply-to:cc:to:from:subject:message-id:date :x-gm-message-state:from:to:cc:subject:date:message-id:reply-to; bh=meD9AOlIaT0Pqtliig5qVG5RWdHeOvj62nKIL2TL6oQ=; b=VJj2bL0f5cD2PMi88042WowSd2FmwFaoQx1hbdyyxXcUfnR9nNo1QRgVLJ4dWquCOq syRqBPBqFeNR7vG0fRjPfVYy5J08jiKPZ0Hsts8NwYSmXWiHdSQLrjAfLpeQ5vvTd1od rHRNU6c7AbjFUv3AsRi6Z6Yma3zWgiGSgGVzrVnhTDuZLoucMgaXjiMdT1w29Px2SOvO 5QbFdHho7rlPtqDcaDaUKawKh9P8mjrYljPvNx84ecWpTzGoKeyPwGoUJWV58i5wzP3H M+sqraVn+sOIn8wG2jinPf4VEKGD+d49fgTVbUBBpKcqOXEnA+Rl5G+6xjVI3ZogxJ96 +/kg== X-Gm-Message-State: AOJu0YyO5FDA+dEqQ6uJKp4F/13+d9q9Cb4p11WiRIurdpu/H7cVVnOM wknNNW93DmvwEbY8b7FPct4SN799w91GhsKfrFKpvQa8jzMNFQHFRBwE70plhVKWiPrZ9Y/uxKp 2x/6oIRqDIjS3EaJ5SoL4e51ujOWGquO+r6ueIn2P0E5Y X-Gm-Gg: ASbGncuLp1HuzvJ5o/WFdj2+fy9HRorpk02jz5Vxmv43kWaxAhtTLDWd9jkFxtZEOE/ 9ll+zT5NQYkkJIRQboSpc65X+W+W7HhlYBo8M3CrSnZWS6ErUeQzb+Bh4YfJyYbVQDY4zMetrNP tYbmz1LHxUxZx9QygO+I0QYlbtq7pUxVKa/OAxx7lfE57+FFon5n1yaqDAmN6BWfc7+SNLSl5qd 8uD66Dh1YNfLXhah4I13JBWR04UId5n4bG6HYI6EZYcR3jFqDU15jwXVOto1zbma3bmfy9ZSQpa 4vd+vJ3XA1kBAJc64kDycRgkjr4/ZP7X85My4raXD2G6m2zU5duLPyJHMjbQ3t7wxvGh5ulX X-Google-Smtp-Source: AGHT+IHhcdc6G1ExDxZg/87ZPP7ABTMtH1f9cmkaaF4ZrQW0yDaHc07CjVIs0upvFXeMkqvsWlzddUA7/lpF X-Received: by 2002:a17:903:4b04:b0:274:746c:b09 with SMTP id d9443c01a7336-27cc7bb3bc8mr36637815ad.55.1758649593724; Tue, 23 Sep 2025 10:46:33 -0700 (PDT) Received: from postal.iol.unh.edu (postal.iol.unh.edu. [132.177.123.84]) by smtp-relay.gmail.com with ESMTPS id d9443c01a7336-2698004758bsm10682025ad.10.2025.09.23.10.46.33 (version=TLS1_2 cipher=ECDHE-ECDSA-AES128-GCM-SHA256 bits=128/128); Tue, 23 Sep 2025 10:46:33 -0700 (PDT) X-Relaying-Domain: iol.unh.edu Date: Tue, 23 Sep 2025 10:46:33 -0700 (PDT) Message-ID: <68d2dcf9.170a0220.3c8735.8821SMTPIN_ADDED_MISSING@mx.google.com> Received: from [172.21.0.2] (unknown [172.18.0.240]) by postal.iol.unh.edu (Postfix) with ESMTP id 0122A604D420; Tue, 23 Sep 2025 13:46:33 -0400 (EDT) Subject: |SUCCESS| pw156847-156849 [PATCH] [3/3] app/compress-perf: support f From: dpdklab@iol.unh.edu To: Test Report Cc: dpdk-test-reports@iol.unh.edu, Akhil Goyal In-Reply-To: <20250923163115.1397923-3-svaze@qti.qualcomm.com> References: <20250923163115.1397923-3-svaze@qti.qualcomm.com> Content-Type: text/plain X-BeenThere: test-report@dpdk.org X-Mailman-Version: 2.1.29 Precedence: list List-Id: automatic DPDK test reports List-Unsubscribe: , List-Archive: List-Post: List-Help: List-Subscribe: , Errors-To: test-report-bounces@dpdk.org Test-Label: iol-unit-amd64-testing Test-Status: SUCCESS http://dpdk.org/patch/156849 _Testing PASS_ Submitter: Sameer Vaze Date: Tuesday, September 23 2025 16:31:15 DPDK git baseline: Repo:dpdk-next-crypto Branch: master CommitID:4159ea62922ce41566c7bab44655ad78bee85458 156847-156849 --> testing pass Upstream job id: Generic-VM-Unit-Test-DPDK#31319 Test environment and result as below: +-------------------------------+----------------+ | Environment | dpdk_unit_test | +===============================+================+ | Fedora Linux 40 | PASS | +-------------------------------+----------------+ | Debian GNU/Linux 12 | PASS | +-------------------------------+----------------+ | CentOS Stream 10 | PASS | +-------------------------------+----------------+ | Fedora Linux 41 | PASS | +-------------------------------+----------------+ | CentOS Stream 9 | PASS | +-------------------------------+----------------+ | Fedora Linux 42 | PASS | +-------------------------------+----------------+ | Ubuntu 22.04 | PASS | +-------------------------------+----------------+ | Red Hat Enterprise Linux 8.10 | PASS | +-------------------------------+----------------+ | Ubuntu 20.04 | PASS | +-------------------------------+----------------+ | Red Hat Enterprise Linux 9.5 | PASS | +-------------------------------+----------------+ | Ubuntu 24.04 | PASS | +-------------------------------+----------------+ | Windows Server 2022 | PASS | +-------------------------------+----------------+ Fedora Linux 40 Kernel: 5.15 Compiler: clang gcc (GCC) 14.2.1 20240912 (Red Hat 14.2.1-3) Debian GNU/Linux 12 Kernel: 5.15 Compiler: gcc gcc (Debian 12.2.0-14+deb12u1) 12.2.0 CentOS Stream 10 Kernel: 5.15 Compiler: gcc gcc (GCC) 14.2.1 20250110 (Red Hat 14.2.1-8) Fedora Linux 41 Kernel: 5.15 Compiler: gcc gcc (GCC) 14.3.1 20250523 (Red Hat 14.3.1-1) CentOS Stream 9 Kernel: 5.15 Compiler: gcc gcc (GCC) 11.5.0 20240719 (Red Hat 11.5.0-11) Fedora Linux 42 Kernel: 5.15 Compiler: clang gcc (GCC) 15.2.1 20250808 (Red Hat 15.2.1-1) Ubuntu 22.04 Kernel: 5.15 Compiler: gcc gcc (Ubuntu 11.4.0-1ubuntu1~22.04) 11.4.0 Red Hat Enterprise Linux 8.10 Kernel: 5.15 Compiler: gcc gcc (GCC) 8.5.0 20210514 (Red Hat 8.5.0-22) Ubuntu 20.04 Kernel: 5.15 Compiler: gcc gcc (Ubuntu 9.4.0-1ubuntu1~20.04.2) 9.4.0 Red Hat Enterprise Linux 9.5 Kernel: 5.15 Compiler: gcc gcc (GCC) 11.5.0 20240719 (Red Hat 11.5.0-2) Ubuntu 24.04 Kernel: 5.15 Compiler: gcc gcc (Ubuntu 13.3.0-6ubuntu2~24.04) 13.3.0 Windows Server 2022 Kernel: 10.0.20348.2031 Compiler: clang 15.0.7, gcc 14.1.0 (MinGW), and MSVC VS 19.39.33521 To view detailed results, visit: https://lab.dpdk.org/results/dashboard/patchsets/34126/ UNH-IOL DPDK Community Lab To manage your email subscriptions, visit: https://lab.dpdk.org/results/dashboard/preferences/subscriptions/