From mboxrd@z Thu Jan 1 00:00:00 1970 Return-Path: Received: from mails.dpdk.org (mails.dpdk.org [217.70.189.124]) by inbox.dpdk.org (Postfix) with ESMTP id 5CFFA46F5E for ; Tue, 23 Sep 2025 20:06:51 +0200 (CEST) Received: from mails.dpdk.org (localhost [127.0.0.1]) by mails.dpdk.org (Postfix) with ESMTP id 58BDF402D1; Tue, 23 Sep 2025 20:06:51 +0200 (CEST) Received: from mail-il1-f228.google.com (mail-il1-f228.google.com [209.85.166.228]) by mails.dpdk.org (Postfix) with ESMTP id 9FBA8402D1 for ; Tue, 23 Sep 2025 20:06:49 +0200 (CEST) Received: by mail-il1-f228.google.com with SMTP id e9e14a558f8ab-42486ed0706so24997215ab.0 for ; Tue, 23 Sep 2025 11:06:49 -0700 (PDT) DKIM-Signature: v=1; a=rsa-sha256; c=relaxed/relaxed; d=iol.unh.edu; s=unh-iol; t=1758650809; x=1759255609; darn=dpdk.org; h=references:in-reply-to:cc:to:from:subject:message-id:date:from:to :cc:subject:date:message-id:reply-to; bh=+D4+q3lSZQFSONc01W43gj13KNtcEU5Qk+ac0lKN774=; b=SWThxq195m75vNulYHIDsTh83TT9z6hIJhOAXwBOl9XdNLVKnpOWblQW3aFazHM2zk hI6HXfKVo+WJL2fEh5OWrKjiYmuIP6Cs8nCBXIDldJPF1K8fNvmN14Tvthmqu5Va+Jat 2j4k3evlvewvA2sm4vAJU+I8UWFW5SeY53rwk= X-Google-DKIM-Signature: v=1; a=rsa-sha256; c=relaxed/relaxed; d=1e100.net; s=20230601; t=1758650809; x=1759255609; h=references:in-reply-to:cc:to:from:subject:message-id:date :x-gm-message-state:from:to:cc:subject:date:message-id:reply-to; bh=+D4+q3lSZQFSONc01W43gj13KNtcEU5Qk+ac0lKN774=; b=MI1RBOiJDPp3OKScN63RWe9wtDxONLRpoZgq++jjiSnfyiR7IaG38FAwVvHqx4BQKV vP4jkDmtmCsR/7ISY+iK7Ct/2hRz2lj3mtD8UqA+GnfGLj5dLUKpXAaC6evBAraqywbq /A7rPbRu9fsNovscEeYmbXsIK/sOte8AwgJbVN+xyc4Iu1vs7pUxWCBMh+52mwhjQAmH GHwjubKEHINKLuIKPe9C1K3sJ/yYM8m21khaDuJp0GPGNawOnGzs5xKeTEeOeN+uIsGM hfZCbrO8viZKRO10M4148y6Xhj27djiGGwPC96WjWqF1ZjLP4BC1s2Pm7KO/dv+ljQE6 i2cw== X-Gm-Message-State: AOJu0YxbcWd71Jw4LOkl352r2dAH5Um2D8g6k9uGVlozoXBTjyBYSx3d GuVaR2vgEYJ0rALqIIzckHO52HdGgz7OhvCdAzIZktNU1bidAFxRebrW8THPCBfrfnnZVUoi353 F6soSS11mPjtMC0CjDwQyOvsTO25lnNu89ekiv9kOzoaD X-Gm-Gg: ASbGncs6s+NICZFgYBvRaW1koIyLmU4MsR3i2ndtgSs2/tEtUvMkZ+pfvekJlmJTpnz Ae9+DarML+CEL9rVSbupvA8fLlnMWXgf2G6TEjzUL44UM/VndnKfdchyKHuIYCX7hd3/issLTg0 0yYIlxpusuzQy0dobkytsn70a/H4X66dHQjmY5+v35DZCS1QiPo2VoFMzrbnTFXzraZrM2hZOBM 09AXP0MGVRg0pI/z0G9Xy6Pz/JdWJIyk4ZK4L0UFu3XnRVrgDSQU5wmKDxIVx0b1KjsUNM6tNHq /W5GijxqdGPR+M0lW5ZrxRZmcVX2wZFcH8Mx5+LTiVeeoJnyJtrfGYa8lI8RJUVH15eS05Z7 X-Google-Smtp-Source: AGHT+IFOl6eqsfA05Ve2LsnBPqQXwKBpGxqcBJIoRMzOFC5MXBFrrdInpwJHqZxgRqA8OlnXqFepdHJ2wXJS X-Received: by 2002:a05:6e02:1a8a:b0:425:798e:b59a with SMTP id e9e14a558f8ab-42581ea5073mr52907445ab.18.1758650808910; Tue, 23 Sep 2025 11:06:48 -0700 (PDT) Received: from postal.iol.unh.edu (postal.iol.unh.edu. [132.177.123.84]) by smtp-relay.gmail.com with ESMTPS id e9e14a558f8ab-4244a48d129sm9969615ab.13.2025.09.23.11.06.48 (version=TLS1_2 cipher=ECDHE-ECDSA-AES128-GCM-SHA256 bits=128/128); Tue, 23 Sep 2025 11:06:48 -0700 (PDT) X-Relaying-Domain: iol.unh.edu Date: Tue, 23 Sep 2025 11:06:48 -0700 (PDT) Message-ID: <68d2e1b8.050a0220.3108c4.fffdSMTPIN_ADDED_MISSING@mx.google.com> Received: from [172.21.0.2] (unknown [172.18.0.240]) by postal.iol.unh.edu (Postfix) with ESMTP id 776D9604D420; Tue, 23 Sep 2025 14:06:47 -0400 (EDT) Subject: |SUCCESS| pw156847-156849 [PATCH] [3/3] app/compress-perf: support f From: dpdklab@iol.unh.edu To: Test Report Cc: dpdk-test-reports@iol.unh.edu, Akhil Goyal In-Reply-To: <20250923163115.1397923-3-svaze@qti.qualcomm.com> References: <20250923163115.1397923-3-svaze@qti.qualcomm.com> Content-Type: text/plain X-BeenThere: test-report@dpdk.org X-Mailman-Version: 2.1.29 Precedence: list List-Id: automatic DPDK test reports List-Unsubscribe: , List-Archive: List-Post: List-Help: List-Subscribe: , Errors-To: test-report-bounces@dpdk.org Test-Label: iol-compile-amd64-testing Test-Status: SUCCESS http://dpdk.org/patch/156849 _Testing PASS_ Submitter: Sameer Vaze Date: Tuesday, September 23 2025 16:31:15 DPDK git baseline: Repo:dpdk-next-crypto Branch: master CommitID:4159ea62922ce41566c7bab44655ad78bee85458 156847-156849 --> testing pass Upstream job id: Windows-Compile-DPDK-Native#31150 Test environment and result as below: +-------------------------------+--------------------+-------------------+------------------+-------------------+-------------------------+----------------------+ | Environment | dpdk_meson_compile | dpdk_compile_spdk | dpdk_compile_ovs | dpdk_msvc_compile | dpdk_llvm_clang_compile | dpdk_mingw64_compile | +===============================+====================+===================+==================+===================+=========================+======================+ | CentOS Stream 9 | PASS | PASS | SKIPPED | SKIPPED | SKIPPED | SKIPPED | +-------------------------------+--------------------+-------------------+------------------+-------------------+-------------------------+----------------------+ | CentOS Stream 10 | PASS | SKIPPED | SKIPPED | SKIPPED | SKIPPED | SKIPPED | +-------------------------------+--------------------+-------------------+------------------+-------------------+-------------------------+----------------------+ | Debian GNU/Linux 12 | PASS | PASS | SKIPPED | SKIPPED | SKIPPED | SKIPPED | +-------------------------------+--------------------+-------------------+------------------+-------------------+-------------------------+----------------------+ | Fedora Linux 42 | PASS | PASS | PASS | SKIPPED | SKIPPED | SKIPPED | +-------------------------------+--------------------+-------------------+------------------+-------------------+-------------------------+----------------------+ | Red Hat Enterprise Linux 8.10 | PASS | SKIPPED | SKIPPED | SKIPPED | SKIPPED | SKIPPED | +-------------------------------+--------------------+-------------------+------------------+-------------------+-------------------------+----------------------+ | openSUSE Leap 15.6 | PASS | SKIPPED | SKIPPED | SKIPPED | SKIPPED | SKIPPED | +-------------------------------+--------------------+-------------------+------------------+-------------------+-------------------------+----------------------+ | Red Hat Enterprise Linux 9.5 | PASS | SKIPPED | SKIPPED | SKIPPED | SKIPPED | SKIPPED | +-------------------------------+--------------------+-------------------+------------------+-------------------+-------------------------+----------------------+ | Ubuntu 20.04 | PASS | SKIPPED | SKIPPED | SKIPPED | SKIPPED | SKIPPED | +-------------------------------+--------------------+-------------------+------------------+-------------------+-------------------------+----------------------+ | Ubuntu 22.04 | PASS | PASS | SKIPPED | SKIPPED | SKIPPED | SKIPPED | +-------------------------------+--------------------+-------------------+------------------+-------------------+-------------------------+----------------------+ | Alpine Linux 3.22.0 | PASS | SKIPPED | SKIPPED | SKIPPED | SKIPPED | SKIPPED | +-------------------------------+--------------------+-------------------+------------------+-------------------+-------------------------+----------------------+ | Ubuntu 24.04 | PASS | PASS | PASS | SKIPPED | SKIPPED | SKIPPED | +-------------------------------+--------------------+-------------------+------------------+-------------------+-------------------------+----------------------+ | FreeBSD 14.2 | PASS | SKIPPED | SKIPPED | SKIPPED | SKIPPED | SKIPPED | +-------------------------------+--------------------+-------------------+------------------+-------------------+-------------------------+----------------------+ | Windows Server 2022 | SKIPPED | SKIPPED | SKIPPED | PASS | PASS | PASS | +-------------------------------+--------------------+-------------------+------------------+-------------------+-------------------------+----------------------+ CentOS Stream 9 Kernel: 5.15 Compiler: gcc gcc (GCC) 11.5.0 20240719 (Red Hat 11.5.0-11) CentOS Stream 10 Kernel: 5.15 Compiler: gcc gcc (GCC) 14.2.1 20250110 (Red Hat 14.2.1-8) Debian GNU/Linux 12 Kernel: 5.15 Compiler: gcc gcc (Debian 12.2.0-14+deb12u1) 12.2.0 Fedora Linux 42 Kernel: 5.15 Compiler: clang gcc (GCC) 15.2.1 20250808 (Red Hat 15.2.1-1) Red Hat Enterprise Linux 8.10 Kernel: 5.15 Compiler: gcc gcc (GCC) 8.5.0 20210514 (Red Hat 8.5.0-22) openSUSE Leap 15.6 Kernel: 5.15 Compiler: gcc gcc (SUSE Linux) 7.5.0 Red Hat Enterprise Linux 9.5 Kernel: 5.15 Compiler: gcc gcc (GCC) 11.5.0 20240719 (Red Hat 11.5.0-2) Ubuntu 20.04 Kernel: 5.15 Compiler: gcc gcc (Ubuntu 9.4.0-1ubuntu1~20.04.2) 9.4.0 Ubuntu 22.04 Kernel: 5.15 Compiler: gcc gcc (Ubuntu 11.4.0-1ubuntu1~22.04) 11.4.0 Alpine Linux 3.22.0 Kernel: 5.15 Compiler: gcc gcc (Alpine 14.2.0) 14.2.0 Ubuntu 24.04 Kernel: 5.15 Compiler: gcc gcc (Ubuntu 13.3.0-6ubuntu2~24.04) 13.3.0 FreeBSD 14.2 Kernel: 14.2-RELEASE Compiler: clang 18.1.6 Windows Server 2022 Kernel: 10.0.20348.2031 Compiler: clang 15.0.7, gcc 14.1.0 (MinGW), and MSVC VS 19.39.33521 To view detailed results, visit: https://lab.dpdk.org/results/dashboard/patchsets/34126/ UNH-IOL DPDK Community Lab To manage your email subscriptions, visit: https://lab.dpdk.org/results/dashboard/preferences/subscriptions/