From mboxrd@z Thu Jan 1 00:00:00 1970 Return-Path: Received: from mails.dpdk.org (mails.dpdk.org [217.70.189.124]) by inbox.dpdk.org (Postfix) with ESMTP id 2DFD146F5E for ; Tue, 23 Sep 2025 20:14:48 +0200 (CEST) Received: from mails.dpdk.org (localhost [127.0.0.1]) by mails.dpdk.org (Postfix) with ESMTP id 09FAA402D1; Tue, 23 Sep 2025 20:14:48 +0200 (CEST) Received: from mail-qt1-f225.google.com (mail-qt1-f225.google.com [209.85.160.225]) by mails.dpdk.org (Postfix) with ESMTP id 314FB402D1 for ; Tue, 23 Sep 2025 20:14:46 +0200 (CEST) Received: by mail-qt1-f225.google.com with SMTP id d75a77b69052e-4b7a967a990so65480321cf.2 for ; Tue, 23 Sep 2025 11:14:46 -0700 (PDT) DKIM-Signature: v=1; a=rsa-sha256; c=relaxed/relaxed; d=iol.unh.edu; s=unh-iol; t=1758651285; x=1759256085; darn=dpdk.org; h=references:in-reply-to:cc:to:from:subject:message-id:date:from:to :cc:subject:date:message-id:reply-to; bh=MBFLz3zMG0Bjco6D/pu4+SgrGOTI82Xb3VgQiwe/wFA=; b=h7O+4SfW+Rs32BHaVAd8ITznSX/Ja89t4vVnBpIzqSNtNMST+P9FbE4HXqfs/6ytFB WudltOzaxcspLLI5QcVMAEDUL4w0xLPd/gUIQ2tRVFLfBXv4J18Qyp6pas+CtMMNqjCP +p3wE2O5Kjq447Iq8Uw9no1+QkLK+mzPZ7nnA= X-Google-DKIM-Signature: v=1; a=rsa-sha256; c=relaxed/relaxed; d=1e100.net; s=20230601; t=1758651285; x=1759256085; h=references:in-reply-to:cc:to:from:subject:message-id:date :x-gm-message-state:from:to:cc:subject:date:message-id:reply-to; bh=MBFLz3zMG0Bjco6D/pu4+SgrGOTI82Xb3VgQiwe/wFA=; b=eNPGVFLppeVaxyggRA08sPytl6+jT3wqc6hcJ19xZ0z1CT+mtCPyrKxJghIqTHcTqI fUpr7/UFPXZE0o/dZcJG7K/qiICyXwPvusrjV6+f2vWO+HM9pd9A89E1lnDlG0fzLcOW TotHnD4qfY5VfD5z7xCBo23hAKL26d/oCOc72dbBNDKWgSar3o/oo5drRigebo55dm+o ge4UAIzrzNhwjwzZojd60NjiH2MtezoZ46H5ib36ohSW0ZB7WRhpTOd++JOwazmGsEbH EZVus3LS3CeEnE0oIRUzX+mtr284AEglKsg4909j/PC0GXTD2CVKmPkIwhUSkV5j3jcJ uj/w== X-Gm-Message-State: AOJu0Yy92gCSSsWuqBzo8AcSkGSOsk35yTwsH9I0aEgE6LZLEIsSVR7z VsEXnXUX5SY84qIv28AMrBzlwj6Yj6/Du7FGWJXZwYTyxrF/i5XftsMj6wVnhMdElFIu6yFaECh mx7hRzZRDkVSiJvima3fhm27W2HjZtD2+t2UHAFusfLGaW3N26XioxMf428CT X-Gm-Gg: ASbGnctKwh1NAJgnJXQlAkESDkwzxT+EcNDspWbwjxvyAfY78kQEj+J58fJQxXKISMf oU75mdcbSYQCbCpWUi7I2nA0MN0n+iu69Op/5Pq1JKUUiw9x/Y1SG//n+wmiHeM158T2cyVZgbQ gVHlLF0vHOlzN7gy22M4opgJ1BVscJL66islSjqatQWwa+vu27AVxHVKMGD/UYugv4ibhK5Mx89 vrqPoV/vlDGdsAbMduYrRHI6tW83T7IpxL2R4TlASa2ihmfShfdGWx8pYK9Q5FmPoAeUPMVkBR0 dAMflNe+kJTEeeVERd+x2VKVlk9FQsLN2BSyt+I8uhi5NNdOHA== X-Google-Smtp-Source: AGHT+IFLv57eKrNwuzObq/Rj0hL2Dtur4LOe8ULEsvIH+Uc8fLhc/dj0Hdm0jYU2pIRdf2hoHwYAcMdMDasR X-Received: by 2002:a05:622a:5e0a:b0:4d7:e9f2:efb8 with SMTP id d75a77b69052e-4d7e9f30846mr1021561cf.58.1758651285314; Tue, 23 Sep 2025 11:14:45 -0700 (PDT) Received: from postal.iol.unh.edu (postal.iol.unh.edu. [2606:4100:3880:1234::84]) by smtp-relay.gmail.com with ESMTPS id 6a1803df08f44-7e5bcfab34asm1734946d6.25.2025.09.23.11.14.45 (version=TLS1_2 cipher=ECDHE-ECDSA-AES128-GCM-SHA256 bits=128/128); Tue, 23 Sep 2025 11:14:45 -0700 (PDT) X-Relaying-Domain: iol.unh.edu Date: Tue, 23 Sep 2025 11:14:45 -0700 (PDT) Message-ID: <68d2e395.050a0220.377ff5.b632SMTPIN_ADDED_MISSING@mx.google.com> Received: from [172.21.0.2] (unknown [172.18.0.240]) by postal.iol.unh.edu (Postfix) with ESMTP id 0C4D0604D420; Tue, 23 Sep 2025 14:14:45 -0400 (EDT) Subject: |SUCCESS| pw156850 [PATCH] examples/l2fwd-cat: check compatibility o From: dpdklab@iol.unh.edu To: Test Report Cc: dpdk-test-reports@iol.unh.edu In-Reply-To: <20250923165830.527416-1-bruce.richardson@intel.com> References: <20250923165830.527416-1-bruce.richardson@intel.com> Content-Type: text/plain X-BeenThere: test-report@dpdk.org X-Mailman-Version: 2.1.29 Precedence: list List-Id: automatic DPDK test reports List-Unsubscribe: , List-Archive: List-Post: List-Help: List-Subscribe: , Errors-To: test-report-bounces@dpdk.org Test-Label: iol-unit-amd64-testing Test-Status: SUCCESS http://dpdk.org/patch/156850 _Testing PASS_ Submitter: Bruce Richardson Date: Tuesday, September 23 2025 16:58:30 DPDK git baseline: Repo:dpdk Branch: master CommitID:0e03ab647d07cd985a7cac36cefff5195cc3a07d 156850 --> testing pass Upstream job id: Generic-VM-Unit-Test-DPDK#31320 Test environment and result as below: +-------------------------------+----------------+ | Environment | dpdk_unit_test | +===============================+================+ | Debian GNU/Linux 12 | PASS | +-------------------------------+----------------+ | CentOS Stream 10 | PASS | +-------------------------------+----------------+ | CentOS Stream 9 | PASS | +-------------------------------+----------------+ | Fedora Linux 41 | PASS | +-------------------------------+----------------+ | Fedora Linux 42 | PASS | +-------------------------------+----------------+ | Fedora Linux 40 | PASS | +-------------------------------+----------------+ | Red Hat Enterprise Linux 9.5 | PASS | +-------------------------------+----------------+ | Ubuntu 20.04 | PASS | +-------------------------------+----------------+ | Ubuntu 24.04 | PASS | +-------------------------------+----------------+ | Red Hat Enterprise Linux 8.10 | PASS | +-------------------------------+----------------+ | Ubuntu 22.04 | PASS | +-------------------------------+----------------+ | Windows Server 2022 | PASS | +-------------------------------+----------------+ Debian GNU/Linux 12 Kernel: 5.15 Compiler: gcc gcc (Debian 12.2.0-14+deb12u1) 12.2.0 CentOS Stream 10 Kernel: 5.15 Compiler: gcc gcc (GCC) 14.2.1 20250110 (Red Hat 14.2.1-8) CentOS Stream 9 Kernel: 5.15 Compiler: gcc gcc (GCC) 11.5.0 20240719 (Red Hat 11.5.0-11) Fedora Linux 41 Kernel: 5.15 Compiler: gcc gcc (GCC) 14.3.1 20250523 (Red Hat 14.3.1-1) Fedora Linux 42 Kernel: 5.15 Compiler: clang gcc (GCC) 15.2.1 20250808 (Red Hat 15.2.1-1) Fedora Linux 40 Kernel: 5.15 Compiler: gcc gcc (GCC) 14.2.1 20240912 (Red Hat 14.2.1-3) Red Hat Enterprise Linux 9.5 Kernel: 5.15 Compiler: gcc gcc (GCC) 11.5.0 20240719 (Red Hat 11.5.0-2) Ubuntu 20.04 Kernel: 5.15 Compiler: gcc gcc (Ubuntu 9.4.0-1ubuntu1~20.04.2) 9.4.0 Ubuntu 24.04 Kernel: 5.15 Compiler: gcc gcc (Ubuntu 13.3.0-6ubuntu2~24.04) 13.3.0 Red Hat Enterprise Linux 8.10 Kernel: 5.15 Compiler: gcc gcc (GCC) 8.5.0 20210514 (Red Hat 8.5.0-22) Ubuntu 22.04 Kernel: 5.15 Compiler: gcc gcc (Ubuntu 11.4.0-1ubuntu1~22.04) 11.4.0 Windows Server 2022 Kernel: 10.0.20348.2031 Compiler: clang 15.0.7, gcc 14.1.0 (MinGW), and MSVC VS 19.39.33521 To view detailed results, visit: https://lab.dpdk.org/results/dashboard/patchsets/34127/ UNH-IOL DPDK Community Lab To manage your email subscriptions, visit: https://lab.dpdk.org/results/dashboard/preferences/subscriptions/