From mboxrd@z Thu Jan 1 00:00:00 1970 Return-Path: Received: from mails.dpdk.org (mails.dpdk.org [217.70.189.124]) by inbox.dpdk.org (Postfix) with ESMTP id 684A446F5E for ; Tue, 23 Sep 2025 20:17:30 +0200 (CEST) Received: from mails.dpdk.org (localhost [127.0.0.1]) by mails.dpdk.org (Postfix) with ESMTP id 4C03F402D1; Tue, 23 Sep 2025 20:17:30 +0200 (CEST) Received: from mail-qv1-f100.google.com (mail-qv1-f100.google.com [209.85.219.100]) by mails.dpdk.org (Postfix) with ESMTP id B9CAE402D1 for ; Tue, 23 Sep 2025 20:17:28 +0200 (CEST) Received: by mail-qv1-f100.google.com with SMTP id 6a1803df08f44-78f30dac856so70876996d6.2 for ; Tue, 23 Sep 2025 11:17:28 -0700 (PDT) DKIM-Signature: v=1; a=rsa-sha256; c=relaxed/relaxed; d=iol.unh.edu; s=unh-iol; t=1758651448; x=1759256248; darn=dpdk.org; h=references:in-reply-to:cc:to:from:subject:message-id:date:from:to :cc:subject:date:message-id:reply-to; bh=5yq8P5jA7b+p0FpZOUabOQH44kNvyQw/dGDHEUZf4sk=; b=Emrpo2pVch/qz3u7EwnoHALPscHM9qXQ5R5R6D1n48mGSkC3saUmp7rDEHHeu8N+od MSroCyCQrApIq+O7HOYAgYHdFi7jY0wkYDiaC0ZFVuL4kaMt0cqhInRovnHTNGkQ6Id2 UPnTjcsgqi2qNW7kpD1OT/2kS/jLQf9De30UA= X-Google-DKIM-Signature: v=1; a=rsa-sha256; c=relaxed/relaxed; d=1e100.net; s=20230601; t=1758651448; x=1759256248; h=references:in-reply-to:cc:to:from:subject:message-id:date :x-gm-message-state:from:to:cc:subject:date:message-id:reply-to; bh=5yq8P5jA7b+p0FpZOUabOQH44kNvyQw/dGDHEUZf4sk=; b=Mwee6DH3cvaXvDFezNUigKiWsMyU033FSbZO83oNBqWkbnPJljo80cjRcblGxQgos+ xg96qITHOHyUc1tP1ik3Js4K8DdHiszeiBIw3R/nL8ZWVBuEPX0mPm+Az7qgn9P/jbXn v/JS7y3M4PLX6b5x9AtGbFB6Xrhpo8g3dqpwf8K7enG9pYKeUQf53QG5WttyT4pVd1ww iVPNzIJyFl5tn6exzEXRnoB7ZCT5tpcz+3jLyJasbD+vF/YovENF49LExLLJYGsOn8cr U9GwygdkhTD8AH3Equk+twaAjwKac6riMSaWpyeLVf9lMGUWYXTfLrdslKqqEYvX/0Wf sX3A== X-Gm-Message-State: AOJu0YxzVt6+dsHcIGZSkBPG8QCZsz9MV1nSYc10IS13ALvy3n+QLWa3 6YBKM+riWaTFhe132U3QnoSNhYmASZPr7usmmSoeVHs75n44ShKqwHOA3qPGE8d1ewHkWAat0D6 UiQZfFYYbrX1GthD7wIqAsoarY1oedVjHgteoVh+zJ02EbS9OOqwyIV/3itAe X-Gm-Gg: ASbGnctYiBEA81R+voiKeugQscjqcgYpJ4QfR/hCMmWQ0s4QGGtjJ53Oa85PGs2Vw9b 80w8B1VP9ylyN5ztlK6AuCNLUuDnhQBuNHOS7XEJ5CQ2NC1GMGFLQFinnK6Z9mxqcoeiBx6YBhm ZvLDwfppBkAmSZl/hg0FQ3p35ScA6+YV5mrpIS3yoTS9tYgfPdecBPcU0ZMjXbQ3fwaZSstU8jb 1AQroKsxN7ofYy7PmZDpLAgXKE4Jdli4MMdxlndtcbZ/FYFnJeHYF3Hdlg7i50yAxdYeFgC1zjV lG0veCvpGBl/tO94KTDCc7OfFu5NVtf3Nrj0oy6EjJf9U1PNVA== X-Google-Smtp-Source: AGHT+IF8qly++39ePnlmAy+p6jM3TWW8UXbN+JtBSgZ+PiV/SRn5qPVXCgdL0cPnE/iqI4QXWfRJ3rdYpGlX X-Received: by 2002:a05:6214:1d06:b0:70d:fadf:aed5 with SMTP id 6a1803df08f44-7e71b32da3bmr47321426d6.50.1758651447926; Tue, 23 Sep 2025 11:17:27 -0700 (PDT) Received: from postal.iol.unh.edu (postal.iol.unh.edu. [2606:4100:3880:1234::84]) by smtp-relay.gmail.com with ESMTPS id 6a1803df08f44-7d84aa17b51sm2885466d6.3.2025.09.23.11.17.27 (version=TLS1_2 cipher=ECDHE-ECDSA-AES128-GCM-SHA256 bits=128/128); Tue, 23 Sep 2025 11:17:27 -0700 (PDT) X-Relaying-Domain: iol.unh.edu Date: Tue, 23 Sep 2025 11:17:27 -0700 (PDT) Message-ID: <68d2e437.050a0220.11fbe7.2ed9SMTPIN_ADDED_MISSING@mx.google.com> Received: from [172.21.0.2] (unknown [172.18.0.240]) by postal.iol.unh.edu (Postfix) with ESMTP id A32E2604D420; Tue, 23 Sep 2025 14:17:27 -0400 (EDT) Subject: |SUCCESS| pw156850 [PATCH] examples/l2fwd-cat: check compatibility o From: dpdklab@iol.unh.edu To: Test Report Cc: dpdk-test-reports@iol.unh.edu In-Reply-To: <20250923165830.527416-1-bruce.richardson@intel.com> References: <20250923165830.527416-1-bruce.richardson@intel.com> Content-Type: text/plain X-BeenThere: test-report@dpdk.org X-Mailman-Version: 2.1.29 Precedence: list List-Id: automatic DPDK test reports List-Unsubscribe: , List-Archive: List-Post: List-Help: List-Subscribe: , Errors-To: test-report-bounces@dpdk.org Test-Label: iol-compile-amd64-testing Test-Status: SUCCESS http://dpdk.org/patch/156850 _Testing PASS_ Submitter: Bruce Richardson Date: Tuesday, September 23 2025 16:58:30 DPDK git baseline: Repo:dpdk Branch: master CommitID:0e03ab647d07cd985a7cac36cefff5195cc3a07d 156850 --> testing pass Upstream job id: Windows-Compile-DPDK-Native#31151 Test environment and result as below: +-------------------------------+--------------------+------------------+-------------------+-------------------+-------------------------+ | Environment | dpdk_meson_compile | dpdk_compile_ovs | dpdk_compile_spdk | dpdk_msvc_compile | dpdk_llvm_clang_compile | +===============================+====================+==================+===================+===================+=========================+ | Ubuntu 24.04 | PASS | PASS | PASS | SKIPPED | SKIPPED | +-------------------------------+--------------------+------------------+-------------------+-------------------+-------------------------+ | CentOS Stream 10 | PASS | SKIPPED | SKIPPED | SKIPPED | SKIPPED | +-------------------------------+--------------------+------------------+-------------------+-------------------+-------------------------+ | Debian GNU/Linux 12 | PASS | SKIPPED | PASS | SKIPPED | SKIPPED | +-------------------------------+--------------------+------------------+-------------------+-------------------+-------------------------+ | Fedora Linux 42 | PASS | PASS | PASS | SKIPPED | SKIPPED | +-------------------------------+--------------------+------------------+-------------------+-------------------+-------------------------+ | CentOS Stream 9 | PASS | SKIPPED | PASS | SKIPPED | SKIPPED | +-------------------------------+--------------------+------------------+-------------------+-------------------+-------------------------+ | openSUSE Leap 15.6 | PASS | SKIPPED | SKIPPED | SKIPPED | SKIPPED | +-------------------------------+--------------------+------------------+-------------------+-------------------+-------------------------+ | Red Hat Enterprise Linux 8.10 | PASS | SKIPPED | SKIPPED | SKIPPED | SKIPPED | +-------------------------------+--------------------+------------------+-------------------+-------------------+-------------------------+ | Ubuntu 20.04 | PASS | SKIPPED | SKIPPED | SKIPPED | SKIPPED | +-------------------------------+--------------------+------------------+-------------------+-------------------+-------------------------+ | Red Hat Enterprise Linux 9.5 | PASS | SKIPPED | SKIPPED | SKIPPED | SKIPPED | +-------------------------------+--------------------+------------------+-------------------+-------------------+-------------------------+ | Ubuntu 22.04 | PASS | SKIPPED | PASS | SKIPPED | SKIPPED | +-------------------------------+--------------------+------------------+-------------------+-------------------+-------------------------+ | Alpine Linux 3.22.0 | PASS | SKIPPED | SKIPPED | SKIPPED | SKIPPED | +-------------------------------+--------------------+------------------+-------------------+-------------------+-------------------------+ | FreeBSD 14.2 | PASS | SKIPPED | SKIPPED | SKIPPED | SKIPPED | +-------------------------------+--------------------+------------------+-------------------+-------------------+-------------------------+ | Windows Server 2022 | SKIPPED | SKIPPED | SKIPPED | PASS | PASS | +-------------------------------+--------------------+------------------+-------------------+-------------------+-------------------------+ Ubuntu 24.04 Kernel: 5.15 Compiler: gcc gcc (Ubuntu 13.3.0-6ubuntu2~24.04) 13.3.0 CentOS Stream 10 Kernel: 5.15 Compiler: gcc gcc (GCC) 14.2.1 20250110 (Red Hat 14.2.1-8) Debian GNU/Linux 12 Kernel: 5.15 Compiler: gcc gcc (Debian 12.2.0-14+deb12u1) 12.2.0 Fedora Linux 42 Kernel: 5.15 Compiler: gcc gcc (GCC) 15.2.1 20250808 (Red Hat 15.2.1-1) CentOS Stream 9 Kernel: 5.15 Compiler: gcc gcc (GCC) 11.5.0 20240719 (Red Hat 11.5.0-11) openSUSE Leap 15.6 Kernel: 5.15 Compiler: gcc gcc (SUSE Linux) 7.5.0 Red Hat Enterprise Linux 8.10 Kernel: 5.15 Compiler: gcc gcc (GCC) 8.5.0 20210514 (Red Hat 8.5.0-22) Ubuntu 20.04 Kernel: 5.15 Compiler: gcc gcc (Ubuntu 9.4.0-1ubuntu1~20.04.2) 9.4.0 Red Hat Enterprise Linux 9.5 Kernel: 5.15 Compiler: gcc gcc (GCC) 11.5.0 20240719 (Red Hat 11.5.0-2) Ubuntu 22.04 Kernel: 5.15 Compiler: gcc gcc (Ubuntu 11.4.0-1ubuntu1~22.04) 11.4.0 Alpine Linux 3.22.0 Kernel: 5.15 Compiler: gcc gcc (Alpine 14.2.0) 14.2.0 FreeBSD 14.2 Kernel: 14.2-RELEASE Compiler: clang 18.1.6 Windows Server 2022 Kernel: 10.0.20348.2031 Compiler: clang 15.0.7, gcc 14.1.0 (MinGW), and MSVC VS 19.39.33521 To view detailed results, visit: https://lab.dpdk.org/results/dashboard/patchsets/34127/ UNH-IOL DPDK Community Lab To manage your email subscriptions, visit: https://lab.dpdk.org/results/dashboard/preferences/subscriptions/