From mboxrd@z Thu Jan 1 00:00:00 1970 Return-Path: Received: from mails.dpdk.org (mails.dpdk.org [217.70.189.124]) by inbox.dpdk.org (Postfix) with ESMTP id 755A346F5E for ; Tue, 23 Sep 2025 20:18:36 +0200 (CEST) Received: from mails.dpdk.org (localhost [127.0.0.1]) by mails.dpdk.org (Postfix) with ESMTP id 6A5C4402D1; Tue, 23 Sep 2025 20:18:36 +0200 (CEST) Received: from mail-io1-f98.google.com (mail-io1-f98.google.com [209.85.166.98]) by mails.dpdk.org (Postfix) with ESMTP id 8BDF7402D1 for ; Tue, 23 Sep 2025 20:18:34 +0200 (CEST) Received: by mail-io1-f98.google.com with SMTP id ca18e2360f4ac-889b846c314so145702639f.2 for ; Tue, 23 Sep 2025 11:18:34 -0700 (PDT) DKIM-Signature: v=1; a=rsa-sha256; c=relaxed/relaxed; d=iol.unh.edu; s=unh-iol; t=1758651514; x=1759256314; darn=dpdk.org; h=references:in-reply-to:cc:to:from:subject:message-id:date:from:to :cc:subject:date:message-id:reply-to; bh=aKHdOHxYHIilnbNPk6iLoNLFGru7QeTk0OC4cnhIshI=; b=Fir3MNgWi5UbeV7rF0GbkUE7fWqvr+D/Tm5GkNKiy2GsBFzDEnbnFl3ILwMzrFhro7 LvXulGI7Bt4SuU51CbrFhghlSR/VJASkBe5WEhjJORGuQrzgSHNHMBbGTA48IaCyr3zi N1X28DsxL2d+QqrBXN6pw/BXEOb5Z8FYrC2cY= X-Google-DKIM-Signature: v=1; a=rsa-sha256; c=relaxed/relaxed; d=1e100.net; s=20230601; t=1758651514; x=1759256314; h=references:in-reply-to:cc:to:from:subject:message-id:date :x-gm-message-state:from:to:cc:subject:date:message-id:reply-to; bh=aKHdOHxYHIilnbNPk6iLoNLFGru7QeTk0OC4cnhIshI=; b=WiUyGhuNfyFTZi9XUHTCHXdYBqLRy1MvpUCj0o+J/RtdYZgb14AmuQZV98L6CSTtwc FfqED+wwiNWUlZB8LsXH2WllIs/fl2RkxvcZ/idDrJaQHvLxPHUat6m8VG8HRni+HSa5 w/O9w+2CCJSkSXMoujknhNuKEfg2qDBbRJaQwd2WLf9epk8zwkNsnXzHa2Ar7NWhbCgT diAYRWwTf7JuykdgPKJJcAk4IldUKBEWq2yCbk7F0koO5aaleQjecwDYPiGJUjhMCiLd PYMSyMwU0zWTv5uKOT8Utok5oahXX+DZB/eZ8vChuvOpjBj9Ey5Og2cWdf88SyTTb0Jq 491w== X-Gm-Message-State: AOJu0YwLXsNsE9q8DjlYoDLognQCgXMSS17yaYBWOImVOnT1qxbwwCR4 DD1B4I81Dxk+ieG1AWH9SglNkECrtBgnJrT1wPiDj5/1R6iRZ7sDZTJUf4G5BA9UKEO+uXyetHw CrcvrCoPkfUaluEDZmhlcmAAukeMghYH/j3HRsgLQZmrC X-Gm-Gg: ASbGncsXblHEdjNCwTjd9aqgroAABjmendhIOHc34BBSxaB8i95CpDN3CUPbWNeGKZ9 A5qCqnw6QHX09bC8AzOOxJHCnlVQf7D0+KV7Pj8I+bCFBORb5oc8SQ4+PZiR2nKVlCer079rqw4 R4xMXTbWBeT56hVbfNLIAQoVMX8iHkGRjQ4dCp8urEBJ7FEtV80LZRFcp4FdaJZ9oOxLz4+ARwW YOSemRmTyxiLFVPcuSra7oOpK5k1FnfN0us8dEIs5ov4Qq+StKlIIef0WDhtXLd/3+Vw3zAo/8h 4jZIhwsIblQNe7ThOP6FRoRfpDZSp8RFF2o+wzFjmiw3x4LDgVeO0ESa78RA9Lw4OWoFeTZF X-Google-Smtp-Source: AGHT+IHhNnkFxuk7vIoqw0zOxMcUo3xLZwNc3qc3K4lsSa3UMfk+az8cnMw7d9F4bmaWoIXEpat31/tG+GT3 X-Received: by 2002:a05:6e02:104a:b0:425:8857:6e3c with SMTP id e9e14a558f8ab-42588577138mr24510665ab.11.1758651513721; Tue, 23 Sep 2025 11:18:33 -0700 (PDT) Received: from postal.iol.unh.edu (postal.iol.unh.edu. [132.177.123.84]) by smtp-relay.gmail.com with ESMTPS id 8926c6da1cb9f-5590535f7bdsm434363173.44.2025.09.23.11.18.33 (version=TLS1_2 cipher=ECDHE-ECDSA-AES128-GCM-SHA256 bits=128/128); Tue, 23 Sep 2025 11:18:33 -0700 (PDT) X-Relaying-Domain: iol.unh.edu Date: Tue, 23 Sep 2025 11:18:33 -0700 (PDT) Message-ID: <68d2e479.050a0220.72b49.d09cSMTPIN_ADDED_MISSING@mx.google.com> Received: from [172.21.0.2] (unknown [172.18.0.240]) by postal.iol.unh.edu (Postfix) with ESMTP id 5D3DD604D420; Tue, 23 Sep 2025 14:18:33 -0400 (EDT) Subject: |SUCCESS| pw156850 [PATCH] examples/l2fwd-cat: check compatibility o From: dpdklab@iol.unh.edu To: Test Report Cc: dpdk-test-reports@iol.unh.edu In-Reply-To: <20250923165830.527416-1-bruce.richardson@intel.com> References: <20250923165830.527416-1-bruce.richardson@intel.com> Content-Type: text/plain X-BeenThere: test-report@dpdk.org X-Mailman-Version: 2.1.29 Precedence: list List-Id: automatic DPDK test reports List-Unsubscribe: , List-Archive: List-Post: List-Help: List-Subscribe: , Errors-To: test-report-bounces@dpdk.org Test-Label: iol-compile-amd64-testing Test-Status: SUCCESS http://dpdk.org/patch/156850 _Testing PASS_ Submitter: Bruce Richardson Date: Tuesday, September 23 2025 16:58:30 DPDK git baseline: Repo:dpdk Branch: master CommitID:0e03ab647d07cd985a7cac36cefff5195cc3a07d 156850 --> testing pass Upstream job id: Windows-Compile-DPDK-Native#31152 Test environment and result as below: +-------------------------------+--------------------+------------------+-------------------+-------------------+-------------------------+----------------------+ | Environment | dpdk_meson_compile | dpdk_compile_ovs | dpdk_compile_spdk | dpdk_msvc_compile | dpdk_llvm_clang_compile | dpdk_mingw64_compile | +===============================+====================+==================+===================+===================+=========================+======================+ | Ubuntu 24.04 | PASS | PASS | PASS | SKIPPED | SKIPPED | SKIPPED | +-------------------------------+--------------------+------------------+-------------------+-------------------+-------------------------+----------------------+ | CentOS Stream 10 | PASS | SKIPPED | SKIPPED | SKIPPED | SKIPPED | SKIPPED | +-------------------------------+--------------------+------------------+-------------------+-------------------+-------------------------+----------------------+ | Debian GNU/Linux 12 | PASS | SKIPPED | PASS | SKIPPED | SKIPPED | SKIPPED | +-------------------------------+--------------------+------------------+-------------------+-------------------+-------------------------+----------------------+ | Fedora Linux 42 | PASS | PASS | PASS | SKIPPED | SKIPPED | SKIPPED | +-------------------------------+--------------------+------------------+-------------------+-------------------+-------------------------+----------------------+ | CentOS Stream 9 | PASS | SKIPPED | PASS | SKIPPED | SKIPPED | SKIPPED | +-------------------------------+--------------------+------------------+-------------------+-------------------+-------------------------+----------------------+ | openSUSE Leap 15.6 | PASS | SKIPPED | SKIPPED | SKIPPED | SKIPPED | SKIPPED | +-------------------------------+--------------------+------------------+-------------------+-------------------+-------------------------+----------------------+ | Red Hat Enterprise Linux 8.10 | PASS | SKIPPED | SKIPPED | SKIPPED | SKIPPED | SKIPPED | +-------------------------------+--------------------+------------------+-------------------+-------------------+-------------------------+----------------------+ | Ubuntu 20.04 | PASS | SKIPPED | SKIPPED | SKIPPED | SKIPPED | SKIPPED | +-------------------------------+--------------------+------------------+-------------------+-------------------+-------------------------+----------------------+ | Red Hat Enterprise Linux 9.5 | PASS | SKIPPED | SKIPPED | SKIPPED | SKIPPED | SKIPPED | +-------------------------------+--------------------+------------------+-------------------+-------------------+-------------------------+----------------------+ | Ubuntu 22.04 | PASS | SKIPPED | PASS | SKIPPED | SKIPPED | SKIPPED | +-------------------------------+--------------------+------------------+-------------------+-------------------+-------------------------+----------------------+ | Alpine Linux 3.22.0 | PASS | SKIPPED | SKIPPED | SKIPPED | SKIPPED | SKIPPED | +-------------------------------+--------------------+------------------+-------------------+-------------------+-------------------------+----------------------+ | FreeBSD 14.2 | PASS | SKIPPED | SKIPPED | SKIPPED | SKIPPED | SKIPPED | +-------------------------------+--------------------+------------------+-------------------+-------------------+-------------------------+----------------------+ | Windows Server 2022 | SKIPPED | SKIPPED | SKIPPED | PASS | PASS | PASS | +-------------------------------+--------------------+------------------+-------------------+-------------------+-------------------------+----------------------+ Ubuntu 24.04 Kernel: 5.15 Compiler: gcc gcc (Ubuntu 13.3.0-6ubuntu2~24.04) 13.3.0 CentOS Stream 10 Kernel: 5.15 Compiler: gcc gcc (GCC) 14.2.1 20250110 (Red Hat 14.2.1-8) Debian GNU/Linux 12 Kernel: 5.15 Compiler: gcc gcc (Debian 12.2.0-14+deb12u1) 12.2.0 Fedora Linux 42 Kernel: 5.15 Compiler: gcc gcc (GCC) 15.2.1 20250808 (Red Hat 15.2.1-1) CentOS Stream 9 Kernel: 5.15 Compiler: gcc gcc (GCC) 11.5.0 20240719 (Red Hat 11.5.0-11) openSUSE Leap 15.6 Kernel: 5.15 Compiler: gcc gcc (SUSE Linux) 7.5.0 Red Hat Enterprise Linux 8.10 Kernel: 5.15 Compiler: gcc gcc (GCC) 8.5.0 20210514 (Red Hat 8.5.0-22) Ubuntu 20.04 Kernel: 5.15 Compiler: gcc gcc (Ubuntu 9.4.0-1ubuntu1~20.04.2) 9.4.0 Red Hat Enterprise Linux 9.5 Kernel: 5.15 Compiler: gcc gcc (GCC) 11.5.0 20240719 (Red Hat 11.5.0-2) Ubuntu 22.04 Kernel: 5.15 Compiler: gcc gcc (Ubuntu 11.4.0-1ubuntu1~22.04) 11.4.0 Alpine Linux 3.22.0 Kernel: 5.15 Compiler: gcc gcc (Alpine 14.2.0) 14.2.0 FreeBSD 14.2 Kernel: 14.2-RELEASE Compiler: clang 18.1.6 Windows Server 2022 Kernel: 10.0.20348.2031 Compiler: clang 15.0.7, gcc 14.1.0 (MinGW), and MSVC VS 19.39.33521 To view detailed results, visit: https://lab.dpdk.org/results/dashboard/patchsets/34127/ UNH-IOL DPDK Community Lab To manage your email subscriptions, visit: https://lab.dpdk.org/results/dashboard/preferences/subscriptions/