From mboxrd@z Thu Jan 1 00:00:00 1970 Return-Path: Received: from mails.dpdk.org (mails.dpdk.org [217.70.189.124]) by inbox.dpdk.org (Postfix) with ESMTP id 8C61146F5E for ; Tue, 23 Sep 2025 20:19:20 +0200 (CEST) Received: from mails.dpdk.org (localhost [127.0.0.1]) by mails.dpdk.org (Postfix) with ESMTP id 88146402D1; Tue, 23 Sep 2025 20:19:20 +0200 (CEST) Received: from mail-pl1-f226.google.com (mail-pl1-f226.google.com [209.85.214.226]) by mails.dpdk.org (Postfix) with ESMTP id 5F4F6402D1 for ; Tue, 23 Sep 2025 20:19:19 +0200 (CEST) Received: by mail-pl1-f226.google.com with SMTP id d9443c01a7336-267facf9b58so43151885ad.2 for ; Tue, 23 Sep 2025 11:19:19 -0700 (PDT) DKIM-Signature: v=1; a=rsa-sha256; c=relaxed/relaxed; d=iol.unh.edu; s=unh-iol; t=1758651558; x=1759256358; darn=dpdk.org; h=references:in-reply-to:cc:to:from:subject:message-id:date:from:to :cc:subject:date:message-id:reply-to; bh=ZYpgt6YURSouZrFjxg/ir/wQsQXvT6R7wXkAdpHd0uE=; b=HL6iDx6v1A2tngytWO7yXqOpNzECX237PxNrk2JHxdizKgHV7zXrhJ0jt+2Y6zme5D 6qK8LE+T+OGELuFSL6QJRKAPOsExhnGxIoR9Z2coVZl3LnNuvufplU9KxIYhbYmMhB7R I36m6u5ucZK+Y1AK0PrM7GFR59FF1k4tXz83k= X-Google-DKIM-Signature: v=1; a=rsa-sha256; c=relaxed/relaxed; d=1e100.net; s=20230601; t=1758651558; x=1759256358; h=references:in-reply-to:cc:to:from:subject:message-id:date :x-gm-message-state:from:to:cc:subject:date:message-id:reply-to; bh=ZYpgt6YURSouZrFjxg/ir/wQsQXvT6R7wXkAdpHd0uE=; b=Th4+OS1zwVwCr0nhOVK/UyHmEnXfERtVkH6jNqFrbbZ2MQuTJ2eOs0uT2CNGHHRye/ L+ZDSKDHxpUu2Cr3TjvNuhmYgmm3hWBOJAhaX4zJ2cLqi/11A5zUHgH5oQj/bUFFTyZL HwaBYqhRlJ3WjX6R+psnlWd/MJvDgHpSrA5r/3hxeQBPgceXLTSI0tQGDFu90+9aIhH2 /pphPSYCPskwUUBoOa1BvkPSZAi3flOmqT7/cfIgZpKVCH2PXrmRTfP46bb8q7xZZgz7 f+Gfks0FUYSvGCwS5YIX6kwLo+JGdK5jEvgV8ujMuQ+6vyGqG78/CcT4XUwahtcqkOco BLZQ== X-Gm-Message-State: AOJu0YyAe8P8OMl+lEN0zobHHYOG/6h8gExfrGzyqP0tRuI6NhhZQL+u LZP0xJsozDy2+Ab3h3gMJxdSxt8RHpaWYxNpD4K8RAyaKr8F3IUmGynwrCehOS42CFiB5bvmw6n s0F+PMtmVQ0Wa/6mQjuNqTPfNZQVwozO2WaHXcnsuR2oj X-Gm-Gg: ASbGncsTZsFJvCLnHWHyN+h41elfGZerW/+9KCtF+3Zea6EdQ5exnBzol4gd1HNL0gs WQvgYZBCIqc+C4Kq9+/A3WFtOl6Nj8RmS4mv5pTQQ1SOMyDDOftAI0ysdT9Mz7wsECvrxFbPI0/ drtyXM8/1Y5E+dNs2yCY/dS16KsRxutz0skM4y5V/PSZ6XvJqydA24m/VAH08qK1BTNBhz99x0u dff44wm+55kl25eiqfyN1MOZAXmLjjjSVKjaw96oKfIkK/zdq5YKguoZuxKok39UXLdwAp2VXEk jZ30dzNs+GRNZWZJecIxUbfQPNXK8LOYJnZqe/i8Tt0IeDrfTHbkF7BVWOEBgZfsYSu0AgKS X-Google-Smtp-Source: AGHT+IEuW9YJbA8ZFb9WsuHm5lPDCmC4iwIEIvbzDvot5anEUHBxDMCA8oTXGwo3vm/KmeKqE8GGCR1on1l8 X-Received: by 2002:a17:903:8c8:b0:26e:49e3:55f0 with SMTP id d9443c01a7336-27cc1e1f904mr44940295ad.16.1758651558470; Tue, 23 Sep 2025 11:19:18 -0700 (PDT) Received: from postal.iol.unh.edu (postal.iol.unh.edu. [132.177.123.84]) by smtp-relay.gmail.com with ESMTPS id d9443c01a7336-2716af40c89sm6051655ad.16.2025.09.23.11.19.18 (version=TLS1_2 cipher=ECDHE-ECDSA-AES128-GCM-SHA256 bits=128/128); Tue, 23 Sep 2025 11:19:18 -0700 (PDT) X-Relaying-Domain: iol.unh.edu Date: Tue, 23 Sep 2025 11:19:18 -0700 (PDT) Message-ID: <68d2e4a6.170a0220.2f0939.9c79SMTPIN_ADDED_MISSING@mx.google.com> Received: from [172.21.0.2] (unknown [172.18.0.240]) by postal.iol.unh.edu (Postfix) with ESMTP id BC4AB604D420; Tue, 23 Sep 2025 14:19:17 -0400 (EDT) Subject: |SUCCESS| pw156850 [PATCH] examples/l2fwd-cat: check compatibility o From: dpdklab@iol.unh.edu To: Test Report Cc: dpdk-test-reports@iol.unh.edu In-Reply-To: <20250923165830.527416-1-bruce.richardson@intel.com> References: <20250923165830.527416-1-bruce.richardson@intel.com> Content-Type: text/plain X-BeenThere: test-report@dpdk.org X-Mailman-Version: 2.1.29 Precedence: list List-Id: automatic DPDK test reports List-Unsubscribe: , List-Archive: List-Post: List-Help: List-Subscribe: , Errors-To: test-report-bounces@dpdk.org Test-Label: iol-unit-amd64-testing Test-Status: SUCCESS http://dpdk.org/patch/156850 _Testing PASS_ Submitter: Bruce Richardson Date: Tuesday, September 23 2025 16:58:30 DPDK git baseline: Repo:dpdk Branch: master CommitID:0e03ab647d07cd985a7cac36cefff5195cc3a07d 156850 --> testing pass Upstream job id: Generic-VM-Unit-Test-DPDK#31321 Test environment and result as below: +-------------------------------+----------------+ | Environment | dpdk_unit_test | +===============================+================+ | Debian GNU/Linux 12 | PASS | +-------------------------------+----------------+ | CentOS Stream 10 | PASS | +-------------------------------+----------------+ | CentOS Stream 9 | PASS | +-------------------------------+----------------+ | Fedora Linux 41 | PASS | +-------------------------------+----------------+ | Fedora Linux 42 | PASS | +-------------------------------+----------------+ | Fedora Linux 40 | PASS | +-------------------------------+----------------+ | Red Hat Enterprise Linux 9.5 | PASS | +-------------------------------+----------------+ | Ubuntu 20.04 | PASS | +-------------------------------+----------------+ | Ubuntu 24.04 | PASS | +-------------------------------+----------------+ | Red Hat Enterprise Linux 8.10 | PASS | +-------------------------------+----------------+ | Ubuntu 22.04 | PASS | +-------------------------------+----------------+ | Windows Server 2022 | PASS | +-------------------------------+----------------+ Debian GNU/Linux 12 Kernel: 5.15 Compiler: gcc gcc (Debian 12.2.0-14+deb12u1) 12.2.0 CentOS Stream 10 Kernel: 5.15 Compiler: gcc gcc (GCC) 14.2.1 20250110 (Red Hat 14.2.1-8) CentOS Stream 9 Kernel: 5.15 Compiler: gcc gcc (GCC) 11.5.0 20240719 (Red Hat 11.5.0-11) Fedora Linux 41 Kernel: 5.15 Compiler: gcc gcc (GCC) 14.3.1 20250523 (Red Hat 14.3.1-1) Fedora Linux 42 Kernel: 5.15 Compiler: clang gcc (GCC) 15.2.1 20250808 (Red Hat 15.2.1-1) Fedora Linux 40 Kernel: 5.15 Compiler: gcc gcc (GCC) 14.2.1 20240912 (Red Hat 14.2.1-3) Red Hat Enterprise Linux 9.5 Kernel: 5.15 Compiler: gcc gcc (GCC) 11.5.0 20240719 (Red Hat 11.5.0-2) Ubuntu 20.04 Kernel: 5.15 Compiler: gcc gcc (Ubuntu 9.4.0-1ubuntu1~20.04.2) 9.4.0 Ubuntu 24.04 Kernel: 5.15 Compiler: gcc gcc (Ubuntu 13.3.0-6ubuntu2~24.04) 13.3.0 Red Hat Enterprise Linux 8.10 Kernel: 5.15 Compiler: gcc gcc (GCC) 8.5.0 20210514 (Red Hat 8.5.0-22) Ubuntu 22.04 Kernel: 5.15 Compiler: gcc gcc (Ubuntu 11.4.0-1ubuntu1~22.04) 11.4.0 Windows Server 2022 Kernel: 10.0.20348.2031 Compiler: clang 15.0.7, gcc 14.1.0 (MinGW), and MSVC VS 19.39.33521 To view detailed results, visit: https://lab.dpdk.org/results/dashboard/patchsets/34127/ UNH-IOL DPDK Community Lab To manage your email subscriptions, visit: https://lab.dpdk.org/results/dashboard/preferences/subscriptions/