From mboxrd@z Thu Jan 1 00:00:00 1970 Return-Path: Received: from mails.dpdk.org (mails.dpdk.org [217.70.189.124]) by inbox.dpdk.org (Postfix) with ESMTP id 40EBA46F5F for ; Tue, 23 Sep 2025 23:18:09 +0200 (CEST) Received: from mails.dpdk.org (localhost [127.0.0.1]) by mails.dpdk.org (Postfix) with ESMTP id 1BBB7402D1; Tue, 23 Sep 2025 23:18:09 +0200 (CEST) Received: from mail-pj1-f97.google.com (mail-pj1-f97.google.com [209.85.216.97]) by mails.dpdk.org (Postfix) with ESMTP id 237A9402D1 for ; Tue, 23 Sep 2025 23:18:08 +0200 (CEST) Received: by mail-pj1-f97.google.com with SMTP id 98e67ed59e1d1-3306d3ab2e4so4848216a91.3 for ; Tue, 23 Sep 2025 14:18:08 -0700 (PDT) DKIM-Signature: v=1; a=rsa-sha256; c=relaxed/relaxed; d=iol.unh.edu; s=unh-iol; t=1758662287; x=1759267087; darn=dpdk.org; h=references:in-reply-to:cc:to:from:subject:message-id:date:from:to :cc:subject:date:message-id:reply-to; bh=94BJfAp+hNj6pwVK6oEIkp0HlzsHUB7Ad9xwmbJm37w=; b=gTGQklMafOKnQ3zHdaZnU1c8Kk1iXDyajV2pM6z0pr0C4sFU/9WBjWzHzjtZ2HB9JD 8oOnTMpgwyR1mLj4GS4qC12bcM27bopkCZBOPSJncJ6KYbLxd8BePX/mx9iYrnsrUGGF y1hGgyFyzWuNwmPhaiuMXZ36Nyhyy8lKLs8QA= X-Google-DKIM-Signature: v=1; a=rsa-sha256; c=relaxed/relaxed; d=1e100.net; s=20230601; t=1758662287; x=1759267087; h=references:in-reply-to:cc:to:from:subject:message-id:date :x-gm-message-state:from:to:cc:subject:date:message-id:reply-to; bh=94BJfAp+hNj6pwVK6oEIkp0HlzsHUB7Ad9xwmbJm37w=; b=Z0NBQ4Yd++Q52MjXcWILKrzv/+3RznsNTBJauyREsZw2MljLjLS6KfYZlie3PboZJJ BGRdZfC9xPniBpqXRU9OgLx+d59oBzfHnxNKbcjQExDeTOyf9ZM7BNtCD05aT9FpfhKD g0nOMtt8wYOPxILIUdLCfaoNOQbqxtD0LvY2UGdg/di79KyyI5HknnXGzhRuX9gV3EIx /kiSeUPgIlzPTslN8plVIiNVy6nMH2XLNrKmot4C32q+q9lMcsjDRo/CbkH1+XM7mTok JanLwZ4yvnnJPfIQfxWCDPWC6aZbHm9Ssz3KmD1V/bhUKe7aHOymH8yjZB0CHPX9eGdy dMYw== X-Gm-Message-State: AOJu0Yw31jxDN73KfV5F8dPclrwCSOWKZrlDLluBKwQfusG2gsmvn3Ea QwNdvQtBI9LVZyyt3vLAph4M/ENF70vylXU23JM75d9JS+/aJFpB3dtaSL35CAgmRbngPZjCWpH VqSCOpxnBJDPxdDKvM71qQmquJVOQRTPyzza78MMsyiEoYsAlgesWfkA6YgIz X-Gm-Gg: ASbGncu7gYg99UsTO63rPcgdx+7b/GiJuTY4hHxTzWFX/eD6G2EaMYUaHFkVa1T+zPD lzxWSFd+ftkcgX40w6t+wyf+16TfoFF8JdudrZWA3bhqcCj9pafrGhd+odVgXqVRqFWGo74vVH8 Suzs0Sb2YKDVCksLia1SkPEfScZVhOp4FRpfQTvhEywciWzyoAlCgG8i8gewzed5CJaGCyLs9d+ H/iFtV/zsnmRVA7AyOnC+J6DgSBAg7FomBVL3cyJj4koMJycgN60Co+aO4HS64LRVkxDcA/aLnb kjR/w6pzYCIPV2e0JYVvzujojmb/NfTZGnWJZplK7xAMASK2Sw== X-Google-Smtp-Source: AGHT+IEfSXh8bh1EpCmxf8efSuGkv+uFEQNfLRLMVhOstJu8YMC+NHG+3J09n3AaIrnktBDs8nUcgTIa1crb X-Received: by 2002:a17:90b:54cb:b0:327:c0c6:8829 with SMTP id 98e67ed59e1d1-332a95977cfmr4785587a91.24.1758662287111; Tue, 23 Sep 2025 14:18:07 -0700 (PDT) Received: from postal.iol.unh.edu (postal.iol.unh.edu. [2606:4100:3880:1234::84]) by smtp-relay.gmail.com with ESMTPS id 98e67ed59e1d1-3341bd92afdsm8544a91.2.2025.09.23.14.18.07 (version=TLS1_2 cipher=ECDHE-ECDSA-AES128-GCM-SHA256 bits=128/128); Tue, 23 Sep 2025 14:18:07 -0700 (PDT) X-Relaying-Domain: iol.unh.edu Date: Tue, 23 Sep 2025 14:18:07 -0700 (PDT) Message-ID: <68d30e8f.170a0220.2ca123.08d5SMTPIN_ADDED_MISSING@mx.google.com> Received: from [172.21.0.2] (unknown [172.18.0.240]) by postal.iol.unh.edu (Postfix) with ESMTP id 62B82604D420; Tue, 23 Sep 2025 17:18:06 -0400 (EDT) Subject: |SUCCESS| pw156843 [PATCH] test/crypto: fix for mbuf sanity check fa From: dpdklab@iol.unh.edu To: Test Report Cc: dpdk-test-reports@iol.unh.edu, Akhil Goyal In-Reply-To: <20250923142254.1904208-1-nkaithakadan@marvell.com> References: <20250923142254.1904208-1-nkaithakadan@marvell.com> Content-Type: text/plain X-BeenThere: test-report@dpdk.org X-Mailman-Version: 2.1.29 Precedence: list List-Id: automatic DPDK test reports List-Unsubscribe: , List-Archive: List-Post: List-Help: List-Subscribe: , Errors-To: test-report-bounces@dpdk.org Test-Label: iol-compile-arm64-testing Test-Status: SUCCESS http://dpdk.org/patch/156843 _Testing PASS_ Submitter: Nithinsen Kaithakadan Date: Tuesday, September 23 2025 14:22:54 DPDK git baseline: Repo:dpdk-next-crypto Branch: master CommitID:4159ea62922ce41566c7bab44655ad78bee85458 156843 --> testing pass Upstream job id: Generic-DPDK-Compile-Meson#427697 Test environment and result as below: +------------------------------+--------------------+ | Environment | dpdk_meson_compile | +==============================+====================+ | Ubuntu 20.04 | PASS | +------------------------------+--------------------+ | Red Hat Enterprise Linux 9.5 | PASS | +------------------------------+--------------------+ | Fedora Linux 42 | PASS | +------------------------------+--------------------+ | Ubuntu 24.04 | PASS | +------------------------------+--------------------+ | CentOS Stream 10 | PASS | +------------------------------+--------------------+ | Debian GNU/Linux 12 | PASS | +------------------------------+--------------------+ | Ubuntu 22.04 | PASS | +------------------------------+--------------------+ | CentOS Stream 9 | PASS | +------------------------------+--------------------+ Ubuntu 20.04 Kernel: 5.15 Compiler: aarch64-linux-gnu-gcc gcc (Ubuntu 9.4.0-1ubuntu1~20.04.2) 9.4.0 Red Hat Enterprise Linux 9.5 Kernel: 5.4 Compiler: gcc gcc (GCC) 11.5.0 20240719 (Red Hat 11.5.0-2) Fedora Linux 42 Kernel: 5.4 Compiler: clang gcc (GCC) 15.2.1 20250808 (Red Hat 15.2.1-1) Ubuntu 24.04 Kernel: 5.4 Compiler: gcc gcc (Ubuntu 13.3.0-6ubuntu2~24.04) 13.3.0 CentOS Stream 10 Kernel: 5.4 Compiler: gcc gcc (GCC) 14.2.1 20250110 (Red Hat 14.2.1-8) Debian GNU/Linux 12 Kernel: 5.4 Compiler: gcc gcc (Debian 12.2.0-14+deb12u1) 12.2.0 Ubuntu 22.04 Kernel: 5.4 Compiler: gcc gcc (Ubuntu 11.4.0-1ubuntu1~22.04) 11.4.0 CentOS Stream 9 Kernel: 5.4 Compiler: gcc gcc (GCC) 11.5.0 20240719 (Red Hat 11.5.0-11) To view detailed results, visit: https://lab.dpdk.org/results/dashboard/patchsets/34122/ UNH-IOL DPDK Community Lab To manage your email subscriptions, visit: https://lab.dpdk.org/results/dashboard/preferences/subscriptions/