From mboxrd@z Thu Jan 1 00:00:00 1970 Return-Path: Received: from mails.dpdk.org (mails.dpdk.org [217.70.189.124]) by inbox.dpdk.org (Postfix) with ESMTP id 0BC6746F5F for ; Wed, 24 Sep 2025 00:18:29 +0200 (CEST) Received: from mails.dpdk.org (localhost [127.0.0.1]) by mails.dpdk.org (Postfix) with ESMTP id CCA66402B9; Wed, 24 Sep 2025 00:18:28 +0200 (CEST) Received: from mail-yw1-f228.google.com (mail-yw1-f228.google.com [209.85.128.228]) by mails.dpdk.org (Postfix) with ESMTP id 088BA402B9 for ; Wed, 24 Sep 2025 00:18:28 +0200 (CEST) Received: by mail-yw1-f228.google.com with SMTP id 00721157ae682-71d5fb5e34cso4161017b3.0 for ; Tue, 23 Sep 2025 15:18:27 -0700 (PDT) DKIM-Signature: v=1; a=rsa-sha256; c=relaxed/relaxed; d=iol.unh.edu; s=unh-iol; t=1758665907; x=1759270707; darn=dpdk.org; h=references:in-reply-to:cc:to:from:subject:message-id:date:from:to :cc:subject:date:message-id:reply-to; bh=r74OpbeotbLzvKTpevfpQd4UwHBEt1olHuYd4qBmji4=; b=eiR6AJADzHs3cefGx04I4Pyx9tvV88vgtUJTKQ+cJBa8lof6zCIVFaqWrRyhZn9MU9 orBaTQ/tBjcg7bLDuHYUDQvEnfjxfgZ8RwZVLP0R7FvjgIvbaneKUQgIEwf9WEvZd9YB SEY+Hk8IraRIJZxzZclKDwbH85vqO2NgUCav4= X-Google-DKIM-Signature: v=1; a=rsa-sha256; c=relaxed/relaxed; d=1e100.net; s=20230601; t=1758665907; x=1759270707; h=references:in-reply-to:cc:to:from:subject:message-id:date :x-gm-message-state:from:to:cc:subject:date:message-id:reply-to; bh=r74OpbeotbLzvKTpevfpQd4UwHBEt1olHuYd4qBmji4=; b=m+ShuS/gaDHQK+w4j73B30Bd14E0yp70UboWXr120py0BWm+9z5s4b6LxhXKdWrd47 VD8IC0r9nnwelg2dqlJ4Rn12bhlvkM1l38lAL7xAy+avfXNJGqoFKwSD9mN9e0cd0hA2 AsRtVVhjEvrywQ0OSKbfHCAuouVQPgibMMeHrg+UZIVhXa4+y0JqsR1DOaIQgKS9wK3c H4bCF03depvKxrh6XV4I83o1PI7n1Jqnc7/WOO7a9n8QVXEfLHM57pdWFjKpuROPxTX0 ZA8zpXQZOsdkcyoMMiBEEIfZbXR3VVhnmoI0+icRhfzW1DW+8FPKKuU3i30D033ZxO3G 9x6w== X-Gm-Message-State: AOJu0YygUdElSFcM3xstfKWu90Nf7veUefm88v4AyBTyHco3gM+Vr9Od xDNlJc9VTJ0bJEZFKQ+dUFrNslJaMAOfXwk5hCbQHCg8QL/D/T9Sho56UCJX9Z0NpUcrMIomlP1 6HMEEzAUJd2PIwsOayhdZbL5IpptCliK94aQgiTZ15oXmDkBAn4EoUr9X/cCF X-Gm-Gg: ASbGncvqaTbRsPyanphHIg3NaIQ4jzE9GptDBArvGUZBsz/92Kzg2LEIDA0qPVKx7sO 4zeyJ1M3MARe1qJXY3/vLdqE9WOAx9pXPkflK38AW+SA9Kqu28USIqN8eMwIw099r4+8UdpyG4B s1XemFBDemRYLDJFL6TL2hVIyKiXkGNX9b/I14X85tGbWKEpaKUXr9fJUXeUA8Rjk/sAVsEETSr gthclOllQ8xuoSggcXX4n3aaMEpEzByVYur4+fMqNKszkHM7Fs1qSP221zfRh3/5r1biAaBVmUT tQagGzgGVvVKIGaA4Pe36ZbEd9kFKuwIXnPWa+oAUK9ngihihQ== X-Google-Smtp-Source: AGHT+IGtGEjhUlfcyjbam1QwscxFvva81sXYg5GT7SZzlH2Y0a+MAAU0DSvNpSB9HaxFQMBsvJYHetZjs8JT X-Received: by 2002:a05:690c:630f:b0:721:b47:e22a with SMTP id 00721157ae682-75f675ef4d3mr2001917b3.25.1758665907242; Tue, 23 Sep 2025 15:18:27 -0700 (PDT) Received: from postal.iol.unh.edu (postal.iol.unh.edu. [2606:4100:3880:1234::84]) by smtp-relay.gmail.com with ESMTPS id 956f58d0204a3-636024e6b2bsm125383d50.10.2025.09.23.15.18.27 (version=TLS1_2 cipher=ECDHE-ECDSA-AES128-GCM-SHA256 bits=128/128); Tue, 23 Sep 2025 15:18:27 -0700 (PDT) X-Relaying-Domain: iol.unh.edu Date: Tue, 23 Sep 2025 15:18:27 -0700 (PDT) Message-ID: <68d31cb3.050a0220.1fdc9e.7ec3SMTPIN_ADDED_MISSING@mx.google.com> Received: from [172.21.0.2] (unknown [172.18.0.240]) by postal.iol.unh.edu (Postfix) with ESMTP id D16AA6050A61; Tue, 23 Sep 2025 18:18:26 -0400 (EDT) Subject: |SUCCESS| pw156844 [PATCH] [v2] telemetry: remove deprecated functio From: dpdklab@iol.unh.edu To: Test Report Cc: dpdk-test-reports@iol.unh.edu In-Reply-To: <20250923143225.12252-1-bruce.richardson@intel.com> References: <20250923143225.12252-1-bruce.richardson@intel.com> Content-Type: text/plain X-BeenThere: test-report@dpdk.org X-Mailman-Version: 2.1.29 Precedence: list List-Id: automatic DPDK test reports List-Unsubscribe: , List-Archive: List-Post: List-Help: List-Subscribe: , Errors-To: test-report-bounces@dpdk.org Test-Label: iol-unit-arm64-testing Test-Status: SUCCESS http://dpdk.org/patch/156844 _Testing PASS_ Submitter: Bruce Richardson Date: Tuesday, September 23 2025 14:32:25 DPDK git baseline: Repo:dpdk Branch: master CommitID:0e03ab647d07cd985a7cac36cefff5195cc3a07d 156844 --> testing pass Upstream job id: Generic-Unit-Test-DPDK#374070 Test environment and result as below: +------------------------------+----------------+------------------------------+--------------+---------------------------+ | Environment | dpdk_unit_test | cryptodev_sw_snow3g_autotest | lpm_autotest | cryptodev_sw_zuc_autotest | +==============================+================+==============================+==============+===========================+ | Fedora Linux 40 | PASS | SKIPPED | SKIPPED | SKIPPED | +------------------------------+----------------+------------------------------+--------------+---------------------------+ | Fedora Linux 41 | PASS | SKIPPED | SKIPPED | SKIPPED | +------------------------------+----------------+------------------------------+--------------+---------------------------+ | CentOS Stream 9 | PASS | SKIPPED | SKIPPED | SKIPPED | +------------------------------+----------------+------------------------------+--------------+---------------------------+ | Debian GNU/Linux 12 | PASS | SKIPPED | SKIPPED | SKIPPED | +------------------------------+----------------+------------------------------+--------------+---------------------------+ | Ubuntu 20.04 | PASS | SKIPPED | PASS | SKIPPED | +------------------------------+----------------+------------------------------+--------------+---------------------------+ | Fedora Linux 42 | PASS | SKIPPED | SKIPPED | SKIPPED | +------------------------------+----------------+------------------------------+--------------+---------------------------+ | Red Hat Enterprise Linux 9.5 | PASS | SKIPPED | SKIPPED | SKIPPED | +------------------------------+----------------+------------------------------+--------------+---------------------------+ | Ubuntu 22.04 | PASS | SKIPPED | SKIPPED | SKIPPED | +------------------------------+----------------+------------------------------+--------------+---------------------------+ | CentOS Stream 10 | PASS | SKIPPED | SKIPPED | SKIPPED | +------------------------------+----------------+------------------------------+--------------+---------------------------+ | Ubuntu 24.04 | PASS | SKIPPED | SKIPPED | SKIPPED | +------------------------------+----------------+------------------------------+--------------+---------------------------+ | Debian 12 (arm) | SKIPPED | PASS | SKIPPED | PASS | +------------------------------+----------------+------------------------------+--------------+---------------------------+ Fedora Linux 40 Kernel: 5.4 Compiler: gcc gcc (GCC) 14.2.1 20240912 (Red Hat 14.2.1-3) Fedora Linux 41 Kernel: 5.4 Compiler: clang gcc (GCC) 14.3.1 20250523 (Red Hat 14.3.1-1) CentOS Stream 9 Kernel: 5.4 Compiler: gcc gcc (GCC) 11.5.0 20240719 (Red Hat 11.5.0-11) Debian GNU/Linux 12 Kernel: 5.4 Compiler: gcc gcc (Debian 12.2.0-14+deb12u1) 12.2.0 Ubuntu 20.04 Kernel: 5.4 Compiler: gcc gcc (Ubuntu 9.4.0-1ubuntu1~20.04.2) 9.4.0 Fedora Linux 42 Kernel: 5.4 Compiler: clang gcc (GCC) 15.2.1 20250808 (Red Hat 15.2.1-1) Red Hat Enterprise Linux 9.5 Kernel: 5.4 Compiler: gcc gcc (GCC) 11.5.0 20240719 (Red Hat 11.5.0-2) Ubuntu 22.04 Kernel: 5.4 Compiler: gcc gcc (Ubuntu 11.4.0-1ubuntu1~22.04) 11.4.0 CentOS Stream 10 Kernel: 5.4 Compiler: gcc gcc (GCC) 14.2.1 20250110 (Red Hat 14.2.1-8) Ubuntu 24.04 Kernel: 5.4 Compiler: gcc gcc (Ubuntu 13.3.0-6ubuntu2~24.04) 13.3.0 Debian 12 (arm) Kernel: Depends on container host Compiler: gcc (Debian 12.2.0-14) 12.2.0 To view detailed results, visit: https://lab.dpdk.org/results/dashboard/patchsets/34123/ UNH-IOL DPDK Community Lab To manage your email subscriptions, visit: https://lab.dpdk.org/results/dashboard/preferences/subscriptions/