From mboxrd@z Thu Jan 1 00:00:00 1970 Return-Path: Received: from mails.dpdk.org (mails.dpdk.org [217.70.189.124]) by inbox.dpdk.org (Postfix) with ESMTP id 06F1D46F5F for ; Wed, 24 Sep 2025 00:30:49 +0200 (CEST) Received: from mails.dpdk.org (localhost [127.0.0.1]) by mails.dpdk.org (Postfix) with ESMTP id DDFFF402B9; Wed, 24 Sep 2025 00:30:48 +0200 (CEST) Received: from mail-pf1-f225.google.com (mail-pf1-f225.google.com [209.85.210.225]) by mails.dpdk.org (Postfix) with ESMTP id 531E5402B9 for ; Wed, 24 Sep 2025 00:30:47 +0200 (CEST) Received: by mail-pf1-f225.google.com with SMTP id d2e1a72fcca58-77f1f8a114bso387193b3a.0 for ; Tue, 23 Sep 2025 15:30:47 -0700 (PDT) DKIM-Signature: v=1; a=rsa-sha256; c=relaxed/relaxed; d=iol.unh.edu; s=unh-iol; t=1758666646; x=1759271446; darn=dpdk.org; h=references:in-reply-to:cc:to:from:subject:message-id:date:from:to :cc:subject:date:message-id:reply-to; bh=Joa433N+ITNhLBXnfGya3S+TpoVbC+zYHlIfWVSJGV8=; b=ixPOddYVR4L6u4mtqh/ZU3UM5pOpNsBP1Ul9b0jAWvH1zKcdIS8VuI7U04LbouvOcO RsO47I0dUCUd3/idNJbb2hDINyeAZFN+W/AyNOK5yXmHrzzM+BGywAAvP9yH80tZLERf jXcPp4aUkiusp4D2DIgoofFGlNquPnNRY9zyw= X-Google-DKIM-Signature: v=1; a=rsa-sha256; c=relaxed/relaxed; d=1e100.net; s=20230601; t=1758666646; x=1759271446; h=references:in-reply-to:cc:to:from:subject:message-id:date :x-gm-message-state:from:to:cc:subject:date:message-id:reply-to; bh=Joa433N+ITNhLBXnfGya3S+TpoVbC+zYHlIfWVSJGV8=; b=CKo1NncnUaAw4RtUV6EgLRiDjL1WaVnxXrNcjnZ+MW+9+T0N2L4vTaBEjQKfneWIjZ K6BrUwF4p6xIQHn+Hevsy7xHjtTsH+J4j3BAY3g/L29kXwHR34LG1TaiWYDviRR7gUkF 6tMJ6K/zVKpfltD0qG8JhGMMHeAWSFgzDiWp3+UUUBAx1EeMFHdAuZr040GBBF/YllXg t8Edg/RKXrM0Zmo1XTXps1cOtq1TpSwFPAEzsVHNbjHAFZauvFvEs4NdGEVTyqoRsku2 2nYGfv0oAJMA5KvdPXPfV4k4YqqCKS3I0YNZn7vvOvm0PKfDggwe368TZT1JmpFcUz7H v2rA== X-Gm-Message-State: AOJu0YzUVaFU5PY8cfD+nfDlHbDQen99ZPt9wM0OgMcrhr66+Lpv5+za LJ5+7PMXaDmBckjT0gTFSfIDFjulWTH5O7pUKYb6lgLA0HUaQ1Z+jDM6wGeHMv2N1b+kLBpDn13 MWRPbXs09qdishLLa+0WPYsYymaK6rcrdoKdjGtPcZ4aF4MxZyGyiuhN9K6We X-Gm-Gg: ASbGncsjI7SFBLV1KjrS4PntMut/2gGE3UjKF5FLKpw246Y0fRH3Jcy/4Xhp6iIgALB N2XWVq8yLFvlD15ZrOc+/MVDOHkNy6sFfv1b2NrIAnmPr5Ulv5xB1678Ax34z7H5sIVTVC8E4QT BTaL6US7FcLatIZfCQvrOPmVETp2PuqiFE0cKIgsC6xO08L1T5+5bzL1S0l+DQD9Xyp30EV4aKd zkAbFHmtDJI71ZKVWsn+53PcjXRiqfYwiU7huVReREd3no8qftfuSEMvt/Bsh70hH8Aq9TSqiWl CeFYVHBg2hR7IPjHdfAMWA/PW0V/N3K8R9n0QMhWNq95hGKxBw== X-Google-Smtp-Source: AGHT+IHMqcEkko8hKSm8mvXTNdg17i3PzFs2k0tG1ijWSHHFYidm6V5/QEgBUo74D9U1VOpvZ0nPQqSq8/z/ X-Received: by 2002:a05:6a00:27a8:b0:77f:2ef0:9bf5 with SMTP id d2e1a72fcca58-77f696ff67emr258069b3a.3.1758666645861; Tue, 23 Sep 2025 15:30:45 -0700 (PDT) Received: from postal.iol.unh.edu (postal.iol.unh.edu. [2606:4100:3880:1234::84]) by smtp-relay.gmail.com with ESMTPS id d2e1a72fcca58-77cfec3f5a5sm1042113b3a.12.2025.09.23.15.30.45 (version=TLS1_2 cipher=ECDHE-ECDSA-AES128-GCM-SHA256 bits=128/128); Tue, 23 Sep 2025 15:30:45 -0700 (PDT) X-Relaying-Domain: iol.unh.edu Date: Tue, 23 Sep 2025 15:30:45 -0700 (PDT) Message-ID: <68d31f95.a70a0220.2d3e54.43a4SMTPIN_ADDED_MISSING@mx.google.com> Received: from [172.21.0.2] (unknown [172.18.0.240]) by postal.iol.unh.edu (Postfix) with ESMTP id 1B9FF60003EA; Tue, 23 Sep 2025 18:30:45 -0400 (EDT) Subject: |SUCCESS| pw156845 [PATCH] [v3] build: remove deprecated kmods optio From: dpdklab@iol.unh.edu To: Test Report Cc: dpdk-test-reports@iol.unh.edu In-Reply-To: <20250923144000.13570-1-bruce.richardson@intel.com> References: <20250923144000.13570-1-bruce.richardson@intel.com> Content-Type: text/plain X-BeenThere: test-report@dpdk.org X-Mailman-Version: 2.1.29 Precedence: list List-Id: automatic DPDK test reports List-Unsubscribe: , List-Archive: List-Post: List-Help: List-Subscribe: , Errors-To: test-report-bounces@dpdk.org Test-Label: iol-compile-arm64-testing Test-Status: SUCCESS http://dpdk.org/patch/156845 _Testing PASS_ Submitter: Bruce Richardson Date: Tuesday, September 23 2025 14:40:00 DPDK git baseline: Repo:dpdk-next-dts Branch: master CommitID:b71d7bdf2b663f9fedc1d344b81a8cf65518026c 156845 --> testing pass Upstream job id: Generic-DPDK-Compile-Meson#427768 Test environment and result as below: +------------------------------+--------------------+ | Environment | dpdk_meson_compile | +==============================+====================+ | Ubuntu 20.04 | PASS | +------------------------------+--------------------+ | Red Hat Enterprise Linux 9.5 | PASS | +------------------------------+--------------------+ | Debian GNU/Linux 12 | PASS | +------------------------------+--------------------+ | Fedora Linux 42 | PASS | +------------------------------+--------------------+ | Ubuntu 24.04 | PASS | +------------------------------+--------------------+ | Ubuntu 22.04 | PASS | +------------------------------+--------------------+ | CentOS Stream 9 | PASS | +------------------------------+--------------------+ | CentOS Stream 10 | PASS | +------------------------------+--------------------+ Ubuntu 20.04 Kernel: 5.15 Compiler: aarch64-linux-gnu-gcc gcc (Ubuntu 9.4.0-1ubuntu1~20.04.2) 9.4.0 Red Hat Enterprise Linux 9.5 Kernel: 5.4 Compiler: gcc gcc (GCC) 11.5.0 20240719 (Red Hat 11.5.0-2) Debian GNU/Linux 12 Kernel: 5.4 Compiler: gcc gcc (Debian 12.2.0-14+deb12u1) 12.2.0 Fedora Linux 42 Kernel: 5.4 Compiler: gcc gcc (GCC) 15.2.1 20250808 (Red Hat 15.2.1-1) Ubuntu 24.04 Kernel: 5.4 Compiler: gcc gcc (Ubuntu 13.3.0-6ubuntu2~24.04) 13.3.0 Ubuntu 22.04 Kernel: 5.4 Compiler: gcc gcc (Ubuntu 11.4.0-1ubuntu1~22.04) 11.4.0 CentOS Stream 9 Kernel: 5.4 Compiler: gcc gcc (GCC) 11.5.0 20240719 (Red Hat 11.5.0-11) CentOS Stream 10 Kernel: 5.4 Compiler: gcc gcc (GCC) 14.2.1 20250110 (Red Hat 14.2.1-8) To view detailed results, visit: https://lab.dpdk.org/results/dashboard/patchsets/34124/ UNH-IOL DPDK Community Lab To manage your email subscriptions, visit: https://lab.dpdk.org/results/dashboard/preferences/subscriptions/