From mboxrd@z Thu Jan 1 00:00:00 1970 Return-Path: Received: from mails.dpdk.org (mails.dpdk.org [217.70.189.124]) by inbox.dpdk.org (Postfix) with ESMTP id 7241046F5F for ; Wed, 24 Sep 2025 00:35:46 +0200 (CEST) Received: from mails.dpdk.org (localhost [127.0.0.1]) by mails.dpdk.org (Postfix) with ESMTP id 53258402B9; Wed, 24 Sep 2025 00:35:46 +0200 (CEST) Received: from mail-yx1-f99.google.com (mail-yx1-f99.google.com [74.125.224.99]) by mails.dpdk.org (Postfix) with ESMTP id BFE5E402B9 for ; Wed, 24 Sep 2025 00:35:44 +0200 (CEST) Received: by mail-yx1-f99.google.com with SMTP id 956f58d0204a3-63604582e53so1119149d50.3 for ; Tue, 23 Sep 2025 15:35:44 -0700 (PDT) DKIM-Signature: v=1; a=rsa-sha256; c=relaxed/relaxed; d=iol.unh.edu; s=unh-iol; t=1758666944; x=1759271744; darn=dpdk.org; h=references:in-reply-to:cc:to:from:subject:message-id:date:from:to :cc:subject:date:message-id:reply-to; bh=S35zHr9o9wSeYpIt/BrUFxrQmTZ6X/UiNDKevbfEH10=; b=hC0FGeyAdWUauwOwsDHUMHEKE1/7NVuidniKYT8GvQYESDIduvWTcuzPej+UU3a3PD FzUnhBo6op4PMv66c5Tk0UIYHQKnzBD2tDVvsQvW9S9YR2nXqp6HIPNck7hPEK0LsbcM tpyrP6ypNWgy/GK15AAwA3x4/5xxBn5okSTTI= X-Google-DKIM-Signature: v=1; a=rsa-sha256; c=relaxed/relaxed; d=1e100.net; s=20230601; t=1758666944; x=1759271744; h=references:in-reply-to:cc:to:from:subject:message-id:date :x-gm-message-state:from:to:cc:subject:date:message-id:reply-to; bh=S35zHr9o9wSeYpIt/BrUFxrQmTZ6X/UiNDKevbfEH10=; b=v5vtTre9FIExToOQgvN0DhGcn9De/6Woh20cqXpjyYV7fbpQRXyIctDa9uLdwm/42j ZFksK+eKmQZG3YPI7FaJXyXZRx/1aaXFH5oWHHfNVdY6Mgqs5bY628Qgh9wIfLj1d6BC zuasHTVx6Q0V887Cl6K4cJX2iGR+GxHRPv6MzlYoS1IJJRoYfmruyFJmV8PXA4ggHdUe HcfqDjYKK8II3lF7Bp0K3xe9jOTbtoxhRIY51Y6dsZ3SYG+TvwvgmWsg5qkC+lQB4ibh ujEyUPWJH3Teg7zYuSVapWXtjw+2Q+LcWRNhJ/DJre0KSdG0CkY0PGsUPSRsGnAQfR/i JW4Q== X-Gm-Message-State: AOJu0YwzVuniEqUKhnBVv2shhPila23DzjUyQt1LVMgy2SsEIn01sTgb I3PpUfPrNX3eNeguiNXGZt1jEvvxLZyw62W+iygwSDTjp7xqjVS9CMcSjUflCa3tW04xhFfht1f LL1Vwsp9/iCgmg75gFAK90eBoOI/hFIIag91vwzWX30MF X-Gm-Gg: ASbGncuLcxzN7n/DoLnKuQfhbNN2A94dve6sabCEZ6KDkPqu9TuKbaWBaYRpVntVt1P IzJfdTFgIxUs8Vp0A7i7mgeXjYxz0LE2PGHmp5PXYN7ISZD/Ntu8T3Nl9sckVOye+kwv26z9oIb UQLYxB5ijy1RT95Q5lWBBH1Z9/bAB1mE6cGL90MIgkL96be1fYB0MWP/MRfts21bjK1XjP8DS60 1Cds0ucXLSKLx3TV4N51B8hDzmntUzhjeZMPxVCkKTDLOTx8T9G/TzxOkY8Ts//TbrSvOKGZKUL PJxUKuldrIDI8IUtAXykD4QtnWvn+XPGFiZqWP/uNfkbs8mNfAU0GpTJjTGFruWoPgiyK64n X-Google-Smtp-Source: AGHT+IH4UpdlK3FoUCEsaD1MRUh2nSCstfl4zDMFGRMorG79QMonsUFTydaj8nLI1+8Zf1CoGggToHFiLRNZ X-Received: by 2002:a05:690e:15c8:b0:62b:7d25:1911 with SMTP id 956f58d0204a3-636046a8f99mr2446282d50.2.1758666944051; Tue, 23 Sep 2025 15:35:44 -0700 (PDT) Received: from postal.iol.unh.edu (postal.iol.unh.edu. [132.177.123.84]) by smtp-relay.gmail.com with ESMTPS id 3f1490d57ef6-ea5ce810ac2sm784260276.12.2025.09.23.15.35.43 (version=TLS1_2 cipher=ECDHE-ECDSA-AES128-GCM-SHA256 bits=128/128); Tue, 23 Sep 2025 15:35:44 -0700 (PDT) X-Relaying-Domain: iol.unh.edu Date: Tue, 23 Sep 2025 15:35:44 -0700 (PDT) Message-ID: <68d320c0.250a0220.21a8a4.2496SMTPIN_ADDED_MISSING@mx.google.com> Received: from [172.21.0.2] (unknown [172.18.0.240]) by postal.iol.unh.edu (Postfix) with ESMTP id B07D96051830; Tue, 23 Sep 2025 18:35:43 -0400 (EDT) Subject: |SUCCESS| pw156844 [PATCH] [v2] telemetry: remove deprecated functio From: dpdklab@iol.unh.edu To: Test Report Cc: dpdk-test-reports@iol.unh.edu In-Reply-To: <20250923143225.12252-1-bruce.richardson@intel.com> References: <20250923143225.12252-1-bruce.richardson@intel.com> Content-Type: text/plain X-BeenThere: test-report@dpdk.org X-Mailman-Version: 2.1.29 Precedence: list List-Id: automatic DPDK test reports List-Unsubscribe: , List-Archive: List-Post: List-Help: List-Subscribe: , Errors-To: test-report-bounces@dpdk.org Test-Label: iol-compile-arm64-testing Test-Status: SUCCESS http://dpdk.org/patch/156844 _Testing PASS_ Submitter: Bruce Richardson Date: Tuesday, September 23 2025 14:32:25 DPDK git baseline: Repo:dpdk Branch: master CommitID:0e03ab647d07cd985a7cac36cefff5195cc3a07d 156844 --> testing pass Upstream job id: Generic-DPDK-Compile-Meson#427743 Test environment and result as below: +------------------------------+--------------------+ | Environment | dpdk_meson_compile | +==============================+====================+ | Ubuntu 20.04 | PASS | +------------------------------+--------------------+ | Red Hat Enterprise Linux 9.5 | PASS | +------------------------------+--------------------+ | Debian GNU/Linux 12 | PASS | +------------------------------+--------------------+ | Fedora Linux 42 | PASS | +------------------------------+--------------------+ | Ubuntu 22.04 | PASS | +------------------------------+--------------------+ | Ubuntu 24.04 | PASS | +------------------------------+--------------------+ | CentOS Stream 9 | PASS | +------------------------------+--------------------+ | CentOS Stream 10 | PASS | +------------------------------+--------------------+ Ubuntu 20.04 Kernel: 5.4 Compiler: gcc gcc (Ubuntu 9.4.0-1ubuntu1~20.04.2) 9.4.0 Red Hat Enterprise Linux 9.5 Kernel: 5.4 Compiler: gcc gcc (GCC) 11.5.0 20240719 (Red Hat 11.5.0-2) Debian GNU/Linux 12 Kernel: 5.4 Compiler: gcc gcc (Debian 12.2.0-14+deb12u1) 12.2.0 Fedora Linux 42 Kernel: 5.4 Compiler: gcc gcc (GCC) 15.2.1 20250808 (Red Hat 15.2.1-1) Ubuntu 22.04 Kernel: 5.4 Compiler: gcc gcc (Ubuntu 11.4.0-1ubuntu1~22.04) 11.4.0 Ubuntu 24.04 Kernel: 5.4 Compiler: gcc gcc (Ubuntu 13.3.0-6ubuntu2~24.04) 13.3.0 CentOS Stream 9 Kernel: 5.4 Compiler: gcc gcc (GCC) 11.5.0 20240719 (Red Hat 11.5.0-11) CentOS Stream 10 Kernel: 5.4 Compiler: gcc gcc (GCC) 14.2.1 20250110 (Red Hat 14.2.1-8) To view detailed results, visit: https://lab.dpdk.org/results/dashboard/patchsets/34123/ UNH-IOL DPDK Community Lab To manage your email subscriptions, visit: https://lab.dpdk.org/results/dashboard/preferences/subscriptions/