From mboxrd@z Thu Jan 1 00:00:00 1970 Return-Path: Received: from mails.dpdk.org (mails.dpdk.org [217.70.189.124]) by inbox.dpdk.org (Postfix) with ESMTP id 4DB2546F5F for ; Wed, 24 Sep 2025 01:52:03 +0200 (CEST) Received: from mails.dpdk.org (localhost [127.0.0.1]) by mails.dpdk.org (Postfix) with ESMTP id 2CD50402D1; Wed, 24 Sep 2025 01:52:03 +0200 (CEST) Received: from mail-yw1-f228.google.com (mail-yw1-f228.google.com [209.85.128.228]) by mails.dpdk.org (Postfix) with ESMTP id 6EB6F402D1 for ; Wed, 24 Sep 2025 01:52:02 +0200 (CEST) Received: by mail-yw1-f228.google.com with SMTP id 00721157ae682-7501c24a731so21588127b3.3 for ; Tue, 23 Sep 2025 16:52:02 -0700 (PDT) DKIM-Signature: v=1; a=rsa-sha256; c=relaxed/relaxed; d=iol.unh.edu; s=unh-iol; t=1758671522; x=1759276322; darn=dpdk.org; h=references:in-reply-to:cc:to:from:subject:message-id:date:from:to :cc:subject:date:message-id:reply-to; bh=NBWq9OQKmHl5TxL0KkCOWh6cve2PQTYmIABBYntmlK8=; b=QN4Y3lz3GO9PFOEjHSKe3E3lkZmxbVfulgjYzxg5hUuKQxRmQVR3aOYviEw2WCWhx2 PJOnzRkVXIzHR3SDbsfT4h0pzFmxP6bfMtJbJblnIOX8vQ2njndHnV8ilVVRB8SGE1Dx O5pTGi0i7Q8l0oat47dz037hUt6Qf1PGZzB4o= X-Google-DKIM-Signature: v=1; a=rsa-sha256; c=relaxed/relaxed; d=1e100.net; s=20230601; t=1758671522; x=1759276322; h=references:in-reply-to:cc:to:from:subject:message-id:date :x-gm-message-state:from:to:cc:subject:date:message-id:reply-to; bh=NBWq9OQKmHl5TxL0KkCOWh6cve2PQTYmIABBYntmlK8=; b=e49hoY83NBbc0/XWRjMnBIkTvG2weDjHLmKy49zA7XPTl8F/vc8ECdInZaXFjj9k0Q e8y2t2hKCYUytEzku+G8wbUMKO+54mbWWNolJKcm4enHSA+b+a1/D7MBCvG8eANXdXvK vGrwkJay4xo33TxE4COCd/SDUmSpWsYHL+6mBlz4zDA90Rta1cstgdWRm3o/TfNJxaHo wbWmq4y5iV0ILh9EgcCslLCSqdKKFMU5Fjlax8W9s2B276kzEVHjQI8SmfJCWZ4bNTdQ v9ZsADlq1IpPr634tnRmZGiDOzGfhj1MWVKCW110vGD63FWkGFk5DEipEV+a6DyrwLKu lrPA== X-Gm-Message-State: AOJu0YxcGK9Fuk90G/wb3QTZ5bSjylsxwRXtT0smzUnn3gMe8+/kHhAF IZJNXw6MHdUNYn+jamkoa98WOuDu6To5DazImnMIjTqh/t2HBNgqHcrxxAgEhy/V+B65ks8/RYz WS3jD3JofdN6ryPRz/UkpBARN61euKxgrdc3+o9IpgHU0OekNXWJR7V1KXj66 X-Gm-Gg: ASbGncu88gnLUTn5rti1QNJPdyGdDwiXMt/73/UAvdJ6PCAgNJ41ew4HoIYr1uOhH8g RhjK8DizLETChcIpgvwYmAHwV2AOgVRVX3nU6NJTK0hg25itl35YhraO6z4SG8xg169EbcFB3in +kD4En5sVYiz4SAscKknMA3MWDLuySs4HhIUFQVkKHNAQJQmF0sKTKvGuKn1E7H52NlmF1MB60u IlDFZx4U2PxG5t/y40go6UzRTGy1q9/TJ9Efu9TLzR//8QCSdqnhRYnYKg/3I57pR8LvBqX/alO rdEDJ5RA8qxGAtrh6ELn5PiiCr8g1HPBnfcFr1bdHc+ViHVaAQ== X-Google-Smtp-Source: AGHT+IHWTB5+x4wwkXC87XdbkhwkdGYo2hulard0vzuclCrUsrwekwitERGXcVjvE3IPt9DVIgiibWHA84nG X-Received: by 2002:a05:690c:f81:b0:729:df2d:4a20 with SMTP id 00721157ae682-758a1e968cbmr40551997b3.25.1758671521673; Tue, 23 Sep 2025 16:52:01 -0700 (PDT) Received: from postal.iol.unh.edu (postal.iol.unh.edu. [2606:4100:3880:1234::84]) by smtp-relay.gmail.com with ESMTPS id 00721157ae682-75d32813471sm601157b3.40.2025.09.23.16.52.01 (version=TLS1_2 cipher=ECDHE-ECDSA-AES128-GCM-SHA256 bits=128/128); Tue, 23 Sep 2025 16:52:01 -0700 (PDT) X-Relaying-Domain: iol.unh.edu Date: Tue, 23 Sep 2025 16:52:01 -0700 (PDT) Message-ID: <68d332a1.050a0220.2555f2.3d7eSMTPIN_ADDED_MISSING@mx.google.com> Received: from [172.21.0.2] (unknown [172.18.0.240]) by postal.iol.unh.edu (Postfix) with ESMTP id 1ACE260003EA; Tue, 23 Sep 2025 19:52:01 -0400 (EDT) Subject: |SUCCESS| pw156847-156849 [PATCH] [3/3] app/compress-perf: support f From: dpdklab@iol.unh.edu To: Test Report Cc: dpdk-test-reports@iol.unh.edu, Akhil Goyal In-Reply-To: <20250923163115.1397923-3-svaze@qti.qualcomm.com> References: <20250923163115.1397923-3-svaze@qti.qualcomm.com> Content-Type: text/plain X-BeenThere: test-report@dpdk.org X-Mailman-Version: 2.1.29 Precedence: list List-Id: automatic DPDK test reports List-Unsubscribe: , List-Archive: List-Post: List-Help: List-Subscribe: , Errors-To: test-report-bounces@dpdk.org Test-Label: iol-compile-arm64-testing Test-Status: SUCCESS http://dpdk.org/patch/156849 _Testing PASS_ Submitter: Sameer Vaze Date: Tuesday, September 23 2025 16:31:15 DPDK git baseline: Repo:dpdk-next-crypto Branch: master CommitID:4159ea62922ce41566c7bab44655ad78bee85458 156847-156849 --> testing pass Upstream job id: Generic-DPDK-Compile-Meson#427778 Test environment and result as below: +------------------------------+--------------------+ | Environment | dpdk_meson_compile | +==============================+====================+ | Ubuntu 20.04 | PASS | +------------------------------+--------------------+ | Fedora Linux 42 | PASS | +------------------------------+--------------------+ | Red Hat Enterprise Linux 9.5 | PASS | +------------------------------+--------------------+ | Ubuntu 22.04 | PASS | +------------------------------+--------------------+ | Debian GNU/Linux 12 | PASS | +------------------------------+--------------------+ | Ubuntu 24.04 | PASS | +------------------------------+--------------------+ | CentOS Stream 9 | PASS | +------------------------------+--------------------+ | CentOS Stream 10 | PASS | +------------------------------+--------------------+ Ubuntu 20.04 Kernel: 5.15 Compiler: aarch64-linux-gnu-gcc gcc (Ubuntu 9.4.0-1ubuntu1~20.04.2) 9.4.0 Fedora Linux 42 Kernel: 5.4 Compiler: gcc gcc (GCC) 15.2.1 20250808 (Red Hat 15.2.1-1) Red Hat Enterprise Linux 9.5 Kernel: 5.4 Compiler: gcc gcc (GCC) 11.5.0 20240719 (Red Hat 11.5.0-2) Ubuntu 22.04 Kernel: 5.4 Compiler: gcc gcc (Ubuntu 11.4.0-1ubuntu1~22.04) 11.4.0 Debian GNU/Linux 12 Kernel: 5.4 Compiler: gcc gcc (Debian 12.2.0-14+deb12u1) 12.2.0 Ubuntu 24.04 Kernel: 5.4 Compiler: gcc gcc (Ubuntu 13.3.0-6ubuntu2~24.04) 13.3.0 CentOS Stream 9 Kernel: 5.4 Compiler: gcc gcc (GCC) 11.5.0 20240719 (Red Hat 11.5.0-11) CentOS Stream 10 Kernel: 5.4 Compiler: gcc gcc (GCC) 14.2.1 20250110 (Red Hat 14.2.1-8) To view detailed results, visit: https://lab.dpdk.org/results/dashboard/patchsets/34126/ UNH-IOL DPDK Community Lab To manage your email subscriptions, visit: https://lab.dpdk.org/results/dashboard/preferences/subscriptions/