From mboxrd@z Thu Jan 1 00:00:00 1970 Return-Path: Received: from mails.dpdk.org (mails.dpdk.org [217.70.189.124]) by inbox.dpdk.org (Postfix) with ESMTP id B327F46F60 for ; Wed, 24 Sep 2025 02:20:26 +0200 (CEST) Received: from mails.dpdk.org (localhost [127.0.0.1]) by mails.dpdk.org (Postfix) with ESMTP id 936A0402D1; Wed, 24 Sep 2025 02:20:26 +0200 (CEST) Received: from mail-oa1-f99.google.com (mail-oa1-f99.google.com [209.85.160.99]) by mails.dpdk.org (Postfix) with ESMTP id 5170A402D1 for ; Wed, 24 Sep 2025 02:20:25 +0200 (CEST) Received: by mail-oa1-f99.google.com with SMTP id 586e51a60fabf-33fa9f72c25so2043994fac.0 for ; Tue, 23 Sep 2025 17:20:25 -0700 (PDT) DKIM-Signature: v=1; a=rsa-sha256; c=relaxed/relaxed; d=iol.unh.edu; s=unh-iol; t=1758673224; x=1759278024; darn=dpdk.org; h=references:in-reply-to:cc:to:from:subject:message-id:date:from:to :cc:subject:date:message-id:reply-to; bh=QLV95XKrouWd2dfn074Awn/tYUQnJCfjcGazAoFAz0o=; b=DNuNQPPNQ0O8CJbMEzOpB/L7cxrtGk3iSC72K54Jh7VjRl/6RvnpwniHtFCHdK/BNj Qv8JUjq9LafyCbkYMV+L+Q8j3ASfN8ZbYr4xCyilaLRLYQ7Jh/gU8WUWXtP/+H1gonYz 6swFP0jg7m1/5aAayAjl6+oN9XmUcHwpOl4x4= X-Google-DKIM-Signature: v=1; a=rsa-sha256; c=relaxed/relaxed; d=1e100.net; s=20230601; t=1758673224; x=1759278024; h=references:in-reply-to:cc:to:from:subject:message-id:date :x-gm-message-state:from:to:cc:subject:date:message-id:reply-to; bh=QLV95XKrouWd2dfn074Awn/tYUQnJCfjcGazAoFAz0o=; b=ti8DrLF+To/YbjtFfjwGarIoZqphXropE9ECqJrIBdVmYjKOQJFCKoQfCFYqaNJmiW 2wr7m63BDk+HOsmzwvj2Zkj53Rp1g0SorMrJGFli/WJ3cEdFvxuSJ/XMS//f3WeB9PPA uWqMiecVGZR18TfJM9fle/JGehEwGCwnq9QdVvrgaSZ2jlNCmZsVeLswHtFM24dxzusX CpmD8yNFXeT0812L55oVaOY9Uw/vgrUYQKH9kTAnNf7jFs5emfk0y3Y4lo6uR/AHEQ2g kFPaMJN3Wfyp3qy26TCoK2ck51r6SN/1s4UiacpHRxMbZ+wUCDHBKxOtp9tSJDP2N2c8 IhyA== X-Gm-Message-State: AOJu0YyiBtzoaF9V/kJ7HrCMWz1lw1fekHF2GY0Xpl3e+t+cll4EvH93 9yg22dGJvDcOMFH5FspgZQjiN6g4UcbxgEed4rHrhrFOljAPRiffcxjs2GerXFbSQshTms4UNmt MFjivPyFnsj8bcmbGqhMWdjtIJgYURIjPKlbtTLTU0Vin X-Gm-Gg: ASbGncvSyYAThHIAbd02eyinWwi1nYIfxbMCXHYSuXczuWlaV2svbI5ckZ4q9YGz/Fv sie9fjc26/8nsOrVg7YONloW76a9wFrGLdxxO5k4b2qqSoYF7L6NDwLy4RwHLrbY8vqSgFwV7E/ cLZONipNPWXr2zy5begsODOsMdodBOOBundDPuTi+piyZyouQBynrmXyjN1tSBs9ICQGgcOWwRj s34vclmz/Zt6SVCRAxRDbHxSEXc/jC8KwuZUZvxZeODTu2RtPqBT/CawYRyCckcctE21bbzJ+AP VEAsOX2z/PC75UGhmGIPc1nDO2CFfp7oZes4BS2T/k1WOcsKhoWD8lAbo6NCULWuiJ6IWyxb X-Google-Smtp-Source: AGHT+IFHZA19eGKeJcZg99WxnXtUTwBuvT9IqqASaSy1ZKttdApOUZBe4wkzMVeXjUpkXcw9IWwCbXH50m/5 X-Received: by 2002:a05:6870:b6a3:b0:331:a84b:b3ba with SMTP id 586e51a60fabf-34c82c94a8fmr2552523fac.32.1758673224437; Tue, 23 Sep 2025 17:20:24 -0700 (PDT) Received: from postal.iol.unh.edu (postal.iol.unh.edu. [132.177.123.84]) by smtp-relay.gmail.com with ESMTPS id 586e51a60fabf-344a35b715fsm462247fac.25.2025.09.23.17.20.24 (version=TLS1_2 cipher=ECDHE-ECDSA-AES128-GCM-SHA256 bits=128/128); Tue, 23 Sep 2025 17:20:24 -0700 (PDT) X-Relaying-Domain: iol.unh.edu Date: Tue, 23 Sep 2025 17:20:24 -0700 (PDT) Message-ID: <68d33948.050a0220.1a0846.eef8SMTPIN_ADDED_MISSING@mx.google.com> Received: from [172.21.0.2] (unknown [172.18.0.240]) by postal.iol.unh.edu (Postfix) with ESMTP id DF3C26051830; Tue, 23 Sep 2025 20:20:23 -0400 (EDT) Subject: |SUCCESS| pw156845 [PATCH] [v3] build: remove deprecated kmods optio From: dpdklab@iol.unh.edu To: Test Report Cc: dpdk-test-reports@iol.unh.edu In-Reply-To: <20250923144000.13570-1-bruce.richardson@intel.com> References: <20250923144000.13570-1-bruce.richardson@intel.com> Content-Type: text/plain X-BeenThere: test-report@dpdk.org X-Mailman-Version: 2.1.29 Precedence: list List-Id: automatic DPDK test reports List-Unsubscribe: , List-Archive: List-Post: List-Help: List-Subscribe: , Errors-To: test-report-bounces@dpdk.org Test-Label: iol-unit-arm64-testing Test-Status: SUCCESS http://dpdk.org/patch/156845 _Testing PASS_ Submitter: Bruce Richardson Date: Tuesday, September 23 2025 14:40:00 DPDK git baseline: Repo:dpdk-next-dts Branch: master CommitID:b71d7bdf2b663f9fedc1d344b81a8cf65518026c 156845 --> testing pass Upstream job id: Generic-Unit-Test-DPDK#374096 Test environment and result as below: +------------------------------+------------------------------+---------------------------+--------------+----------------+ | Environment | cryptodev_sw_snow3g_autotest | cryptodev_sw_zuc_autotest | lpm_autotest | dpdk_unit_test | +==============================+==============================+===========================+==============+================+ | Debian 12 (arm) | PASS | PASS | SKIPPED | SKIPPED | +------------------------------+------------------------------+---------------------------+--------------+----------------+ | Ubuntu 20.04 | SKIPPED | SKIPPED | PASS | PASS | +------------------------------+------------------------------+---------------------------+--------------+----------------+ | CentOS Stream 9 | SKIPPED | SKIPPED | SKIPPED | PASS | +------------------------------+------------------------------+---------------------------+--------------+----------------+ | Fedora Linux 40 | SKIPPED | SKIPPED | SKIPPED | PASS | +------------------------------+------------------------------+---------------------------+--------------+----------------+ | Debian GNU/Linux 12 | SKIPPED | SKIPPED | SKIPPED | PASS | +------------------------------+------------------------------+---------------------------+--------------+----------------+ | CentOS Stream 10 | SKIPPED | SKIPPED | SKIPPED | PASS | +------------------------------+------------------------------+---------------------------+--------------+----------------+ | Fedora Linux 41 | SKIPPED | SKIPPED | SKIPPED | PASS | +------------------------------+------------------------------+---------------------------+--------------+----------------+ | Red Hat Enterprise Linux 9.5 | SKIPPED | SKIPPED | SKIPPED | PASS | +------------------------------+------------------------------+---------------------------+--------------+----------------+ | Ubuntu 24.04 | SKIPPED | SKIPPED | SKIPPED | PASS | +------------------------------+------------------------------+---------------------------+--------------+----------------+ | Fedora Linux 42 | SKIPPED | SKIPPED | SKIPPED | PASS | +------------------------------+------------------------------+---------------------------+--------------+----------------+ | Ubuntu 22.04 | SKIPPED | SKIPPED | SKIPPED | PASS | +------------------------------+------------------------------+---------------------------+--------------+----------------+ Debian 12 (arm) Kernel: Depends on container host Compiler: gcc (Debian 12.2.0-14) 12.2.0 Ubuntu 20.04 Kernel: 5.4 Compiler: gcc gcc (Ubuntu 9.4.0-1ubuntu1~20.04.2) 9.4.0 CentOS Stream 9 Kernel: 5.4 Compiler: gcc gcc (GCC) 11.5.0 20240719 (Red Hat 11.5.0-11) Fedora Linux 40 Kernel: 5.4 Compiler: clang gcc (GCC) 14.2.1 20240912 (Red Hat 14.2.1-3) Debian GNU/Linux 12 Kernel: 5.4 Compiler: gcc gcc (Debian 12.2.0-14+deb12u1) 12.2.0 CentOS Stream 10 Kernel: 5.4 Compiler: gcc gcc (GCC) 14.2.1 20250110 (Red Hat 14.2.1-8) Fedora Linux 41 Kernel: 5.4 Compiler: clang gcc (GCC) 14.3.1 20250523 (Red Hat 14.3.1-1) Red Hat Enterprise Linux 9.5 Kernel: 5.4 Compiler: gcc gcc (GCC) 11.5.0 20240719 (Red Hat 11.5.0-2) Ubuntu 24.04 Kernel: 5.4 Compiler: gcc gcc (Ubuntu 13.3.0-6ubuntu2~24.04) 13.3.0 Fedora Linux 42 Kernel: 5.4 Compiler: gcc gcc (GCC) 15.2.1 20250808 (Red Hat 15.2.1-1) Ubuntu 22.04 Kernel: 5.4 Compiler: gcc gcc (Ubuntu 11.4.0-1ubuntu1~22.04) 11.4.0 To view detailed results, visit: https://lab.dpdk.org/results/dashboard/patchsets/34124/ UNH-IOL DPDK Community Lab To manage your email subscriptions, visit: https://lab.dpdk.org/results/dashboard/preferences/subscriptions/