From mboxrd@z Thu Jan 1 00:00:00 1970 Return-Path: Received: from mails.dpdk.org (mails.dpdk.org [217.70.189.124]) by inbox.dpdk.org (Postfix) with ESMTP id 10CA546F60 for ; Wed, 24 Sep 2025 02:49:46 +0200 (CEST) Received: from mails.dpdk.org (localhost [127.0.0.1]) by mails.dpdk.org (Postfix) with ESMTP id DF7F5402D1; Wed, 24 Sep 2025 02:49:45 +0200 (CEST) Received: from mail-il1-f226.google.com (mail-il1-f226.google.com [209.85.166.226]) by mails.dpdk.org (Postfix) with ESMTP id D669D402D1 for ; Wed, 24 Sep 2025 02:49:44 +0200 (CEST) Received: by mail-il1-f226.google.com with SMTP id e9e14a558f8ab-424da17e309so42569765ab.2 for ; Tue, 23 Sep 2025 17:49:44 -0700 (PDT) DKIM-Signature: v=1; a=rsa-sha256; c=relaxed/relaxed; d=iol.unh.edu; s=unh-iol; t=1758674984; x=1759279784; darn=dpdk.org; h=cc:to:from:subject:message-id:date:from:to:cc:subject:date :message-id:reply-to; bh=0fYWB2qFBYJwqTQc8pAXC5KbcDrNjBdfKC5rco2Ygak=; b=iLPjjgRkLNypc6Qsrxr8cZzZBVABMiqGPc8dyuxJLjM9co0+tGx+uqN08RwKZxUNRC EcbCPl/SP9Rs7/z3UnYIliwIYZZJTU907x9TemLq4sOsdLzDyw1IbP9XDn7BwohUo0XQ ssurgw/E4ZxuEwKEm0g14RJRcbmRlLDu2Cv34= X-Google-DKIM-Signature: v=1; a=rsa-sha256; c=relaxed/relaxed; d=1e100.net; s=20230601; t=1758674984; x=1759279784; h=cc:to:from:subject:message-id:date:x-gm-message-state:from:to:cc :subject:date:message-id:reply-to; bh=0fYWB2qFBYJwqTQc8pAXC5KbcDrNjBdfKC5rco2Ygak=; b=bKkrSXwLzkZazTtR3IBv6kdecsN7LO5St4cfJnwkyxqKhX2/liwsQOG4bal0eBlYzF Dc83aGb15/NQ4AoppFRMg+GnrFlSDya8Cup1ReW7Spd41YmwXutnmQ9KY+c6fNZEvrK6 6Ie514ylP6QVBPm/mzn0UnYYQARQi2j8lQxzOB1VKpW9LVpGN8o9k887N8qb0Wi+9z5x LoIz8mHJ4Zy/tJsHq0eWA2yw20NmOgf85uwkBX4TZV5hNX/6oIq8fYRu5wFg9k1oQjzd g0dakuaglwy/y36ADRFSjokdOb1QLmzGYN/U2nkaWNK/5vIKV5mIZuLpHjIF0uQ55BXC k57Q== X-Gm-Message-State: AOJu0YxRy0ASzL9YQ1pIIId8RHzIkGZnxh81ZZxS+nAyIvXQKKv5dX70 vyAXliHawI1wZN8sUzlbHiv4bKRkZrAlxjHU39ju3jxN8PPj3kdJHU+KqoY+MkMEXQTHFmI3ciO hyASukqLOY9kByLUV4W0GTl7TwcBQ+PYVpLdmW2Q6yAI7rFBAV2Is5L4uRbrT X-Gm-Gg: ASbGnctrOXg1lESEt2pXYRs+Ob5SBJ7+NTqoX3lowHidnE1DLe8Q/1uvpG7BwuOTVnR tZx7CYrT5ouH84dQaULd2suXPnGbUnDU8t0Og82m12HozkoOwwiDofvJvTwYTCJCL8k+HwC3xG/ khOfWFFB7v6EJ6QfBYlzDEko88KKEaQOkZG4MXW3iVebut+/89gAgbAspPPKFNYAA6hKl9C7fGB 8EgQY5d2c/n1foj69dYpPdH6gQbueTLAVF8AQZlyuWgYQ0VzVlYFzmbfLEG7FBeHQh4XJHrxbrM jZ/1kYBBdpJB4X9+VbQiZfu4qVJX+EarWOzXU4wZhPnM+EAmCA== X-Google-Smtp-Source: AGHT+IFgI7neJEPZCBDi+HXZENNyM7KocEEGXh7FxSgKSAbrwuQynqhpgFZLZV0ukqfO33vwk4v32qiJX8zd X-Received: by 2002:a05:6e02:1c23:b0:424:7d35:bce8 with SMTP id e9e14a558f8ab-42581eae244mr83081385ab.25.1758674984042; Tue, 23 Sep 2025 17:49:44 -0700 (PDT) Received: from postal.iol.unh.edu (postal.iol.unh.edu. [2606:4100:3880:1234::84]) by smtp-relay.gmail.com with ESMTPS id 8926c6da1cb9f-566394860d3sm92407173.30.2025.09.23.17.49.43 (version=TLS1_2 cipher=ECDHE-ECDSA-AES128-GCM-SHA256 bits=128/128); Tue, 23 Sep 2025 17:49:44 -0700 (PDT) X-Relaying-Domain: iol.unh.edu Date: Tue, 23 Sep 2025 17:49:44 -0700 (PDT) Message-ID: <68d34028.050a0220.101657.5de3SMTPIN_ADDED_MISSING@mx.google.com> Received: from [172.21.0.2] (unknown [172.18.0.240]) by postal.iol.unh.edu (Postfix) with ESMTP id 5DA7A6051830; Tue, 23 Sep 2025 20:49:43 -0400 (EDT) Subject: |SUCCESS| [GIT MASTER] 0e03ab647d07cd985a7cac36cefff5195cc3a07d From: dpdklab@iol.unh.edu To: Test Report Cc: dpdk-test-reports@iol.unh.edu Content-Type: text/plain X-BeenThere: test-report@dpdk.org X-Mailman-Version: 2.1.29 Precedence: list List-Id: automatic DPDK test reports List-Unsubscribe: , List-Archive: List-Post: List-Help: List-Subscribe: , Errors-To: test-report-bounces@dpdk.org _Testing PASS_ Branch: dpdk 0e03ab647d07cd985a7cac36cefff5195cc3a07d --> testing pass Upstream job id: Generic-Unit-Test-DPDK#374166 Test environment and result as below: +-------------------------------+----------------+ | Environment | dpdk_unit_test | +===============================+================+ | Red Hat Enterprise Linux 8.10 | PASS | +-------------------------------+----------------+ | Fedora Linux 42 | PASS | +-------------------------------+----------------+ | CentOS Stream 9 | PASS | +-------------------------------+----------------+ | Fedora Linux 40 | PASS | +-------------------------------+----------------+ | Ubuntu 24.04 | PASS | +-------------------------------+----------------+ | Fedora Linux 41 | PASS | +-------------------------------+----------------+ | Debian GNU/Linux 12 | PASS | +-------------------------------+----------------+ | Ubuntu 22.04 | PASS | +-------------------------------+----------------+ | Arch Linux 20250613.0.365270 | PASS | +-------------------------------+----------------+ | Ubuntu 20.04 | PASS | +-------------------------------+----------------+ | CentOS Stream 10 | PASS | +-------------------------------+----------------+ | Windows Server 2022 | PASS | +-------------------------------+----------------+ | Red Hat Enterprise Linux 9.5 | PASS | +-------------------------------+----------------+ Red Hat Enterprise Linux 8.10 Kernel: 5.15 Compiler: gcc gcc (GCC) 8.5.0 20210514 (Red Hat 8.5.0-22) Fedora Linux 42 Kernel: 5.15 Compiler: clang gcc (GCC) 15.2.1 20250808 (Red Hat 15.2.1-1) CentOS Stream 9 Kernel: 5.15 Compiler: gcc gcc (GCC) 11.5.0 20240719 (Red Hat 11.5.0-11) Fedora Linux 40 Kernel: 5.15 Compiler: clang gcc (GCC) 14.2.1 20240912 (Red Hat 14.2.1-3) Ubuntu 24.04 Kernel: 5.15 Compiler: gcc gcc (Ubuntu 13.3.0-6ubuntu2~24.04) 13.3.0 Fedora Linux 41 Kernel: 5.15 Compiler: gcc gcc (GCC) 14.3.1 20250523 (Red Hat 14.3.1-1) Debian GNU/Linux 12 Kernel: 5.15 Compiler: gcc gcc (Debian 12.2.0-14+deb12u1) 12.2.0 Ubuntu 22.04 Kernel: 5.15 Compiler: gcc gcc (Ubuntu 11.4.0-1ubuntu1~22.04) 11.4.0 Arch Linux 20250613.0.365270 Kernel: 5.15 Compiler: gcc gcc (GCC) 15.1.1 20250425 Ubuntu 20.04 Kernel: 5.15 Compiler: gcc gcc (Ubuntu 9.4.0-1ubuntu1~20.04.2) 9.4.0 CentOS Stream 10 Kernel: 5.15 Compiler: gcc gcc (GCC) 14.2.1 20250110 (Red Hat 14.2.1-8) Windows Server 2022 Kernel: 10.0.20348.2031 Compiler: clang 15.0.7, gcc 14.1.0 (MinGW), and MSVC VS 19.39.33521 Red Hat Enterprise Linux 9.5 Kernel: 5.15 Compiler: gcc gcc (GCC) 11.5.0 20240719 (Red Hat 11.5.0-2) To view detailed results, visit: https://lab.dpdk.org/results/dashboard/tarballs/34974/ UNH-IOL DPDK Community Lab To manage your email subscriptions, visit: https://lab.dpdk.org/results/dashboard/preferences/subscriptions/