From mboxrd@z Thu Jan 1 00:00:00 1970 Return-Path: Received: from mails.dpdk.org (mails.dpdk.org [217.70.189.124]) by inbox.dpdk.org (Postfix) with ESMTP id D63EB46F60 for ; Wed, 24 Sep 2025 02:57:35 +0200 (CEST) Received: from mails.dpdk.org (localhost [127.0.0.1]) by mails.dpdk.org (Postfix) with ESMTP id AF087402D1; Wed, 24 Sep 2025 02:57:35 +0200 (CEST) Received: from mail-ua1-f100.google.com (mail-ua1-f100.google.com [209.85.222.100]) by mails.dpdk.org (Postfix) with ESMTP id A0621402D1 for ; Wed, 24 Sep 2025 02:57:34 +0200 (CEST) Received: by mail-ua1-f100.google.com with SMTP id a1e0cc1a2514c-8fea25727a9so936240241.1 for ; Tue, 23 Sep 2025 17:57:34 -0700 (PDT) DKIM-Signature: v=1; a=rsa-sha256; c=relaxed/relaxed; d=iol.unh.edu; s=unh-iol; t=1758675454; x=1759280254; darn=dpdk.org; h=cc:to:from:subject:message-id:date:from:to:cc:subject:date :message-id:reply-to; bh=UN/VHfQJx14OFor71IveDwH3x5GKgTKzj0qBGpqRq2M=; b=VGZnvpzY3mQt2pa1RKm/lguwyu6uu72DnbkC3fq2aFxbI9bAMONrrZP43jBkxd+wMh HsDNbxu0aIT5wC1B+ckW5c0oUgTNLFNvSzCH2ASbXujHjaWZcyUYOijGbTciWtHchQ46 zgdgo0Mmgycr9b9aSvtxgYHO/jvS4RlQmwtik= X-Google-DKIM-Signature: v=1; a=rsa-sha256; c=relaxed/relaxed; d=1e100.net; s=20230601; t=1758675454; x=1759280254; h=cc:to:from:subject:message-id:date:x-gm-message-state:from:to:cc :subject:date:message-id:reply-to; bh=UN/VHfQJx14OFor71IveDwH3x5GKgTKzj0qBGpqRq2M=; b=G94HVu4Dc8OpxasiTTvBeDTF6KbB710tafSDq0wwJYGN0LPp+51vSDo7OX8AnlFZ7c eCqkB6A9c6XGoGlTvM04IisddrRdQ0KZCj4CMwPAf+H8p0I4p+z0M1uuUqir2gnrkXCK q18a2E6yuRqiKgPgdWeP4po5OtFwtXMZsKYE1TN3pTdJ2uRR4lvpI+cpZ1/feJcJCFrT ykpWbqpO/9S6YWppl0olJ2P1PupjU/A3duVYDfBeSj1xkVBzbhoM9dvy/kz7IgvwdmFd vtCIErdPVKCC9ksge2wwDLCSWJjYQeWc+jNnHQk+8qbTg/sSIJugfiLetGJalZWuQtsN FDfA== X-Gm-Message-State: AOJu0Yy00B6vmPIxwiYZbqEfrgBOtjbzfg2Un9vvc1cgz5nmG8FjQF2G Qwobnoxn+FRY5jKo7IyWtqgMgvvDqKhzrZsZqpeYQ2pbl/+K55KHEf3s65X9WQ9tB5TTHwKkvVo Neln1uH3MOw/V3KOepWgMu/eZkiIgc1uqswmBYmVNQfsc X-Gm-Gg: ASbGncufmXb1w16apsIRiIFLrJLWEWBHToIY0PASCfQwRwsetRdnMkznuhi4HKA8Qjg tkX/TExWkgsbRl1gE9rHufm4XFgctJdhjm6QindfTy4RQc7KvA3Z1CU2g4P+ffJdP+P4myAK81l Cge847Xt8bW53wO8XrorQG1NWLVidNCOxYMabxzGvi+GHa0hIycCHlwbCXX+a3MYIswh7YnwD/t JDKhLd63E8/e8knKSv+Rbnsl7iKVnEoikGksvpvgGU80D8wHR4JEcPpMGetSuL0sKRs/8GYA+vO /eyzWqsQ04XjFJAMre8te3mOQB46ZGSz61mvjX023HoMQLXtmRlaQPFPIulnvl3w5oQ9rGPc X-Google-Smtp-Source: AGHT+IFW2gHSL8BVJWWBfHKH0wBhgDwyp7+9ZHPIOXa8FWAY4sqrmXX1o3IKm0VD7CFNUwuFrQpyJrUDYf5a X-Received: by 2002:a05:6102:1610:b0:533:ff66:698c with SMTP id ada2fe7eead31-5a57e77391fmr1596973137.2.1758675453744; Tue, 23 Sep 2025 17:57:33 -0700 (PDT) Received: from postal.iol.unh.edu (postal.iol.unh.edu. [132.177.123.84]) by smtp-relay.gmail.com with ESMTPS id a1e0cc1a2514c-8edd8f60f68sm81675241.4.2025.09.23.17.57.33 (version=TLS1_2 cipher=ECDHE-ECDSA-AES128-GCM-SHA256 bits=128/128); Tue, 23 Sep 2025 17:57:33 -0700 (PDT) X-Relaying-Domain: iol.unh.edu Date: Tue, 23 Sep 2025 17:57:33 -0700 (PDT) Message-ID: <68d341fd.050a0220.d8d51.4f28SMTPIN_ADDED_MISSING@mx.google.com> Received: from [172.21.0.2] (unknown [172.18.0.240]) by postal.iol.unh.edu (Postfix) with ESMTP id 564876051830; Tue, 23 Sep 2025 20:57:33 -0400 (EDT) Subject: |SUCCESS| [GIT MASTER] 0e03ab647d07cd985a7cac36cefff5195cc3a07d From: dpdklab@iol.unh.edu To: Test Report Cc: dpdk-test-reports@iol.unh.edu Content-Type: text/plain X-BeenThere: test-report@dpdk.org X-Mailman-Version: 2.1.29 Precedence: list List-Id: automatic DPDK test reports List-Unsubscribe: , List-Archive: List-Post: List-Help: List-Subscribe: , Errors-To: test-report-bounces@dpdk.org _Testing PASS_ Branch: dpdk 0e03ab647d07cd985a7cac36cefff5195cc3a07d --> testing pass Upstream job id: Generic-DPDK-Compile-Meson#427830 Test environment and result as below: +-------------------------------+--------------------+-------------------+------------------+-------------------------+-------------------+----------------------+ | Environment | dpdk_meson_compile | dpdk_compile_spdk | dpdk_compile_ovs | dpdk_llvm_clang_compile | dpdk_msvc_compile | dpdk_mingw64_compile | +===============================+====================+===================+==================+=========================+===================+======================+ | CentOS Stream 9 | PASS | PASS | SKIPPED | SKIPPED | SKIPPED | SKIPPED | +-------------------------------+--------------------+-------------------+------------------+-------------------------+-------------------+----------------------+ | CentOS Stream 10 | PASS | SKIPPED | SKIPPED | SKIPPED | SKIPPED | SKIPPED | +-------------------------------+--------------------+-------------------+------------------+-------------------------+-------------------+----------------------+ | Debian GNU/Linux 12 | PASS | PASS | SKIPPED | SKIPPED | SKIPPED | SKIPPED | +-------------------------------+--------------------+-------------------+------------------+-------------------------+-------------------+----------------------+ | Fedora Linux 42 | PASS | PASS | PASS | SKIPPED | SKIPPED | SKIPPED | +-------------------------------+--------------------+-------------------+------------------+-------------------------+-------------------+----------------------+ | openSUSE Leap 15.6 | PASS | SKIPPED | SKIPPED | SKIPPED | SKIPPED | SKIPPED | +-------------------------------+--------------------+-------------------+------------------+-------------------------+-------------------+----------------------+ | Red Hat Enterprise Linux 8.10 | PASS | SKIPPED | SKIPPED | SKIPPED | SKIPPED | SKIPPED | +-------------------------------+--------------------+-------------------+------------------+-------------------------+-------------------+----------------------+ | Red Hat Enterprise Linux 9.5 | PASS | SKIPPED | SKIPPED | SKIPPED | SKIPPED | SKIPPED | +-------------------------------+--------------------+-------------------+------------------+-------------------------+-------------------+----------------------+ | Ubuntu 20.04 | PASS | SKIPPED | SKIPPED | SKIPPED | SKIPPED | SKIPPED | +-------------------------------+--------------------+-------------------+------------------+-------------------------+-------------------+----------------------+ | Ubuntu 22.04 | PASS | PASS | SKIPPED | SKIPPED | SKIPPED | SKIPPED | +-------------------------------+--------------------+-------------------+------------------+-------------------------+-------------------+----------------------+ | Ubuntu 24.04 | PASS | PASS | PASS | SKIPPED | SKIPPED | SKIPPED | +-------------------------------+--------------------+-------------------+------------------+-------------------------+-------------------+----------------------+ | Arch Linux 20250613.0.365270 | PASS | SKIPPED | SKIPPED | SKIPPED | SKIPPED | SKIPPED | +-------------------------------+--------------------+-------------------+------------------+-------------------------+-------------------+----------------------+ | Alpine Linux 3.22.0 | PASS | SKIPPED | SKIPPED | SKIPPED | SKIPPED | SKIPPED | +-------------------------------+--------------------+-------------------+------------------+-------------------------+-------------------+----------------------+ | FreeBSD 14.2 | PASS | SKIPPED | SKIPPED | SKIPPED | SKIPPED | SKIPPED | +-------------------------------+--------------------+-------------------+------------------+-------------------------+-------------------+----------------------+ | Windows Server 2022 | SKIPPED | SKIPPED | SKIPPED | PASS | PASS | PASS | +-------------------------------+--------------------+-------------------+------------------+-------------------------+-------------------+----------------------+ CentOS Stream 9 Kernel: 5.15 Compiler: gcc gcc (GCC) 11.5.0 20240719 (Red Hat 11.5.0-11) CentOS Stream 10 Kernel: 5.15 Compiler: gcc gcc (GCC) 14.2.1 20250110 (Red Hat 14.2.1-8) Debian GNU/Linux 12 Kernel: 5.15 Compiler: gcc gcc (Debian 12.2.0-14+deb12u1) 12.2.0 Fedora Linux 42 Kernel: 5.15 Compiler: clang gcc (GCC) 15.2.1 20250808 (Red Hat 15.2.1-1) openSUSE Leap 15.6 Kernel: 5.15 Compiler: gcc gcc (SUSE Linux) 7.5.0 Red Hat Enterprise Linux 8.10 Kernel: 5.15 Compiler: gcc gcc (GCC) 8.5.0 20210514 (Red Hat 8.5.0-22) Red Hat Enterprise Linux 9.5 Kernel: 5.15 Compiler: gcc gcc (GCC) 11.5.0 20240719 (Red Hat 11.5.0-2) Ubuntu 20.04 Kernel: 5.15 Compiler: gcc gcc (Ubuntu 9.4.0-1ubuntu1~20.04.2) 9.4.0 Ubuntu 22.04 Kernel: 5.15 Compiler: gcc gcc (Ubuntu 11.4.0-1ubuntu1~22.04) 11.4.0 Ubuntu 24.04 Kernel: 5.15 Compiler: gcc gcc (Ubuntu 13.3.0-6ubuntu2~24.04) 13.3.0 Arch Linux 20250613.0.365270 Kernel: 5.15 Compiler: gcc gcc (GCC) 15.1.1 20250425 Alpine Linux 3.22.0 Kernel: 5.15 Compiler: gcc gcc (Alpine 14.2.0) 14.2.0 FreeBSD 14.2 Kernel: 14.2-RELEASE Compiler: clang 18.1.6 Windows Server 2022 Kernel: 10.0.20348.2031 Compiler: clang 15.0.7, gcc 14.1.0 (MinGW), and MSVC VS 19.39.33521 To view detailed results, visit: https://lab.dpdk.org/results/dashboard/tarballs/34974/ UNH-IOL DPDK Community Lab To manage your email subscriptions, visit: https://lab.dpdk.org/results/dashboard/preferences/subscriptions/