From mboxrd@z Thu Jan 1 00:00:00 1970 Return-Path: Received: from mails.dpdk.org (mails.dpdk.org [217.70.189.124]) by inbox.dpdk.org (Postfix) with ESMTP id C8D3E46F60 for ; Wed, 24 Sep 2025 03:07:30 +0200 (CEST) Received: from mails.dpdk.org (localhost [127.0.0.1]) by mails.dpdk.org (Postfix) with ESMTP id A7DF8402D1; Wed, 24 Sep 2025 03:07:30 +0200 (CEST) Received: from mail-pg1-f228.google.com (mail-pg1-f228.google.com [209.85.215.228]) by mails.dpdk.org (Postfix) with ESMTP id 1DD19402D1 for ; Wed, 24 Sep 2025 03:07:29 +0200 (CEST) Received: by mail-pg1-f228.google.com with SMTP id 41be03b00d2f7-b55562f3130so1716315a12.2 for ; Tue, 23 Sep 2025 18:07:29 -0700 (PDT) DKIM-Signature: v=1; a=rsa-sha256; c=relaxed/relaxed; d=iol.unh.edu; s=unh-iol; t=1758676048; x=1759280848; darn=dpdk.org; h=references:in-reply-to:cc:to:from:subject:message-id:date:from:to :cc:subject:date:message-id:reply-to; bh=ouOBUloxy2osU+JIuCThQb2mccqsDEC/4sEm6nMq5nE=; b=FgPigWKaClbDlip4gBy+Rv4omj9l2Tmq1U+u7j15MfxTpGjdQEQwGPcaLdB2nzBDU4 AHAbdhjk8CRevG8kfLHvnKOYopVNFZ9Zu94Ve6dZDNNjaNcIBIA9tpbRRVKKo7FIs78a HTGiyCjhUiT6gmZ6I7Yn0EQHqDciWjm4r+RM8= X-Google-DKIM-Signature: v=1; a=rsa-sha256; c=relaxed/relaxed; d=1e100.net; s=20230601; t=1758676048; x=1759280848; h=references:in-reply-to:cc:to:from:subject:message-id:date :x-gm-message-state:from:to:cc:subject:date:message-id:reply-to; bh=ouOBUloxy2osU+JIuCThQb2mccqsDEC/4sEm6nMq5nE=; b=cqKcq64u66K4Z0KKTSE3V9PWW6BD3tIDF8hupsCl83/HQGxJUeW4rxtiof4WfddjXj ooOaUlBmGLMx2cbGGuZWTCFn9GNc020KYVltHp56vCeYO+s5g3VWYdqXrz6STAJFhAAW iL+6WC7fLUTWLBCnN3hZdbqLDqilMR1dsEmaYOjIralgho5E4m0j2Tz7+yIhI1th+DTT t4YWfTRpQNsrEoyye5Fd/UqUj91ghg4v/sUOwqAs1yWa+zXzSUryBC5lLOsbLKvRtHPY Km28ncOgN2PD0p39CXhyhXqLwL/wDJ2zAgqhJPJ/S0QyIapeelvOh19hIzjwi2T0T81Z pLew== X-Gm-Message-State: AOJu0YxocUq0HQCx0pqPOfOmwFyjh3bUVfgk2k7DU+CU0fo/h6CLszXw TgoiV4DNwjS992ozNoVzWSgzHLWQ8z79kX21vhEfXFsnbLJZH99RATdlyEHll1pTHsTHRWHJw7R AHN1AfX8wgltIJ8eosKQEXJWU6Tkv76M70cXmXk81cVGD X-Gm-Gg: ASbGncsmlhGIALmoLQBjeTI69RsFua/LybaqlKUHM5FtYIfljaltXvLzwlEmN6V2TR3 YFN7nDGhB2hvkV+n3QoOp+uGFJ3y7ILb7yY1vtnVlZ4Sjf/bJp7+cNq2EfiA60ubFqN/RvuhZOi CaHivV+xHS+7Zr5NtMEUDTOmtPWxUhT9nJw6T7Pz1lcIUXy8Gi5GE8lODXcDZs3Enef4p+FpAya f5/yISFgpgoIQV2qwqwDJu6Qt0pG9GVqXrWJlrBvMZcnz/6mReO8HrQ5u7oWf8Ux4/v+j3x00Th imams8Xxr0ANvR6RwG1mxH0af4BRm7VJ2mpjm1G34HGo2mtLRBiQQDomlknuBIr+/0DjVJvA X-Google-Smtp-Source: AGHT+IFjK0n1g8XJ/uBOF+OdAVF25j78UGj/UHqpLYW/OOnnw1Co4UbVUGl4ZtRuSat0eFPHW2Dr07u6jG07 X-Received: by 2002:a17:902:e947:b0:25d:952:69d1 with SMTP id d9443c01a7336-27cc4997b61mr52144745ad.30.1758676048181; Tue, 23 Sep 2025 18:07:28 -0700 (PDT) Received: from postal.iol.unh.edu (postal.iol.unh.edu. [132.177.123.84]) by smtp-relay.gmail.com with ESMTPS id d9443c01a7336-269802bd7e9sm10907975ad.68.2025.09.23.18.07.28 (version=TLS1_2 cipher=ECDHE-ECDSA-AES128-GCM-SHA256 bits=128/128); Tue, 23 Sep 2025 18:07:28 -0700 (PDT) X-Relaying-Domain: iol.unh.edu Date: Tue, 23 Sep 2025 18:07:28 -0700 (PDT) Message-ID: <68d34450.170a0220.10657.7a42SMTPIN_ADDED_MISSING@mx.google.com> Received: from [172.21.0.2] (unknown [172.18.0.240]) by postal.iol.unh.edu (Postfix) with ESMTP id 5F8EA6051830; Tue, 23 Sep 2025 21:07:27 -0400 (EDT) Subject: |SUCCESS| pw156850 [PATCH] examples/l2fwd-cat: check compatibility o From: dpdklab@iol.unh.edu To: Test Report Cc: dpdk-test-reports@iol.unh.edu In-Reply-To: <20250923165830.527416-1-bruce.richardson@intel.com> References: <20250923165830.527416-1-bruce.richardson@intel.com> Content-Type: text/plain X-BeenThere: test-report@dpdk.org X-Mailman-Version: 2.1.29 Precedence: list List-Id: automatic DPDK test reports List-Unsubscribe: , List-Archive: List-Post: List-Help: List-Subscribe: , Errors-To: test-report-bounces@dpdk.org Test-Label: iol-compile-arm64-testing Test-Status: SUCCESS http://dpdk.org/patch/156850 _Testing PASS_ Submitter: Bruce Richardson Date: Tuesday, September 23 2025 16:58:30 DPDK git baseline: Repo:dpdk Branch: master CommitID:0e03ab647d07cd985a7cac36cefff5195cc3a07d 156850 --> testing pass Upstream job id: Generic-DPDK-Compile-Meson#427805 Test environment and result as below: +------------------------------+--------------------+ | Environment | dpdk_meson_compile | +==============================+====================+ | Red Hat Enterprise Linux 9.5 | PASS | +------------------------------+--------------------+ | Ubuntu 20.04 | PASS | +------------------------------+--------------------+ | Debian GNU/Linux 12 | PASS | +------------------------------+--------------------+ | Fedora Linux 42 | PASS | +------------------------------+--------------------+ | Ubuntu 22.04 | PASS | +------------------------------+--------------------+ | Ubuntu 24.04 | PASS | +------------------------------+--------------------+ | CentOS Stream 10 | PASS | +------------------------------+--------------------+ | CentOS Stream 9 | PASS | +------------------------------+--------------------+ Red Hat Enterprise Linux 9.5 Kernel: 5.4 Compiler: gcc gcc (GCC) 11.5.0 20240719 (Red Hat 11.5.0-2) Ubuntu 20.04 Kernel: 5.15 Compiler: aarch64-linux-gnu-gcc gcc (Ubuntu 9.4.0-1ubuntu1~20.04.2) 9.4.0 Debian GNU/Linux 12 Kernel: 5.4 Compiler: gcc gcc (Debian 12.2.0-14+deb12u1) 12.2.0 Fedora Linux 42 Kernel: 5.4 Compiler: gcc gcc (GCC) 15.2.1 20250808 (Red Hat 15.2.1-1) Ubuntu 22.04 Kernel: 5.4 Compiler: gcc gcc (Ubuntu 11.4.0-1ubuntu1~22.04) 11.4.0 Ubuntu 24.04 Kernel: 5.4 Compiler: gcc gcc (Ubuntu 13.3.0-6ubuntu2~24.04) 13.3.0 CentOS Stream 10 Kernel: 5.4 Compiler: gcc gcc (GCC) 14.2.1 20250110 (Red Hat 14.2.1-8) CentOS Stream 9 Kernel: 5.4 Compiler: gcc gcc (GCC) 11.5.0 20240719 (Red Hat 11.5.0-11) To view detailed results, visit: https://lab.dpdk.org/results/dashboard/patchsets/34127/ UNH-IOL DPDK Community Lab To manage your email subscriptions, visit: https://lab.dpdk.org/results/dashboard/preferences/subscriptions/