From mboxrd@z Thu Jan 1 00:00:00 1970 Return-Path: Received: from mails.dpdk.org (mails.dpdk.org [217.70.189.124]) by inbox.dpdk.org (Postfix) with ESMTP id D2B2B46F60 for ; Wed, 24 Sep 2025 03:29:54 +0200 (CEST) Received: from mails.dpdk.org (localhost [127.0.0.1]) by mails.dpdk.org (Postfix) with ESMTP id A8C90402D6; Wed, 24 Sep 2025 03:29:54 +0200 (CEST) Received: from mail-io1-f98.google.com (mail-io1-f98.google.com [209.85.166.98]) by mails.dpdk.org (Postfix) with ESMTP id 12EAC402D6 for ; Wed, 24 Sep 2025 03:29:53 +0200 (CEST) Received: by mail-io1-f98.google.com with SMTP id ca18e2360f4ac-8e8f45829d7so92730839f.1 for ; Tue, 23 Sep 2025 18:29:52 -0700 (PDT) DKIM-Signature: v=1; a=rsa-sha256; c=relaxed/relaxed; d=iol.unh.edu; s=unh-iol; t=1758677392; x=1759282192; darn=dpdk.org; h=references:in-reply-to:cc:to:from:subject:message-id:date:from:to :cc:subject:date:message-id:reply-to; bh=qczKBkeBKIsFl3aOnfKAq5U+HgWTRvSr3paenxqsbCM=; b=LvJBiJtqFzfmV1NnuxmoW8xNQZdafBunbnLDi39atNFPM0O+PvM6w8z4AAThmpiOzF XNFR42E0fOwaYFxb4x1vUHujqOL+MuPaVxiyummzarUsMfQY11w8A/2wzifRwMdgea0z x/ppoo5U3r0+4xgX4tD8+E1o2G2hqkSQwjSxA= X-Google-DKIM-Signature: v=1; a=rsa-sha256; c=relaxed/relaxed; d=1e100.net; s=20230601; t=1758677392; x=1759282192; h=references:in-reply-to:cc:to:from:subject:message-id:date :x-gm-message-state:from:to:cc:subject:date:message-id:reply-to; bh=qczKBkeBKIsFl3aOnfKAq5U+HgWTRvSr3paenxqsbCM=; b=mTtj1vzR3iLMcgzc/BYrSWxMw3KTvDZogX6Smf1f7CF0SfwWq+qMsSCcB00ohLPvY6 lP7pgh9aICMn9IqM4yRjxPWx0Q+tAZR1UHiL0zR5nYdvF2kzYOtIrNAQc/S0yrNgAlv9 M217JjQHH5ELctl2uQS5Uh+kvKwikbZNdD9Ue+7JUFo8kpnMZ72jl/InS2/egspF9Wuo Q9zwGK2riGAx21SEn5Jt1+Db9zxIuFLFCSlBFqbm6fJY6uNGtkn/SlyaviCQVTepo6N9 cg6ftv1A1RGgwuWnEkbyEjzNc0MeAv9i0l0Qc4ZRlHAwtDKC/L8pSbxffoquZGWWbeYi P8Uw== X-Gm-Message-State: AOJu0YxVV7L6OOg5R9+1uJYRwA2nNVd6KGmog5/ZHIWXLaAiP3BbYNlw XBiYPmrD4Zbnut2UQ2ZN3KMKBzoI4aN3u819See/OzlO+XbjYd2iZQFtgS8DjQGd2ruk+C1QF6B F3t8h2Iyxr3gLHm+LTmKizMk/xLMAg5h6StKxaiXXgJxm X-Gm-Gg: ASbGncvwIRuvjHCcCc14M3zGtzz1+KlzVk7zv5yMIZu9H2AAgfO/+61LtmlBoxc8b2b WT43pTNXkHTxpUk81jJKwPquEejuvIuOY9KDEP7rkB22GhV84QlVRIRVo0cZd9VK/mUqFrsNqZI /oiDsOu2e/34GfQOAmFxk0tKb9s4zfa1bfrPDQCYr9eY0W4nqaHHX6u9lZjPKGrlhL2D3JpYLkk Et2h6ojXAwfNBchrbOLN4Je0HLKeUy0LAjnMOVoQJUhhuQOjum6b4C9/VyFtBbQ+4KDwOU1Bg0G ktEW/jIDwt7OHV1yOLmUE87fSqlyhpVu8bwv+a3In4LyjFMXvg/UzXwi9d0GghwEay7fG0ol X-Google-Smtp-Source: AGHT+IHh/V6XXvHs964sKiCK3eWKgP+tpOzzHb2N3lyTbFcJc8/xQ6d6BGgmCKtM4yF49MHJhKO6Wl3t2GoE X-Received: by 2002:a05:6e02:3a04:b0:424:80d1:dd43 with SMTP id e9e14a558f8ab-42581e8a3d4mr71130355ab.15.1758677392188; Tue, 23 Sep 2025 18:29:52 -0700 (PDT) Received: from postal.iol.unh.edu (postal.iol.unh.edu. [132.177.123.84]) by smtp-relay.gmail.com with ESMTPS id 8926c6da1cb9f-5642358dfdasm167963173.27.2025.09.23.18.29.52 (version=TLS1_2 cipher=ECDHE-ECDSA-AES128-GCM-SHA256 bits=128/128); Tue, 23 Sep 2025 18:29:52 -0700 (PDT) X-Relaying-Domain: iol.unh.edu Date: Tue, 23 Sep 2025 18:29:52 -0700 (PDT) Message-ID: <68d34990.050a0220.fbcc9.b153SMTPIN_ADDED_MISSING@mx.google.com> Received: from [172.21.0.2] (unknown [172.18.0.240]) by postal.iol.unh.edu (Postfix) with ESMTP id 93EF260003EA; Tue, 23 Sep 2025 21:29:51 -0400 (EDT) Subject: |SUCCESS| pw156847-156849 [PATCH] [3/3] app/compress-perf: support f From: dpdklab@iol.unh.edu To: Test Report Cc: dpdk-test-reports@iol.unh.edu, Akhil Goyal In-Reply-To: <20250923163115.1397923-3-svaze@qti.qualcomm.com> References: <20250923163115.1397923-3-svaze@qti.qualcomm.com> Content-Type: text/plain X-BeenThere: test-report@dpdk.org X-Mailman-Version: 2.1.29 Precedence: list List-Id: automatic DPDK test reports List-Unsubscribe: , List-Archive: List-Post: List-Help: List-Subscribe: , Errors-To: test-report-bounces@dpdk.org Test-Label: iol-unit-arm64-testing Test-Status: SUCCESS http://dpdk.org/patch/156849 _Testing PASS_ Submitter: Sameer Vaze Date: Tuesday, September 23 2025 16:31:15 DPDK git baseline: Repo:dpdk-next-crypto Branch: master CommitID:4159ea62922ce41566c7bab44655ad78bee85458 156847-156849 --> testing pass Upstream job id: Generic-Unit-Test-DPDK#374126 Test environment and result as below: +------------------------------+--------------+---------------------------+------------------------------+----------------+ | Environment | lpm_autotest | cryptodev_sw_zuc_autotest | cryptodev_sw_snow3g_autotest | dpdk_unit_test | +==============================+==============+===========================+==============================+================+ | Ubuntu 20.04 | PASS | SKIPPED | SKIPPED | PASS | +------------------------------+--------------+---------------------------+------------------------------+----------------+ | Debian 12 (arm) | SKIPPED | PASS | PASS | SKIPPED | +------------------------------+--------------+---------------------------+------------------------------+----------------+ | Debian GNU/Linux 12 | SKIPPED | SKIPPED | SKIPPED | PASS | +------------------------------+--------------+---------------------------+------------------------------+----------------+ | CentOS Stream 10 | SKIPPED | SKIPPED | SKIPPED | PASS | +------------------------------+--------------+---------------------------+------------------------------+----------------+ | Fedora Linux 41 | SKIPPED | SKIPPED | SKIPPED | PASS | +------------------------------+--------------+---------------------------+------------------------------+----------------+ | Fedora Linux 40 | SKIPPED | SKIPPED | SKIPPED | PASS | +------------------------------+--------------+---------------------------+------------------------------+----------------+ | CentOS Stream 9 | SKIPPED | SKIPPED | SKIPPED | PASS | +------------------------------+--------------+---------------------------+------------------------------+----------------+ | Fedora Linux 42 | SKIPPED | SKIPPED | SKIPPED | PASS | +------------------------------+--------------+---------------------------+------------------------------+----------------+ | Ubuntu 24.04 | SKIPPED | SKIPPED | SKIPPED | PASS | +------------------------------+--------------+---------------------------+------------------------------+----------------+ | Ubuntu 22.04 | SKIPPED | SKIPPED | SKIPPED | PASS | +------------------------------+--------------+---------------------------+------------------------------+----------------+ | Red Hat Enterprise Linux 9.5 | SKIPPED | SKIPPED | SKIPPED | PASS | +------------------------------+--------------+---------------------------+------------------------------+----------------+ Ubuntu 20.04 Kernel: 5.4 Compiler: gcc gcc (Ubuntu 9.4.0-1ubuntu1~20.04.2) 9.4.0 Debian 12 (arm) Kernel: Depends on container host Compiler: gcc (Debian 12.2.0-14) 12.2.0 Debian GNU/Linux 12 Kernel: 5.4 Compiler: gcc gcc (Debian 12.2.0-14+deb12u1) 12.2.0 CentOS Stream 10 Kernel: 5.4 Compiler: gcc gcc (GCC) 14.2.1 20250110 (Red Hat 14.2.1-8) Fedora Linux 41 Kernel: 5.4 Compiler: gcc gcc (GCC) 14.3.1 20250523 (Red Hat 14.3.1-1) Fedora Linux 40 Kernel: 5.4 Compiler: gcc gcc (GCC) 14.2.1 20240912 (Red Hat 14.2.1-3) CentOS Stream 9 Kernel: 5.4 Compiler: gcc gcc (GCC) 11.5.0 20240719 (Red Hat 11.5.0-11) Fedora Linux 42 Kernel: 5.4 Compiler: gcc gcc (GCC) 15.2.1 20250808 (Red Hat 15.2.1-1) Ubuntu 24.04 Kernel: 5.4 Compiler: gcc gcc (Ubuntu 13.3.0-6ubuntu2~24.04) 13.3.0 Ubuntu 22.04 Kernel: 5.4 Compiler: gcc gcc (Ubuntu 11.4.0-1ubuntu1~22.04) 11.4.0 Red Hat Enterprise Linux 9.5 Kernel: 5.4 Compiler: gcc gcc (GCC) 11.5.0 20240719 (Red Hat 11.5.0-2) To view detailed results, visit: https://lab.dpdk.org/results/dashboard/patchsets/34126/ UNH-IOL DPDK Community Lab To manage your email subscriptions, visit: https://lab.dpdk.org/results/dashboard/preferences/subscriptions/