From mboxrd@z Thu Jan 1 00:00:00 1970 Return-Path: Received: from mails.dpdk.org (mails.dpdk.org [217.70.189.124]) by inbox.dpdk.org (Postfix) with ESMTP id 3F32646F63 for ; Wed, 24 Sep 2025 04:54:13 +0200 (CEST) Received: from mails.dpdk.org (localhost [127.0.0.1]) by mails.dpdk.org (Postfix) with ESMTP id 0F628402D8; Wed, 24 Sep 2025 04:54:13 +0200 (CEST) Received: from mail-pj1-f100.google.com (mail-pj1-f100.google.com [209.85.216.100]) by mails.dpdk.org (Postfix) with ESMTP id C848E402D8 for ; Wed, 24 Sep 2025 04:54:10 +0200 (CEST) Received: by mail-pj1-f100.google.com with SMTP id 98e67ed59e1d1-33067909400so4141981a91.2 for ; Tue, 23 Sep 2025 19:54:10 -0700 (PDT) DKIM-Signature: v=1; a=rsa-sha256; c=relaxed/relaxed; d=iol.unh.edu; s=unh-iol; t=1758682450; x=1759287250; darn=dpdk.org; h=references:in-reply-to:cc:to:from:subject:message-id:date:from:to :cc:subject:date:message-id:reply-to; bh=JvE0m0oShcmO2b5mdo9sLtQM1H/RBxwzezBiFtY6WH8=; b=b1QeTZBeoeOaXDnyA+VYKUczYCFIxTk08/q5rC3qtpS71/93gochFSF/ulB/iQviQ8 gaG5OagKGElFhyFTkReQkCwESpYFT4VwAAppbc6Ed+gvGgUX8RP360YWmwhknvuq+9z8 G3ON84bB0yOp/LGSLGCypJM1JC09teFWYPW8c= X-Google-DKIM-Signature: v=1; a=rsa-sha256; c=relaxed/relaxed; d=1e100.net; s=20230601; t=1758682450; x=1759287250; h=references:in-reply-to:cc:to:from:subject:message-id:date :x-gm-message-state:from:to:cc:subject:date:message-id:reply-to; bh=JvE0m0oShcmO2b5mdo9sLtQM1H/RBxwzezBiFtY6WH8=; b=q7RmtH8aUfx5V0RP5s8NYqdTar2sGx2S5hDmxlZDw0s7Bxufk8Plw8JhbwairQul2X O774oGuQwoqwDClnH7udqmJXh1IcCOZ7hiaPz6MsUcTkq8KsOrMOGHb7rPDNj1wLhTXx WVtQagPL1y2XGEUZX9JjzvPqQgOYHd0bWu6CQKOxWABwMa4MV+BHuMtzkPdsCaxiQM6f ZywJ6Zdh1slliwdVznwYvZr0C7e2GPUFFcJjRkbnT0RavFnLtQBJhl+zccQ7pUr43JMY mjHrMly4XDArb8qnOdDjooYEhx+LGO9w/mMWpYdODbT9sFsvKj4xtdQU20dGx9E4n6HT 6mFg== X-Gm-Message-State: AOJu0YykzAxw2wyOLtWzcaHQuHF93nkLFw8ypvc3Aa0yrd1ydgpCFefw 9VdiLanmlr9cahk7nJ3Ut5JX2OZn8lljHUxhsDwilGCyvoiMWmrHSkX2MV1z9Jpn0jJg/6LtJtp GuKm61jPss0AY0cJjX10EedZ7465jFFVHBPbjYJH/0Zfo X-Gm-Gg: ASbGncvZ/ZkDbJLR3NdcCTsJc6d1aMK+GEuO/Ge2YwRWgt+5UyKw2so5v1O2UDq8by8 QjUmt6qEJ5iUHPmEO/6zWoH0xK1nWeDTc8EF/zSl0GEyLYN5jrvsPI7ASCwSf9CsxzPlwb/Preh /rTS+LJv0jz40c+x4uKz+5wfzVuWiSaddMUTITfs0AD9o27o4EegqGtJ8pniMhuJYgHR4jrqiQj ad165w0JAg1mOw5qsrqkMcEoUUq6g4bnz4NlPHntC2pjaTQJb+ZzYrUryX46ACX067/wGNPowzs BFuAvyNUEhBgu+PmZn72rbW0euzHn4UV2qYA4+H9r3MESP2kR0PLCFcEVVU/AeR0ebAzSgjy X-Google-Smtp-Source: AGHT+IHktcwQRIpOIKv6/bo2xK5B6C8gy4+BJbjfk8AdLnE5PmwkA9Uip5V2dvG5VxxnKLTOxSI5tuRvduvR X-Received: by 2002:a17:90b:2241:b0:330:6d5e:f17e with SMTP id 98e67ed59e1d1-332a96febd9mr6307242a91.24.1758682449774; Tue, 23 Sep 2025 19:54:09 -0700 (PDT) Received: from postal.iol.unh.edu (postal.iol.unh.edu. [132.177.123.84]) by smtp-relay.gmail.com with ESMTPS id d2e1a72fcca58-77f6914f726sm43725b3a.5.2025.09.23.19.54.09 (version=TLS1_2 cipher=ECDHE-ECDSA-AES128-GCM-SHA256 bits=128/128); Tue, 23 Sep 2025 19:54:09 -0700 (PDT) X-Relaying-Domain: iol.unh.edu Date: Tue, 23 Sep 2025 19:54:09 -0700 (PDT) Message-ID: <68d35d51.050a0220.1f2510.2ea9SMTPIN_ADDED_MISSING@mx.google.com> Received: from [172.21.0.2] (unknown [172.18.0.240]) by postal.iol.unh.edu (Postfix) with ESMTP id 82E1660003EA; Tue, 23 Sep 2025 22:54:08 -0400 (EDT) Subject: |SUCCESS| pw156850 [PATCH] examples/l2fwd-cat: check compatibility o From: dpdklab@iol.unh.edu To: Test Report Cc: dpdk-test-reports@iol.unh.edu In-Reply-To: <20250923165830.527416-1-bruce.richardson@intel.com> References: <20250923165830.527416-1-bruce.richardson@intel.com> Content-Type: text/plain X-BeenThere: test-report@dpdk.org X-Mailman-Version: 2.1.29 Precedence: list List-Id: automatic DPDK test reports List-Unsubscribe: , List-Archive: List-Post: List-Help: List-Subscribe: , Errors-To: test-report-bounces@dpdk.org Test-Label: iol-unit-arm64-testing Test-Status: SUCCESS http://dpdk.org/patch/156850 _Testing PASS_ Submitter: Bruce Richardson Date: Tuesday, September 23 2025 16:58:30 DPDK git baseline: Repo:dpdk Branch: master CommitID:0e03ab647d07cd985a7cac36cefff5195cc3a07d 156850 --> testing pass Upstream job id: Generic-Unit-Test-DPDK#374156 Test environment and result as below: +------------------------------+----------------+--------------+---------------------------+------------------------------+ | Environment | dpdk_unit_test | lpm_autotest | cryptodev_sw_zuc_autotest | cryptodev_sw_snow3g_autotest | +==============================+================+==============+===========================+==============================+ | CentOS Stream 9 | PASS | SKIPPED | SKIPPED | SKIPPED | +------------------------------+----------------+--------------+---------------------------+------------------------------+ | CentOS Stream 10 | PASS | SKIPPED | SKIPPED | SKIPPED | +------------------------------+----------------+--------------+---------------------------+------------------------------+ | Fedora Linux 41 | PASS | SKIPPED | SKIPPED | SKIPPED | +------------------------------+----------------+--------------+---------------------------+------------------------------+ | Fedora Linux 40 | PASS | SKIPPED | SKIPPED | SKIPPED | +------------------------------+----------------+--------------+---------------------------+------------------------------+ | Debian GNU/Linux 12 | PASS | SKIPPED | SKIPPED | SKIPPED | +------------------------------+----------------+--------------+---------------------------+------------------------------+ | Fedora Linux 42 | PASS | SKIPPED | SKIPPED | SKIPPED | +------------------------------+----------------+--------------+---------------------------+------------------------------+ | Ubuntu 24.04 | PASS | SKIPPED | SKIPPED | SKIPPED | +------------------------------+----------------+--------------+---------------------------+------------------------------+ | Ubuntu 20.04 | PASS | PASS | SKIPPED | SKIPPED | +------------------------------+----------------+--------------+---------------------------+------------------------------+ | Ubuntu 22.04 | PASS | SKIPPED | SKIPPED | SKIPPED | +------------------------------+----------------+--------------+---------------------------+------------------------------+ | Red Hat Enterprise Linux 9.5 | PASS | SKIPPED | SKIPPED | SKIPPED | +------------------------------+----------------+--------------+---------------------------+------------------------------+ | Debian 12 (arm) | SKIPPED | SKIPPED | PASS | PASS | +------------------------------+----------------+--------------+---------------------------+------------------------------+ CentOS Stream 9 Kernel: 5.4 Compiler: gcc gcc (GCC) 11.5.0 20240719 (Red Hat 11.5.0-11) CentOS Stream 10 Kernel: 5.4 Compiler: gcc gcc (GCC) 14.2.1 20250110 (Red Hat 14.2.1-8) Fedora Linux 41 Kernel: 5.4 Compiler: gcc gcc (GCC) 14.3.1 20250523 (Red Hat 14.3.1-1) Fedora Linux 40 Kernel: 5.4 Compiler: gcc gcc (GCC) 14.2.1 20240912 (Red Hat 14.2.1-3) Debian GNU/Linux 12 Kernel: 5.4 Compiler: gcc gcc (Debian 12.2.0-14+deb12u1) 12.2.0 Fedora Linux 42 Kernel: 5.4 Compiler: clang gcc (GCC) 15.2.1 20250808 (Red Hat 15.2.1-1) Ubuntu 24.04 Kernel: 5.4 Compiler: gcc gcc (Ubuntu 13.3.0-6ubuntu2~24.04) 13.3.0 Ubuntu 20.04 Kernel: 5.4 Compiler: gcc gcc (Ubuntu 9.4.0-1ubuntu1~20.04.2) 9.4.0 Ubuntu 22.04 Kernel: 5.4 Compiler: gcc gcc (Ubuntu 11.4.0-1ubuntu1~22.04) 11.4.0 Red Hat Enterprise Linux 9.5 Kernel: 5.4 Compiler: gcc gcc (GCC) 11.5.0 20240719 (Red Hat 11.5.0-2) Debian 12 (arm) Kernel: Depends on container host Compiler: gcc (Debian 12.2.0-14) 12.2.0 To view detailed results, visit: https://lab.dpdk.org/results/dashboard/patchsets/34127/ UNH-IOL DPDK Community Lab To manage your email subscriptions, visit: https://lab.dpdk.org/results/dashboard/preferences/subscriptions/