From mboxrd@z Thu Jan 1 00:00:00 1970 Return-Path: Received: from mails.dpdk.org (mails.dpdk.org [217.70.189.124]) by inbox.dpdk.org (Postfix) with ESMTP id 193DC46F63 for ; Wed, 24 Sep 2025 05:28:43 +0200 (CEST) Received: from mails.dpdk.org (localhost [127.0.0.1]) by mails.dpdk.org (Postfix) with ESMTP id DCF3F402D8; Wed, 24 Sep 2025 05:28:42 +0200 (CEST) Received: from mail-qt1-f228.google.com (mail-qt1-f228.google.com [209.85.160.228]) by mails.dpdk.org (Postfix) with ESMTP id 4DF64402D8 for ; Wed, 24 Sep 2025 05:28:41 +0200 (CEST) Received: by mail-qt1-f228.google.com with SMTP id d75a77b69052e-4d21a3da5d8so24051881cf.1 for ; Tue, 23 Sep 2025 20:28:41 -0700 (PDT) DKIM-Signature: v=1; a=rsa-sha256; c=relaxed/relaxed; d=iol.unh.edu; s=unh-iol; t=1758684520; x=1759289320; darn=dpdk.org; h=cc:to:from:subject:message-id:date:from:to:cc:subject:date :message-id:reply-to; bh=2iReGFKJe4hT4+plaxB5YZBUdOZiRORH1l5/YzcAgfI=; b=jz3c4bXDrJMHuEJ57sn3LGgvIXVzquckrJjmJRw6rPP0jRBsmX0DShbWJ5mFNCQqpm ZRgvKSrNcA+vFoTuFxRWWXJe0aWLMDTLOMf96J9IJLFkMgXgSsAOiCYyD3ukVOkaAHfl v/MBDPKVhQZ1LpzTsvWXl/JKTWkAuBXOuhvro= X-Google-DKIM-Signature: v=1; a=rsa-sha256; c=relaxed/relaxed; d=1e100.net; s=20230601; t=1758684520; x=1759289320; h=cc:to:from:subject:message-id:date:x-gm-message-state:from:to:cc :subject:date:message-id:reply-to; bh=2iReGFKJe4hT4+plaxB5YZBUdOZiRORH1l5/YzcAgfI=; b=teNCc99CQBqK4maFEjunUi+fQEIjY0d96QPBlvWpJdCnYtwjh0hr9/b1kObX+OEQto sMqwtnCKEpYnSJSFfwOLDkVAcF8MZ8QppU7WryFyLcVth+nsSQoeDUdmMkHJ7LTCksTV wLmFTe3rQHjvvybKvfbCGoSZFg/a6o06PujOOOofhr2g3Gs8CEwnMUECIdcuLwDtN9mk GyvfxzGuuPOYSMgKuVYMWpTB4tsS8r75o9iz+H0YriF8m3IWZCOlXmApU5cEPhY3te/R ShTsDsyUOYIw1h8SP/OzmBQVsCNgmJokSTq9mObfeC4BhnAsAW9jiXBCEaQDlmMNoWaC lneQ== X-Gm-Message-State: AOJu0YxVaX4jy4lYKCFwg7T7ozlf2N44+8hchWjc4h28MFkXIM167yFu x2Cgfw5RV0OVyrv+mT3T6w9aGOOOsV81mw9xMEiQ2jWXvYXqrFCaq3kAobVT1QC9orwMYdkOC+K HSKVeZOEYJRJTBWTS6ZHrI082aaspFcp5u9UalVOva6Sm X-Gm-Gg: ASbGncsj336LbKnExjEdTcVevSGp578Tqn9nVXPOskOagN7YI1oPSHRMZdBZiIZir03 Jjw8MA6HivQ27WtikJYa+G7A+J2UnG+PKlcfFbkEzvHn1nTfitg7kak8YOeUodItA1XPcZTPodD W+FEhnUvN7I0CqPmW6Wvf1fcO+pAQN4euQS5YFUO/Ti2NXAzeXmqu2e/+SojTYVeMYg7q/t2i5l xW51PsK61a1R0VrCH2Uw1ZR4h2YMIUk7W6bbqPGS4oov+j/ey4iIzoq+wAkyyEtV+EkIKZ3Of38 XJUeEssbPIC50qBV2VTnOCZgXmH4IBN5RumMW2WLYt8HQiPv+TNz1oIKPxWg7W8cJw3iZiv8 X-Google-Smtp-Source: AGHT+IHqtPr1ZVLGvPaMH3T1KjOKyO0jVN4QmmUzE7maoJph1qPrxZIwO1nj16kwPdI599okQcc6NQy52OvE X-Received: by 2002:a05:6214:1d28:b0:798:f061:66b4 with SMTP id 6a1803df08f44-7e712ef905dmr57595846d6.42.1758684520494; Tue, 23 Sep 2025 20:28:40 -0700 (PDT) Received: from postal.iol.unh.edu (postal.iol.unh.edu. [132.177.123.84]) by smtp-relay.gmail.com with ESMTPS id 6a1803df08f44-793507769d7sm9650836d6.32.2025.09.23.20.28.40 (version=TLS1_2 cipher=ECDHE-ECDSA-AES128-GCM-SHA256 bits=128/128); Tue, 23 Sep 2025 20:28:40 -0700 (PDT) X-Relaying-Domain: iol.unh.edu Date: Tue, 23 Sep 2025 20:28:40 -0700 (PDT) Message-ID: <68d36568.d40a0220.9f420.fc49SMTPIN_ADDED_MISSING@mx.google.com> Received: from [172.21.0.2] (unknown [172.18.0.240]) by postal.iol.unh.edu (Postfix) with ESMTP id 3762160003EA; Tue, 23 Sep 2025 23:28:40 -0400 (EDT) Subject: |SUCCESS| [GIT MASTER] 0e03ab647d07cd985a7cac36cefff5195cc3a07d From: dpdklab@iol.unh.edu To: Test Report Cc: dpdk-test-reports@iol.unh.edu Content-Type: text/plain X-BeenThere: test-report@dpdk.org X-Mailman-Version: 2.1.29 Precedence: list List-Id: automatic DPDK test reports List-Unsubscribe: , List-Archive: List-Post: List-Help: List-Subscribe: , Errors-To: test-report-bounces@dpdk.org _Testing PASS_ Branch: dpdk 0e03ab647d07cd985a7cac36cefff5195cc3a07d --> testing pass Upstream job id: Generic-DPDK-Compile-Meson#427846 Test environment and result as below: +------------------------------+--------------------+ | Environment | dpdk_meson_compile | +==============================+====================+ | Ubuntu 20.04 | PASS | +------------------------------+--------------------+ | Debian GNU/Linux 12 | PASS | +------------------------------+--------------------+ | Ubuntu 24.04 | PASS | +------------------------------+--------------------+ | Ubuntu 22.04 | PASS | +------------------------------+--------------------+ | Fedora Linux 42 | PASS | +------------------------------+--------------------+ | CentOS Stream 9 | PASS | +------------------------------+--------------------+ | CentOS Stream 10 | PASS | +------------------------------+--------------------+ | Red Hat Enterprise Linux 9.5 | PASS | +------------------------------+--------------------+ Ubuntu 20.04 Kernel: 5.15 Compiler: aarch64-linux-gnu-gcc gcc (Ubuntu 9.4.0-1ubuntu1~20.04.2) 9.4.0 Debian GNU/Linux 12 Kernel: 5.4 Compiler: gcc gcc (Debian 12.2.0-14+deb12u1) 12.2.0 Ubuntu 24.04 Kernel: 5.4 Compiler: gcc gcc (Ubuntu 13.3.0-6ubuntu2~24.04) 13.3.0 Ubuntu 22.04 Kernel: 5.4 Compiler: gcc gcc (Ubuntu 11.4.0-1ubuntu1~22.04) 11.4.0 Fedora Linux 42 Kernel: 5.4 Compiler: gcc gcc (GCC) 15.2.1 20250808 (Red Hat 15.2.1-1) CentOS Stream 9 Kernel: 5.4 Compiler: gcc gcc (GCC) 11.5.0 20240719 (Red Hat 11.5.0-11) CentOS Stream 10 Kernel: 5.4 Compiler: gcc gcc (GCC) 14.2.1 20250110 (Red Hat 14.2.1-8) Red Hat Enterprise Linux 9.5 Kernel: 5.4 Compiler: gcc gcc (GCC) 11.5.0 20240719 (Red Hat 11.5.0-2) To view detailed results, visit: https://lab.dpdk.org/results/dashboard/tarballs/34974/ UNH-IOL DPDK Community Lab To manage your email subscriptions, visit: https://lab.dpdk.org/results/dashboard/preferences/subscriptions/